BEGIN:VCALENDAR
VERSION:2.0
PRODID:-//North Mountain Visitor Center - ECPv6.13.2.1//NONSGML v1.0//EN
CALSCALE:GREGORIAN
METHOD:PUBLISH
X-WR-CALNAME:North Mountain Visitor Center
X-ORIGINAL-URL:https://northmountainvisitorcenter.org
X-WR-CALDESC:Events for North Mountain Visitor Center
REFRESH-INTERVAL;VALUE=DURATION:PT1H
X-Robots-Tag:noindex
X-PUBLISHED-TTL:PT1H
BEGIN:VTIMEZONE
TZID:America/Phoenix
BEGIN:STANDARD
TZOFFSETFROM:-0700
TZOFFSETTO:-0700
TZNAME:MST
DTSTART:20240101T000000
END:STANDARD
END:VTIMEZONE
BEGIN:VEVENT
DTSTART;TZID=America/Phoenix:20241116T090000
DTEND;TZID=America/Phoenix:20241116T110000
DTSTAMP:20260424T174543
CREATED:20240929T234154Z
LAST-MODIFIED:20241026T235158Z
UID:2758-1731747600-1731754800@northmountainvisitorcenter.org
SUMMARY:Coffee House Saturdays\, live music by Eric Ramsey and free Serafina Coffee
DESCRIPTION:Coffee House Saturdays occurs every third Saturday of the month at the North Mountain Visitor Center (NMVC) located at 12950 North 7th Street in Phoenix. \nFree hot coffee and live music offered from 9 AM to 11 AM. \nSpecial thanks to Serafina Coffee for donating locally roasted ground coffee beans for this event. \nAdmission is always free. \nDonations to Save Our Mountains Foundation (501c3) are always welcome. Any purchases made at our gift shop go toward supporting facility operations and our nonprofit’s mission of protecting the preserve for future generations. \nCall 602-343-5125 with any questions. \n  \nArizona Blues Hall Of Famer\, Eric Ramsey\, is the Winner of\nthe International Blues Challenge as well as the Memphis Cigar Box Guitar\nAward for the outstanding guitarist in the Solo/Duo Category. He’s a three-time\nChampion of the Phoenix Blues Society’s Blues Showdown\, a two-time Finalist at\nthe Telluride Blues Challenge. He’s a Winner of the Stefan George Memorial\nSongwriting Contest sponsored by the Tucson Folk Festival\, Winner of\nthe Peoples’ Choice Award at the Wildflower Arts and Music Festival\, a Finalist in\nthe Al Johnson Songwriting Competition\, and has been tapped for the\nprestigious Songwriter’s Showcase produced by Tempe Center for the Arts\, filmed\nfor PBS distribution. He’s been a 4x featured performer at the Dripping\nSprings (TX) Songwriter’s Festival\, has garnered numerous accolades for his\nsongwriting\, and performs at concerts and festivals nationwide.\nCoffee and refreshments will be served\nduring the Coffee House.\nDonations made to Save Our Mountains Foundation\nare much appreciated. \n \n  \nLocal coffee shop near 7th Street and Coral Gables in the Moon Valley area of Phoenix.
URL:https://northmountainvisitorcenter.org/event/coffee-house-saturdays-live-music-and-free-serafina-coffee-7-2/
LOCATION:North Mountain Visitor Center\, 12950 North 7th Street\, Phoenix\, AZ\, 85022\, United States
CATEGORIES:Coffee House,North Mountain
END:VEVENT
END:VCALENDAR