BEGIN:VCALENDAR
VERSION:2.0
PRODID:-//North Mountain Visitor Center - ECPv6.13.2.1//NONSGML v1.0//EN
CALSCALE:GREGORIAN
METHOD:PUBLISH
X-WR-CALNAME:North Mountain Visitor Center
X-ORIGINAL-URL:https://northmountainvisitorcenter.org
X-WR-CALDESC:Events for North Mountain Visitor Center
REFRESH-INTERVAL;VALUE=DURATION:PT1H
X-Robots-Tag:noindex
X-PUBLISHED-TTL:PT1H
BEGIN:VTIMEZONE
TZID:America/Phoenix
BEGIN:STANDARD
TZOFFSETFROM:-0700
TZOFFSETTO:-0700
TZNAME:MST
DTSTART:20250101T000000
END:STANDARD
END:VTIMEZONE
BEGIN:VEVENT
DTSTART;TZID=America/Phoenix:20251122T090000
DTEND;TZID=America/Phoenix:20251122T110000
DTSTAMP:20260423T215333
CREATED:20250808T210121Z
LAST-MODIFIED:20251111T214502Z
UID:3421-1763802000-1763809200@northmountainvisitorcenter.org
SUMMARY:Coffee House Saturdays with live music – Performance by DOUG METZGER
DESCRIPTION:Doug plays multiple Native American flutes. Inspired by Native American flutists like Carlos Nakai\, Tree Cody\, and Mary Youngblood\, Doug will cover songs\nfrom these artists; but he has also created his own collection musical portraits\, often relating to nature and natural surroundings\, and often painting musical images of one of Arizona’s treasures—the Mogollon Rim—the forest\, streams\, birds\, … Come and enjoy the journey. \n \nCoffee House Saturdays occurs every third and fourth Saturday of the month at the North Mountain Visitor Center (NMVC) located at 12950 North 7th Street in Phoenix. \nFree hot coffee\, refreshments and live music offered from 9 AM to 11 AM. \nAdmission is always free. \nDonations to Save Our Mountains Foundation (501c3) are always welcome. Any purchases made at our gift shop go toward supporting facility operations and our nonprofit’s mission of protecting the preserve for future generations. \nCall 602-343-5125 with any questions. \n 
URL:https://northmountainvisitorcenter.org/event/coffee-house-saturdays-with-live-music-performance-by-doug-metzer/
LOCATION:North Mountain Visitor Center\, 12950 North 7th Street\, Phoenix\, AZ\, 85022\, United States
CATEGORIES:Coffee House
END:VEVENT
END:VCALENDAR