BEGIN:VCALENDAR
VERSION:2.0
PRODID:-//North Mountain Visitor Center - ECPv6.13.2.1//NONSGML v1.0//EN
CALSCALE:GREGORIAN
METHOD:PUBLISH
X-ORIGINAL-URL:https://northmountainvisitorcenter.org
X-WR-CALDESC:Events for North Mountain Visitor Center
REFRESH-INTERVAL;VALUE=DURATION:PT1H
X-Robots-Tag:noindex
X-PUBLISHED-TTL:PT1H
BEGIN:VTIMEZONE
TZID:America/Phoenix
BEGIN:STANDARD
TZOFFSETFROM:-0700
TZOFFSETTO:-0700
TZNAME:MST
DTSTART:20250101T000000
END:STANDARD
END:VTIMEZONE
BEGIN:VEVENT
DTSTART;TZID=America/Phoenix:20250703T060000
DTEND;TZID=America/Phoenix:20250703T090000
DTSTAMP:20260424T005804
CREATED:20250624T170039Z
LAST-MODIFIED:20250624T170039Z
UID:3316-1751522400-1751533200@northmountainvisitorcenter.org
SUMMARY:NMVC THURSDAY HIKES: BRIDAL PATH URBAN HIKE
DESCRIPTION:Trailhead Meet Up:July 03\, 2025 at 6am \nName of Hike: Bridal Path Urban Hike \nLocation: 5757 N Central Ave Phoenix \nLeader(s): Neil and Billie \nLeader Contact: 602-361-0276 \nCarpool? (Y/N) No  \nCarpool Time & Location: N/A \nHike Distance (estim): 4 miles \nHike Time (estim): 2-3 hours \nElevation Chg (approx ft\, optional): ft \nHike Description: We will walk an easy 2 hours\, 4 miles along the Central Ave dirt path North for 2 miles to Northern Ave and return by the same route. \nDrive Instructions: Park at NPHX Baptist Church near Central & Bethany Home
URL:https://northmountainvisitorcenter.org/event/nmvc-thursday-hikes-bridal-path-urban-hike/
CATEGORIES:Hiking
END:VEVENT
BEGIN:VEVENT
DTSTART;TZID=America/Phoenix:20250710T060000
DTEND;TZID=America/Phoenix:20250710T090000
DTSTAMP:20260424T005804
CREATED:20250624T170743Z
LAST-MODIFIED:20250624T170743Z
UID:3320-1752127200-1752138000@northmountainvisitorcenter.org
SUMMARY:NMVC THURSDAY HIKES: 40th Street Trailhead
DESCRIPTION:Trailhead Meet Up: July 10\, 2025 at 6am \nName of Hike: 40th Street Trailhead \nLocation: 9200 N 40th St Phoenix \nLeader(s): Karen Twyning \nLeader Contact: 262-903-8012 \nCarpool? (Y/N) No \nCarpool Time & Location: none \nHike Distance (estim): 4 miles \nHike Time (estim): 2 – 3 hrs \nElevation Chg (approx ft\, optional): ft \nHike Description: Easy flat 2 hour 4 miles loop in Phoenix Mountain Preserve via north end access \nDrive Instructions: Shea to 40th St\, drive south one mile where road ends at trailhead parking lot
URL:https://northmountainvisitorcenter.org/event/nmvc-thursday-hikes-40th-street-trailhead-2/
CATEGORIES:Hiking
END:VEVENT
BEGIN:VEVENT
DTSTART;TZID=America/Phoenix:20250717T060000
DTEND;TZID=America/Phoenix:20250717T080000
DTSTAMP:20260424T005804
CREATED:20250624T171350Z
LAST-MODIFIED:20250714T214030Z
UID:3323-1752732000-1752739200@northmountainvisitorcenter.org
SUMMARY:NMVC THURSDAY HIKES: Fraesfield Trailhead
DESCRIPTION:Trailhead Meet Up: July 17\, 2025\, at 6am with bathrooms \nName of Hike: Fraesfield Trailhead \nLocation: 13400 E Rio Verde Dr\, Scottsdale  \nLeader(s): Jeremy Weingast \nLeader Contact: 860-729-8468 \nCarpool? (Y/N): No \nCarpool Time & Location: none \nHike Distance (estim): 4 miles \nHike Time (estim): 2-3 hrs \nElevation Chg (approx ft\, optional): ft \nHike Description: Easy 2-hour 4-mile hike.
URL:https://northmountainvisitorcenter.org/event/nmvc-thursday-hikes-granite-mountain-trailhead/
CATEGORIES:Hiking
END:VEVENT
BEGIN:VEVENT
DTSTART;TZID=America/Phoenix:20250718T080000
DTEND;TZID=America/Phoenix:20250718T130000
DTSTAMP:20260424T005804
CREATED:20250624T172114Z
LAST-MODIFIED:20250624T172114Z
UID:3326-1752825600-1752843600@northmountainvisitorcenter.org
SUMMARY:NMVC THURSDAY HIKES: Kachina Trail - Flagstaff
DESCRIPTION:Trailhead Meet Up: July 18\, 2025 at 8 am  \nName of Hike: Kachina Trail  \nLocation: Flagstaff \nLeader(s): Debi Quarry \nLeader Contact: debiquarry@gmail.com\, 602-524 -1433 \nCarpool? (Y/N) Yes  \nCarpool Time & Location: Get in contact with me 48 hours before the hike and I will share your information with others coming. \nHike Distance (estim): 8 miles \nHike Time (estim): 5 hours \nElevation Chg: 2400 ft \nHike Description: This hike is on the west side of the San Francisco Peaks near Arizona SnowBowl and starts at about 9300 ft elevation area.  We hike high on the mountains to avoid the summer heat . The trail crosses several canyons and even descends to a  lava cliff. A dramatic\, cave-like recess in the lava marks where a bed of looser volcanic debris eroded away from denser flow layers above.  Ancient limber pine and massive Douglas-fir dominate the higher elevations and of course aspens are present. Waist-high meadows of bracken fern punctuate the slopes. We will do an in and out hike about 6-8 miles total.  The elevation change is approximately 1\,250 feet . Bring rain gear as it is monsoon season .  \nDrive Instructions: From Flagstaff drive 7 miles on US 180 N and then R at the SnowBowl  FR 156 . Drive approx. 7miles up the mountain and turn right at the sign for Kachina Trail . Lower Parking Lot – new parking lots have been developed since last yr.) Parking for the TH is at the far end . No restrooms at the TH.
URL:https://northmountainvisitorcenter.org/event/nmvc-thursday-hikes-kachina-trail-flagstaff/
CATEGORIES:Hiking
END:VEVENT
BEGIN:VEVENT
DTSTART;TZID=America/Phoenix:20250724T060000
DTEND;TZID=America/Phoenix:20250724T080000
DTSTAMP:20260424T005804
CREATED:20250624T172743Z
LAST-MODIFIED:20250714T214531Z
UID:3330-1753336800-1753344000@northmountainvisitorcenter.org
SUMMARY:NMVC THURSDAY HIKES: 40th Street Trailhead
DESCRIPTION:Trailhead Meet Up: July 24\, 2025\, at 6am with bathrooms \nName of Hike: 40th Street Trailhead \nLocation: 9200 N 40th St Phoenix \nLeader(s): Karen Twyning \nLeader Contact: 262-903-8012 \nCarpool? (Y/N) No \nCarpool Time & Location: none \nHike Distance (estim): 4 miles \nHike Time (estim): 2 – 3 hrs. \nElevation Chg (approx ft\, optional): \nHike Description: Easy flat 2-hour 4-mile loop in Phoenix Mountain Preserve via north end access \nDrive Instructions: Shea to 40th St\, drive south one mile where road ends at trailhead parking lot
URL:https://northmountainvisitorcenter.org/event/nmvc-thursday-hikes-nmvc-southern-loop/
LOCATION:North Mountain Visitor Center\, 12950 North 7th Street\, Phoenix\, AZ\, 85022\, United States
CATEGORIES:Hiking
END:VEVENT
BEGIN:VEVENT
DTSTART;TZID=America/Phoenix:20250731T060000
DTEND;TZID=America/Phoenix:20250731T090000
DTSTAMP:20260424T005804
CREATED:20250624T173340Z
LAST-MODIFIED:20250624T173340Z
UID:3333-1753941600-1753952400@northmountainvisitorcenter.org
SUMMARY:NMVC THURSDAY HIKES: Slate Trail in Cave Creek
DESCRIPTION:Trailhead Meet Up: July 31\, 2025 at 6am \nName of Hike: Slate Trail in Cave Creek \nLocation: 5800 E Surrey Dr\, Cave Creek \nLeader(s): Maya \nLeader Contact: 602-448-7079 \nCarpool? (Y/N): No  \nCarpool Time & Location: none \nHike Distance (estim): 4 miles \nHike Time (estim): 3 hours \nElevation Chg (approx ft\, optional): ft \nHike Description: Lovely views here. Bring your camera \nDrive Instructions: Just North of Carefree Highway off Cave Creek Rd
URL:https://northmountainvisitorcenter.org/event/nmvc-thursday-hikes-slate-trail-in-cave-creek/
CATEGORIES:Hiking
END:VEVENT
END:VCALENDAR