BEGIN:VCALENDAR
VERSION:2.0
PRODID:-//North Mountain Visitor Center - ECPv6.13.2.1//NONSGML v1.0//EN
CALSCALE:GREGORIAN
METHOD:PUBLISH
X-ORIGINAL-URL:https://northmountainvisitorcenter.org
X-WR-CALDESC:Events for North Mountain Visitor Center
REFRESH-INTERVAL;VALUE=DURATION:PT1H
X-Robots-Tag:noindex
X-PUBLISHED-TTL:PT1H
BEGIN:VTIMEZONE
TZID:America/Phoenix
BEGIN:STANDARD
TZOFFSETFROM:-0700
TZOFFSETTO:-0700
TZNAME:MST
DTSTART:20260101T000000
END:STANDARD
END:VTIMEZONE
BEGIN:VEVENT
DTSTART;TZID=America/Phoenix:20260423T090000
DTEND;TZID=America/Phoenix:20260423T120000
DTSTAMP:20260423T084133
CREATED:20260331T201253Z
LAST-MODIFIED:20260331T201253Z
UID:3731-1776934800-1776945600@northmountainvisitorcenter.org
SUMMARY:NMVC THURSDAY HIKES: Woods Canyon Lake
DESCRIPTION:Name of Hike: Woods Canyon Lake  \nLocation: Payson\, AZ.  Mogollon Rim \nTrailhead Meet Up Date: 4/23/2026 \nTrailhead Meet Up Time: 9:00 AM \nLeader(s): Billie & Neil \nLeader Contact: Billie text 602-361-0276 or shakemat4@yahoo.com \nCarpool? (Y/N) Yes \nCarpool Time & Location: Fountain Hills Target east side of lot. at 7 AM be there 10 mins early to work out the drivers/cars going. \nHike Distance (estim): 5 miles \nHike Time (estim): 3 \nElevation Chg (approx ft\, optional): ft \nHike Description: From the general store\, we’ll head East on a counter clockwise loop around the lake. There are many photo ops along this trail so we may be stopping occasionally to view scenery or wildlife. We have spotted Osprey and Bald Eagles in past times.\nBring your lunch and we’ll have a picnic after the hike. Lunches can be left in the car with ice.\nThis trip is an excellent opportunity to experience the amazing view from the Mogollon Rim on the way home. \nDrive Instructions: Take the Beeline Hwy (Arizona 87) to Payson\, (about 1.5 to 2 hrs.)\nDrive into town to Junction with state route #260. Go right (East) past Kohl’s Ranch to where the road tops out on the Mogollon Rim. The lake is about 30 miles from Payson.\nTurn left onto Forest Rd 300\, follow the road for 5 miles to Woods Canyon Lake and the boat launching pad. Park near the general store. Restrooms available. 
URL:https://northmountainvisitorcenter.org/event/nmvc-thursday-hikes-woods-canyon-lake/
CATEGORIES:Hiking
END:VEVENT
BEGIN:VEVENT
DTSTART;TZID=America/Phoenix:20260430T070000
DTEND;TZID=America/Phoenix:20260430T090000
DTSTAMP:20260423T084133
CREATED:20260331T202026Z
LAST-MODIFIED:20260331T202026Z
UID:3734-1777532400-1777539600@northmountainvisitorcenter.org
SUMMARY:NMVC THURSDAY HIKES: Gateway Loop Trail
DESCRIPTION:Name of Hike: Gateway Loop Trail \nLocation: Gateway Loop Trailhead 18333 N. Thompson Peak Parkway\, Scottsdale \nTrailhead Meet Up Date: 4/30/2026 \nTrailhead Meet Up Time: 7:00 AM \nLeader(s): Jeremy Weingast \nLeader Contact: Jeremy.Weingast@gmail.com \nCarpool? (Y/N) No \nCarpool Time & Location: \nHike Distance (estim): 4.5 miles \nHike Time (estim): 2 hrs \nElevation Chg (approx ft\, optional): ft \nHike Description: TBD \nDrive Instructions: 18333 N. Thompson Peak Parkway\, Scottsdale
URL:https://northmountainvisitorcenter.org/event/nmvc-thursday-hikes-gateway-loop-trail/
CATEGORIES:Hiking
END:VEVENT
END:VCALENDAR