BEGIN:VCALENDAR
VERSION:2.0
PRODID:-//North Mountain Visitor Center - ECPv6.13.2.1//NONSGML v1.0//EN
CALSCALE:GREGORIAN
METHOD:PUBLISH
X-WR-CALNAME:North Mountain Visitor Center
X-ORIGINAL-URL:https://northmountainvisitorcenter.org
X-WR-CALDESC:Events for North Mountain Visitor Center
REFRESH-INTERVAL;VALUE=DURATION:PT1H
X-Robots-Tag:noindex
X-PUBLISHED-TTL:PT1H
BEGIN:VTIMEZONE
TZID:America/Phoenix
BEGIN:STANDARD
TZOFFSETFROM:-0700
TZOFFSETTO:-0700
TZNAME:MST
DTSTART:20230101T000000
END:STANDARD
END:VTIMEZONE
BEGIN:VEVENT
DTSTART;TZID=America/Phoenix:20230415T090000
DTEND;TZID=America/Phoenix:20230415T120000
DTSTAMP:20260425T202232
CREATED:20230211T222825Z
LAST-MODIFIED:20230211T232325Z
UID:2444-1681549200-1681560000@northmountainvisitorcenter.org
SUMMARY:Rattlesnake Garage 4/15
DESCRIPTION:Free Event; Donations to SOMF are greatly appreciated.\nCome into the NMV Center to learn about snake behavior and how to deal with the inevitable interactions when hiking the trails. Rattlesnake Garage will show you what EMS professionals have been learning from them for the past 2 years about snake interactions.\nThere will be a live arena for an interactive presentation. Desert conservation\, snake recognition\, snake encounters\, first aid do’s and don’ts\, snake myths and free flowing questions will be allowed. \nSnakes of NOMO Rattlesnake Garage >>
URL:https://northmountainvisitorcenter.org/event/rattlesnake-garage-4-15/
LOCATION:AZ
CATEGORIES:Workshop
ATTACH;FMTTYPE=image/jpeg:https://northmountainvisitorcenter.org/wp-content/uploads/2015/04/636246709589716824-rattlesnake.jpg
END:VEVENT
BEGIN:VEVENT
DTSTART;TZID=America/Phoenix:20230422T103000
DTEND;TZID=America/Phoenix:20230422T113000
DTSTAMP:20260425T202232
CREATED:20230211T222955Z
LAST-MODIFIED:20230418T190729Z
UID:2447-1682159400-1682163000@northmountainvisitorcenter.org
SUMMARY:Rattlesnake Garage 4/22
DESCRIPTION:Free Event; Donations to SOMF are greatly appreciated.\nCome into the NMV Center to learn about snake behavior and how to deal with the inevitable interactions when hiking the trails. Rattlesnake Garage will show you what EMS professionals have been learning from them for the past 2 years about snake interactions.\nThere will be a live arena for an interactive presentation. Desert conservation\, snake recognition\, snake encounters\, first aid do’s and don’ts\, snake myths and free flowing questions will be allowed. \nSnakes of NOMO Rattlesnake Garage >>
URL:https://northmountainvisitorcenter.org/event/rattlesnake-garage-4-22/
LOCATION:North Mountain Visitor Center\, 12950 North 7th Street\, Phoenix\, AZ\, 85022\, United States
CATEGORIES:Workshop
ATTACH;FMTTYPE=image/jpeg:https://northmountainvisitorcenter.org/wp-content/uploads/2023/02/20160416_132102-1-scaled.jpg
END:VEVENT
END:VCALENDAR