BEGIN:VCALENDAR
VERSION:2.0
PRODID:-//North Mountain Visitor Center - ECPv6.13.2.1//NONSGML v1.0//EN
CALSCALE:GREGORIAN
METHOD:PUBLISH
X-ORIGINAL-URL:https://northmountainvisitorcenter.org
X-WR-CALDESC:Events for North Mountain Visitor Center
REFRESH-INTERVAL;VALUE=DURATION:PT1H
X-Robots-Tag:noindex
X-PUBLISHED-TTL:PT1H
BEGIN:VTIMEZONE
TZID:America/Phoenix
BEGIN:STANDARD
TZOFFSETFROM:-0700
TZOFFSETTO:-0700
TZNAME:MST
DTSTART:20250101T000000
END:STANDARD
END:VTIMEZONE
BEGIN:VEVENT
DTSTART;TZID=America/Phoenix:20250621T113000
DTEND;TZID=America/Phoenix:20250621T123000
DTSTAMP:20260424T010403
CREATED:20250531T212223Z
LAST-MODIFIED:20250531T212223Z
UID:3312-1750505400-1750509000@northmountainvisitorcenter.org
SUMMARY:Brown Bag Workshop – HISTORY AND LEGACY OF THE PHOENIX INDIAN SCHOOL
DESCRIPTION:“HISTORY AND LEGACY OF THE PHOENIX INDIAN SCHOOL”  \npresented by Dion Romero \n \n“This public lecture will provide an introduction on the origins of the Native American boarding school system\, then focusing on the history of the Phoenix Indian School from its opening in 1891 to its closure in 1990.  The talk will explore student experiences\, key moments\, and legacy\, supplemented by historical images of the school site. “ \n Mark your calendars and bring your lunches! \nYou won’t want to miss this! \nJoin us for fascinating facts\, fun\, and fellowship at The North Mountain Visitor Center\, 12950 N. 7th Street on Saturday\, June 21st\, 2025\, at 11:30 A.M.  Please bring your lunch and enjoy the presentation.  This presentation is free to the public.  Donations made to Save Our Mountains Foundation are much appreciated.  The funds help run the North Mountain Visitor Center. \n                                                                     \n 
URL:https://northmountainvisitorcenter.org/event/brown-bag-workshop-history-and-legacy-of-the-phoenix-indian-school/
LOCATION:North Mountain Visitor Center\, 12950 North 7th Street\, Phoenix\, AZ\, 85022\, United States
CATEGORIES:Workshop
END:VEVENT
BEGIN:VEVENT
DTSTART;TZID=America/Phoenix:20250628T080000
DTEND;TZID=America/Phoenix:20250628T170000
DTSTAMP:20260424T010403
CREATED:20250225T223140Z
LAST-MODIFIED:20250225T223140Z
UID:3068-1751097600-1751130000@northmountainvisitorcenter.org
SUMMARY:CAMRA Wilderness First Aid Class
DESCRIPTION:Come to North Mountain Visitor Center this weekend for a Wilderness First Aid Class taught by the Central Arizona Mountain Rescue Association (CAMRA)\, Maricopa County’s Mountain Rescue Team!  Tickets\, class information and cost are available here: www.mountainrescue.org/medical-training \nClass is June 28 & 29\, 8am-5pm. Please bring a sack lunch and be prepared for a jam-packed schedule with tons of scenarios and hands-on experience! \nThe Wilderness First Aid certification is an entry-level course for wilderness medicine. It is highly recommended for anyone who spends time in the backcountry. Whether you are planning on leading a multi-day trip or even a day hiker who wants to be prepared for anything that may come up. Skiers\, kayakers\, mountain bikers\, climbers\, and campers… everyone can benefit from this training! \nWFA courses are offered throughout the year. If you are interested in taking this life saving course another weekend\, please visit www.mountainrescue.org/medical-training for more class dates available.
URL:https://northmountainvisitorcenter.org/event/camra-wilderness-first-aid-class-5/
LOCATION:North Mountain Visitor Center\, 12950 North 7th Street\, Phoenix\, AZ\, 85022\, United States
CATEGORIES:Workshop
END:VEVENT
BEGIN:VEVENT
DTSTART;TZID=America/Phoenix:20250629T080000
DTEND;TZID=America/Phoenix:20250629T170000
DTSTAMP:20260424T010403
CREATED:20250225T223424Z
LAST-MODIFIED:20250225T223424Z
UID:3070-1751184000-1751216400@northmountainvisitorcenter.org
SUMMARY:CAMRA Wilderness First Aid Class
DESCRIPTION:Come to North Mountain Visitor Center this weekend for a Wilderness First Aid Class taught by the Central Arizona Mountain Rescue Association (CAMRA)\, Maricopa County’s Mountain Rescue Team!  Tickets\, class information and cost are available here: www.mountainrescue.org/medical-training \nClass is June 28 & 29\, 8am-5pm. Please bring a sack lunch and be prepared for a jam-packed schedule with tons of scenarios and hands-on experience! \nThe Wilderness First Aid certification is an entry-level course for wilderness medicine. It is highly recommended for anyone who spends time in the backcountry. Whether you are planning on leading a multi-day trip or even a day hiker who wants to be prepared for anything that may come up. Skiers\, kayakers\, mountain bikers\, climbers\, and campers… everyone can benefit from this training! \nWFA courses are offered throughout the year. If you are interested in taking this life saving course another weekend\, please visit www.mountainrescue.org/medical-training for more class dates available.
URL:https://northmountainvisitorcenter.org/event/camra-wilderness-first-aid-class-6/
LOCATION:North Mountain Visitor Center\, 12950 North 7th Street\, Phoenix\, AZ\, 85022\, United States
CATEGORIES:Workshop
END:VEVENT
END:VCALENDAR