BEGIN:VCALENDAR
VERSION:2.0
PRODID:-//North Mountain Visitor Center - ECPv6.13.2.1//NONSGML v1.0//EN
CALSCALE:GREGORIAN
METHOD:PUBLISH
X-ORIGINAL-URL:https://northmountainvisitorcenter.org
X-WR-CALDESC:Events for North Mountain Visitor Center
REFRESH-INTERVAL;VALUE=DURATION:PT1H
X-Robots-Tag:noindex
X-PUBLISHED-TTL:PT1H
BEGIN:VTIMEZONE
TZID:America/Phoenix
BEGIN:STANDARD
TZOFFSETFROM:-0700
TZOFFSETTO:-0700
TZNAME:MST
DTSTART:20250101T000000
END:STANDARD
END:VTIMEZONE
BEGIN:VEVENT
DTSTART;TZID=America/Phoenix:20250626T060000
DTEND;TZID=America/Phoenix:20250626T080000
DTSTAMP:20260424T091651
CREATED:20250527T223730Z
LAST-MODIFIED:20250527T223730Z
UID:3300-1750917600-1750924800@northmountainvisitorcenter.org
SUMMARY:NMVC THURSDAY HIKES: Brown's Ranch
DESCRIPTION:Date: 6/26/25   Start Time: 6:00 AM \nLocation: Brown’s Ranch \nName of Hike: various trails \nHike Leader(s): Jeremy     text 860-729-8468 or email  jeremy.weingast@gmail.com  to sign up or for more info \nApproximate Length in Hours:  2 \nApproximate Distance in Miles:  4 \nComments: We will follow Jeremy as he leads a scenic trip through one of our favorite hiking areas in the Scottsdale Sonoran Preserve. \nDrive:   Brown’s Ranch Trailhead:  30301 Alma School Prkwy.  Restrooms available
URL:https://northmountainvisitorcenter.org/event/nmvc-thursday-hikes-browns-ranch/
CATEGORIES:Hiking
END:VEVENT
END:VCALENDAR