BEGIN:VCALENDAR
VERSION:2.0
PRODID:-//North Mountain Visitor Center - ECPv6.13.2.1//NONSGML v1.0//EN
CALSCALE:GREGORIAN
METHOD:PUBLISH
X-ORIGINAL-URL:https://northmountainvisitorcenter.org
X-WR-CALDESC:Events for North Mountain Visitor Center
REFRESH-INTERVAL;VALUE=DURATION:PT1H
X-Robots-Tag:noindex
X-PUBLISHED-TTL:PT1H
BEGIN:VTIMEZONE
TZID:America/Phoenix
BEGIN:STANDARD
TZOFFSETFROM:-0700
TZOFFSETTO:-0700
TZNAME:MST
DTSTART:20250101T000000
END:STANDARD
END:VTIMEZONE
BEGIN:VEVENT
DTSTART;TZID=America/Phoenix:20250522T070000
DTEND;TZID=America/Phoenix:20250522T100000
DTSTAMP:20260424T042946
CREATED:20250429T224525Z
LAST-MODIFIED:20250429T225250Z
UID:3171-1747897200-1747908000@northmountainvisitorcenter.org
SUMMARY:NMVC THURSDAY HIKES: Go John
DESCRIPTION:When: Thursday\, 05/22/2025 07:00 \nLocation: Cave Creek Regional Park \nName of Hike: Go John \nHike Leader(s): Maya Coffey 602-448-7079 text and VM only. \nmayakuipercoffey@gmail.com \nMeet Up (when & where): 7am at TH \nEstimated Difficulty (easy\, moderate\, difficult): moderate \nEstimated Length in Hours: 3 hours \nEstimated Distance in Miles: 5.8 miles 849 elevation \nDescription: At an elevation of 2\,470 feet\, the views into Tonto National Forest are beautiful. Varying trail with elevation up and down\, some rocky parts. \nDriving Instructions: Carefree Hwy to Cave Creek Regional Park. Turn left at 32nd St. Pay $7 at gate. TH is left turn to Go John Hike sign. Bathrooms near TH.
URL:https://northmountainvisitorcenter.org/event/nmvc-thursday-hikes-go-john/
CATEGORIES:Hiking
END:VEVENT
END:VCALENDAR