BEGIN:VCALENDAR
VERSION:2.0
PRODID:-//North Mountain Visitor Center - ECPv6.13.2.1//NONSGML v1.0//EN
CALSCALE:GREGORIAN
METHOD:PUBLISH
X-WR-CALNAME:North Mountain Visitor Center
X-ORIGINAL-URL:https://northmountainvisitorcenter.org
X-WR-CALDESC:Events for North Mountain Visitor Center
REFRESH-INTERVAL;VALUE=DURATION:PT1H
X-Robots-Tag:noindex
X-PUBLISHED-TTL:PT1H
BEGIN:VTIMEZONE
TZID:America/Phoenix
BEGIN:STANDARD
TZOFFSETFROM:-0700
TZOFFSETTO:-0700
TZNAME:MST
DTSTART:20250101T000000
END:STANDARD
END:VTIMEZONE
BEGIN:VEVENT
DTSTART;TZID=America/Phoenix:20250118T090000
DTEND;TZID=America/Phoenix:20250118T110000
DTSTAMP:20260424T091523
CREATED:20241230T204837Z
LAST-MODIFIED:20241231T163839Z
UID:2833-1737190800-1737198000@northmountainvisitorcenter.org
SUMMARY:Coffee House Saturdays with live music - Performance by Three-Legged Dog
DESCRIPTION:Coffee House Saturdays occurs every third Saturday of the month at the North Mountain Visitor Center (NMVC) located at 12950 North 7th Street in Phoenix. \nFree hot coffee and live music offered from 9 AM to 11 AM. \nAdmission is always free. \nDonations to Save Our Mountains Foundation (501c3) are always welcome. Any purchases made at our gift shop go toward supporting facility operations and our nonprofit’s mission of protecting the preserve for future generations. \nCall 602-343-5125 with any questions. \n \nLong ago\, in an America faraway…\nThere were string bands everywhere\, small groups that played all kinds of music—old-time\nmountain stuff\, gospel\, swing\, popular tunes of the day\, what we now call country—on acoustic\ninstruments…\nThree-Legged Dog is today’s version of these taking to the stage with multiple guitars\, mandolins\,\nbanjos\, Dobro\, cello\, fiddle\, accordion\, musical saw\, standup and fretless electric bass\, bouzouki\,\njug and jaw harp…\nThree people hopelessly outnumbered by instruments. Come and see who wins! \n  \nCoffee and refreshments will be served during the Coffee House.\nDonations made to Save Our Mountains Foundation are much appreciated. \n 
URL:https://northmountainvisitorcenter.org/event/coffee-house-saturdays-live-music-and-free-serafina-coffee-8-2-2/
LOCATION:North Mountain Visitor Center\, 12950 North 7th Street\, Phoenix\, AZ\, 85022\, United States
CATEGORIES:Coffee House,North Mountain
END:VEVENT
END:VCALENDAR