BEGIN:VCALENDAR
VERSION:2.0
PRODID:-//North Mountain Visitor Center - ECPv6.13.2.1//NONSGML v1.0//EN
CALSCALE:GREGORIAN
METHOD:PUBLISH
X-ORIGINAL-URL:https://northmountainvisitorcenter.org
X-WR-CALDESC:Events for North Mountain Visitor Center
REFRESH-INTERVAL;VALUE=DURATION:PT1H
X-Robots-Tag:noindex
X-PUBLISHED-TTL:PT1H
BEGIN:VTIMEZONE
TZID:America/Phoenix
BEGIN:STANDARD
TZOFFSETFROM:-0700
TZOFFSETTO:-0700
TZNAME:MST
DTSTART:20240101T000000
END:STANDARD
END:VTIMEZONE
BEGIN:VEVENT
DTSTART;TZID=America/Phoenix:20240420T090000
DTEND;TZID=America/Phoenix:20240420T120000
DTSTAMP:20260425T045901
CREATED:20240329T184106Z
LAST-MODIFIED:20240329T184923Z
UID:2706-1713603600-1713614400@northmountainvisitorcenter.org
SUMMARY:Coffee House Saturdays\, live music and free Serafina Coffee
DESCRIPTION:Coffee House Saturdays occurs every third Saturday of the month at the North Mountain Visitor Center (NMVC) located at 12950 North 7th Street in Phoenix. \nFree hot coffee and live music offered from 9 AM to 11 AM. \nSpecial thanks to Serafina Coffee for donating locally roasted ground coffee beans for this event. \nAdmission is always free. \nDonations to Save Our Mountains Foundation (501c3) are always welcome. Any purchases made at our gift shop go toward supporting facility operations and our nonprofit’s mission of protecting the preserve for future generations. \nCall 602-343-5125 with any questions. \nLocal coffee shop near 7th Street and Coral Gables in the Moon Valley area of Phoenix.
URL:https://northmountainvisitorcenter.org/event/coffee-house-saturdays-live-music-and-free-serafina-coffee/
LOCATION:North Mountain Visitor Center\, 12950 North 7th Street\, Phoenix\, AZ\, 85022\, United States
END:VEVENT
END:VCALENDAR