BEGIN:VCALENDAR
VERSION:2.0
PRODID:-//North Mountain Visitor Center - ECPv6.13.2.1//NONSGML v1.0//EN
CALSCALE:GREGORIAN
METHOD:PUBLISH
X-WR-CALNAME:North Mountain Visitor Center
X-ORIGINAL-URL:https://northmountainvisitorcenter.org
X-WR-CALDESC:Events for North Mountain Visitor Center
REFRESH-INTERVAL;VALUE=DURATION:PT1H
X-Robots-Tag:noindex
X-PUBLISHED-TTL:PT1H
BEGIN:VTIMEZONE
TZID:America/Phoenix
BEGIN:STANDARD
TZOFFSETFROM:-0700
TZOFFSETTO:-0700
TZNAME:MST
DTSTART:20250101T000000
END:STANDARD
END:VTIMEZONE
BEGIN:VEVENT
DTSTART;TZID=America/Phoenix:20250222T090000
DTEND;TZID=America/Phoenix:20250222T110000
DTSTAMP:20260424T122450
CREATED:20250114T222559Z
LAST-MODIFIED:20250114T222559Z
UID:2886-1740214800-1740222000@northmountainvisitorcenter.org
SUMMARY:Coffee House Saturdays with live music - Performance by ERIC DOUGLAS
DESCRIPTION:Coffee House Saturdays occurs every third and fourth Saturday of the month at the North Mountain Visitor Center (NMVC) located at 12950 North 7th Street in Phoenix. \nFree hot coffee\, refreshments and live music offered from 9 AM to 11 AM. \nAdmission is always free. \nDonations to Save Our Mountains Foundation (501c3) are always welcome. Any purchases made at our gift shop go toward supporting facility operations and our nonprofit’s mission of protecting the preserve for future generations. \nCall 602-343-5125 with any questions. \nEric Douglas is a songwriter who paints an American landscape\, with stories from the Southwestern desert\, the Great Plains\, and the open road. With the muses of Woody Guthrie\, Bob Dylan\, and Bruce Springsteen running through his pen\, Eric sings with the voices of the auto worker and the road-weary\, the veteran and the immigrant\, of people finding their place in the world…for better or for worse. He is a veteran of Arizona’s major folk festivals in Glendale\, Tucson\, and Flagstaff\, and his songwriting has been recognized in nationwide competitions. Eric began performing in New York City bars and coffeehouses in the late 90s and has lived in Arizona since 2002. \n  \n 
URL:https://northmountainvisitorcenter.org/event/coffee-house-saturdays-with-live-music-performance-by-eric-douglas/
LOCATION:AZ
CATEGORIES:Coffee House
END:VEVENT
END:VCALENDAR