BEGIN:VCALENDAR
VERSION:2.0
PRODID:-//North Mountain Visitor Center - ECPv6.13.2.1//NONSGML v1.0//EN
CALSCALE:GREGORIAN
METHOD:PUBLISH
X-ORIGINAL-URL:https://northmountainvisitorcenter.org
X-WR-CALDESC:Events for North Mountain Visitor Center
REFRESH-INTERVAL;VALUE=DURATION:PT1H
X-Robots-Tag:noindex
X-PUBLISHED-TTL:PT1H
BEGIN:VTIMEZONE
TZID:America/Phoenix
BEGIN:STANDARD
TZOFFSETFROM:-0700
TZOFFSETTO:-0700
TZNAME:MST
DTSTART:20250101T000000
END:STANDARD
END:VTIMEZONE
BEGIN:VEVENT
DTSTART;TZID=America/Phoenix:20250816T090000
DTEND;TZID=America/Phoenix:20250816T110000
DTSTAMP:20260424T024955
CREATED:20250729T222031Z
LAST-MODIFIED:20250808T204559Z
UID:3351-1755334800-1755342000@northmountainvisitorcenter.org
SUMMARY:Coffee House Saturdays with live music – Performance by NANCY COWAN
DESCRIPTION:Saturday\, August 16\, 2025\, 9-11 A.M.\nWelcome to my musical journey! As an autoharp player\, I embrace the beauty of simplicity in playing\, allowing my voice to shine. My autoharps reflect the key of my voice with their builds. With accolades such as third place at the Mountain Laurel Autoharp Gathering contest in 2019 and 2025 and the prestigious Cohen-Grappel Autoharp Recording Endowment in 2024\, I’m excited to share my passion for music. Beyond performing\, I proudly serve as a Registered Nurse and volunteer with Musicians On Call\, blending my love for music and healing. \n \nCoffee House Saturdays occurs every third and fourth Saturday of the month at the North Mountain Visitor Center (NMVC) located at 12950 North 7th Street in Phoenix. \nFree hot coffee\, refreshments and live music offered from 9 AM to 11 AM. \nAdmission is always free. \nDonations to Save Our Mountains Foundation (501c3) are always welcome. Any purchases made at our gift shop go toward supporting facility operations and our nonprofit’s mission of protecting the preserve for future generations. \nCall 602-343-5125 with any questions.
URL:https://northmountainvisitorcenter.org/event/coffee-house-saturdays-with-live-music-performance-by-nancy-cowen/
LOCATION:North Mountain Visitor Center\, 12950 North 7th Street\, Phoenix\, AZ\, 85022\, United States
CATEGORIES:Coffee House
END:VEVENT
BEGIN:VEVENT
DTSTART;TZID=America/Phoenix:20250823T090000
DTEND;TZID=America/Phoenix:20250823T110000
DTSTAMP:20260424T024955
CREATED:20250729T222550Z
LAST-MODIFIED:20250729T222550Z
UID:3354-1755939600-1755946800@northmountainvisitorcenter.org
SUMMARY:Coffee House Saturdays with live music – Performance by THREE-LEGGED DOG
DESCRIPTION:Long ago\, in an America faraway…\nThere were string bands everywhere\, small groups that played all kinds of music—old-time mountain stuff\, gospel\, swing\, popular tunes of the day\, what we now call country—on acoustic instruments…\nThree-Legged Dog is today’s version of these taking to the stage with multiple guitars\, mandolins\, banjos\, Dobro\, cello\, fiddle\, accordion\, musical saw\, standup and fretless electric bass\, bouzouki\, jug and jaw harp…\nThree people hopelessly outnumbered by instruments. Come and see who wins! \n \nCoffee House Saturdays occurs every third and fourth Saturday of the month at the North Mountain Visitor Center (NMVC) located at 12950 North 7th Street in Phoenix. \nFree hot coffee\, refreshments and live music offered from 9 AM to 11 AM. \nAdmission is always free. \nDonations to Save Our Mountains Foundation (501c3) are always welcome. Any purchases made at our gift shop go toward supporting facility operations and our nonprofit’s mission of protecting the preserve for future generations. \nCall 602-343-5125 with any questions.
URL:https://northmountainvisitorcenter.org/event/coffee-house-saturdays-with-live-music-performance-by-three-legged-dog/
LOCATION:North Mountain Visitor Center\, 12950 North 7th Street\, Phoenix\, AZ\, 85022\, United States
CATEGORIES:Coffee House
END:VEVENT
END:VCALENDAR