BEGIN:VCALENDAR
VERSION:2.0
PRODID:-//North Mountain Visitor Center - ECPv6.13.2.1//NONSGML v1.0//EN
CALSCALE:GREGORIAN
METHOD:PUBLISH
X-WR-CALNAME:North Mountain Visitor Center
X-ORIGINAL-URL:https://northmountainvisitorcenter.org
X-WR-CALDESC:Events for North Mountain Visitor Center
REFRESH-INTERVAL;VALUE=DURATION:PT1H
X-Robots-Tag:noindex
X-PUBLISHED-TTL:PT1H
BEGIN:VTIMEZONE
TZID:America/Phoenix
BEGIN:STANDARD
TZOFFSETFROM:-0700
TZOFFSETTO:-0700
TZNAME:MST
DTSTART:20250101T000000
END:STANDARD
END:VTIMEZONE
BEGIN:VEVENT
DTSTART;TZID=America/Phoenix:20251017T160000
DTEND;TZID=America/Phoenix:20251017T200000
DTSTAMP:20260423T232519
CREATED:20250204T230645Z
LAST-MODIFIED:20251007T203724Z
UID:2981-1760716800-1760731200@northmountainvisitorcenter.org
SUMMARY:SAVE OUR MOUNTAINS FOUNDATION - FESTIVAL IN THE MOUNTAINS
DESCRIPTION:October 17\, 18 and 19\, 2025 \n \nSave Our Mountains Foundation (SOMF) is planning a fun filled three-day Festival in the Mountains at the North Mountain Visitor Center (NMVC) to help raise money in support of our North Mountains Preserve.  There will be live music\, local hikes\, a silent action and drawings\, activities for kids\, dog costume event\, demos\, displays\, exhibits and more.  Phoenix Mountains Preserve Council and Central Arizona Mountain Rescue Association will be represented. \nPlus\, our Market in the Mountains featuring local artists\, authors\, and community vendors. \nFRIDAY\, OCTOBER 17th\, 4 – 7 P.M. \nOPENING CEREMONIES – 4 P.M.\nThe City of Phoenix Mayor Kate Gallego is scheduled to attend the first day of the Festival in the Mountains with our District Councilwoman Debra Stark to start off the festivities with a proclamation declaring that day Festival in the Mountains or Save Our Mountains Foundation Day! \nSILENT AUCTION – 4 – 6:30 P.M. \nCloses 6:30 P.M. \nWinners for Friday announced by 7:00 P.M. Do not need to be present to win. \nDOG COSTUME VOTING & WINNER – 4 P.M. – 7 P.M. \nCamp Bow Wow is sponsoring our Dog Costume Contest.  Vote at the festival\, Friday 4 – 7 P.M. and Saturday 9 A.M. – 4 P.M. Winner announced Saturday\, 6:00 P.M. \nHIKE – Mountain View Park Hike – 5 P.M. \nMeet at NMVC.  Hikers will follow trail 100 to Mountain View Park and back.\nWe will pass by the Community Gardens and discuss how the gardens flourish in the Spring and Summer.\nThis hike is 4 miles out and back with little elevation change. This hike is open to everyone. \nStarting in October\, sign-up sheets for the hikes will be available at the NMVC Front Desk. There will be a minimal suggested donation for the hikes. \nOPEN MIC JAM SESSION – 5 – 7 P.M. \nParticipants can sign up to perform two songs (10 min. max). Suggested donation is $5. For an additional donation\, participants can have professional musicians sit in with them to play and/or sing backup. \nSTARGAZING – 6 – 8 P.M. \nJoin Jeff Geyer for a night under the stars. A telescope will be set up for folks to stop by and view stars and planets. Bring the whole family for a close-up view of the wonders of the sky. \nCLOSE – 7 P.M. \n \n 
URL:https://northmountainvisitorcenter.org/event/2025-somf-fall-fundraiser-hold-these-dates/
LOCATION:North Mountain Visitor Center\, 12950 North 7th Street\, Phoenix\, AZ\, 85022\, United States
CATEGORIES:Fundraiser
END:VEVENT
END:VCALENDAR