BEGIN:VCALENDAR
VERSION:2.0
PRODID:-//North Mountain Visitor Center - ECPv6.13.2.1//NONSGML v1.0//EN
CALSCALE:GREGORIAN
METHOD:PUBLISH
X-WR-CALNAME:North Mountain Visitor Center
X-ORIGINAL-URL:https://northmountainvisitorcenter.org
X-WR-CALDESC:Events for North Mountain Visitor Center
REFRESH-INTERVAL;VALUE=DURATION:PT1H
X-Robots-Tag:noindex
X-PUBLISHED-TTL:PT1H
BEGIN:VTIMEZONE
TZID:America/Phoenix
BEGIN:STANDARD
TZOFFSETFROM:-0700
TZOFFSETTO:-0700
TZNAME:MST
DTSTART:20250101T000000
END:STANDARD
END:VTIMEZONE
BEGIN:VEVENT
DTSTART;TZID=America/Phoenix:20251101T080000
DTEND;TZID=America/Phoenix:20251101T140000
DTSTAMP:20260423T164730
CREATED:20250527T220012Z
LAST-MODIFIED:20250527T220012Z
UID:3282-1761984000-1762005600@northmountainvisitorcenter.org
SUMMARY:BOTANICAL ART PERMANENT DISPLAY: SEEDS – Foundation of Life\, Hope for the Future
DESCRIPTION:Presented by the: \n \nMany of us are familiar with the old proverb\, “From a tiny acorn a mighty oak grows.”  True\, but consider Saguaro\, King of the Sonoran Desert.  Its tiny seeds\, 1-1.5mm\, can develop into a forty-foot giant. Supporting these tiny power houses are the fruits which come in a variety of shapes and sizes providing the nurturing environment for the seeds to develop. \nCome visit the North Mountain Visitor Center (NMVC) and view an exquisite display of botanical illustrations created by members of the Southwest Society of Botanical Artists (SWSBA).  This display serves to educate us all in the variety and power of some of our Sonoran Desert plants and their miniscule foundation. \nBeautiful illustrations and descriptions await your visit!  This permanent display can be viewed every day during our open hours of operation. \nNMVC also has a permanent exhibit of scientific illustrations of plants found in the preserve\, largely illustrated by SWSBA members. Come visit soon!  NMVC is open every day from 8:00 am – 2:00 pm.
URL:https://northmountainvisitorcenter.org/event/botanical-art-permanent-display-seeds-foundation-of-life-hope-for-the-future-5/
LOCATION:North Mountain Visitor Center\, 12950 North 7th Street\, Phoenix\, AZ\, 85022\, United States
CATEGORIES:Education
END:VEVENT
BEGIN:VEVENT
DTSTART;TZID=America/Phoenix:20251101T103000
DTEND;TZID=America/Phoenix:20251101T120000
DTSTAMP:20260423T164731
CREATED:20250928T162251Z
LAST-MODIFIED:20250928T162251Z
UID:3507-1761993000-1761998400@northmountainvisitorcenter.org
SUMMARY:Rattlesnake Garage
DESCRIPTION:Rattlesnake Garage is one of the Save Our Mountains Foundation’s signature events.  Learn what to do if you encounter a rattlesnake. Rattlesnake garage is a real-time presentation with live snakes in an enclosed arena and hosted by professional snake handler Mark Hindle. This family-friendly presentation happens once a month\, so please keep checking back for future dates. \nLocation: North Mountain Visitor Center\, 12950 N. 7th St. Phoenix\, AZ 85022 \n \n \nPROCEEDS GO TO FEEDING THE CREATURES \nFollow them on Facebook & Instragram @rattlesnakegarage
URL:https://northmountainvisitorcenter.org/event/rattlesnake-garage-23/
LOCATION:North Mountain Visitor Center\, 12950 North 7th Street\, Phoenix\, AZ\, 85022\, United States
CATEGORIES:Snake
END:VEVENT
BEGIN:VEVENT
DTSTART;TZID=America/Phoenix:20251103T183000
DTEND;TZID=America/Phoenix:20251103T210000
DTSTAMP:20260423T164731
CREATED:20250318T205147Z
LAST-MODIFIED:20250318T205147Z
UID:3120-1762194600-1762203600@northmountainvisitorcenter.org
SUMMARY:Phoenix Mountains Preservation Council\, Inc. Board of Directors Meeting
DESCRIPTION:Phoenix Mountains Preservation Council\, Inc. (PMPC) monthly meetings of the Board of Directors are open to the public. \nPMPC invites everyone to attend and learn more about the original nonprofit organization that lead the race to save the desert open spaces since its inception in 1970. \nPMPC is dedicated to preserving select desert areas to ensure that natural open space remains in our greater city area.  These Preserves guarantee that our way of life remains connected to nature and a wonderfully fascinating\, yet delicate\, environment is kept easily available to all our citizens.
URL:https://northmountainvisitorcenter.org/event/phoenix-mountains-preservation-council-inc-board-of-directors-meeting-8/
LOCATION:North Mountain Visitor Center\, 12950 North 7th Street\, Phoenix\, AZ\, 85022\, United States
CATEGORIES:Meeting
END:VEVENT
BEGIN:VEVENT
DTSTART;TZID=America/Phoenix:20251108T100000
DTEND;TZID=America/Phoenix:20251108T120000
DTSTAMP:20260423T164731
CREATED:20250429T235923Z
LAST-MODIFIED:20250429T235923Z
UID:3209-1762596000-1762603200@northmountainvisitorcenter.org
SUMMARY:Phoenix Old Time Music Society
DESCRIPTION:Please join us for our open Old-Time Jam Sessions at North Mountain Visitor Center (NMVC). Players of all ages and ability come together in the time-honored tradition of gathering and playing music. \n​We encourage acoustical instruments to share in these traditional tunes. Fiddles\, dulcimers\, banjos\, guitars\, harps\, accordions\, mandolins\, dobros\, zithers\, upright bass\, Irish whistles\, flutes\, bodhrans\, rhythm bones\, spoons\, and more. \nAll are welcome  \nWe have been gathering around the Valley sharing tunes and songs for over 20 years. We play a mix of traditional fiddle tunes\, Appalachian Mountain music\, Canadian\, Irish & Scottish tunes (jigs\, polkas\, reels\, waltzes\, hornpipes) and more.
URL:https://northmountainvisitorcenter.org/event/phoenix-old-time-music-society-9/
LOCATION:North Mountain Visitor Center\, 12950 North 7th Street\, Phoenix\, AZ\, 85022\, United States
CATEGORIES:Music
END:VEVENT
END:VCALENDAR