BEGIN:VCALENDAR
VERSION:2.0
PRODID:-//North Mountain Visitor Center - ECPv6.13.2.1//NONSGML v1.0//EN
CALSCALE:GREGORIAN
METHOD:PUBLISH
X-ORIGINAL-URL:https://northmountainvisitorcenter.org
X-WR-CALDESC:Events for North Mountain Visitor Center
REFRESH-INTERVAL;VALUE=DURATION:PT1H
X-Robots-Tag:noindex
X-PUBLISHED-TTL:PT1H
BEGIN:VTIMEZONE
TZID:America/Phoenix
BEGIN:STANDARD
TZOFFSETFROM:-0700
TZOFFSETTO:-0700
TZNAME:MST
DTSTART:20250101T000000
END:STANDARD
END:VTIMEZONE
BEGIN:VEVENT
DTSTART;TZID=America/Phoenix:20251201T080000
DTEND;TZID=America/Phoenix:20251201T140000
DTSTAMP:20260423T151053
CREATED:20250527T220429Z
LAST-MODIFIED:20250527T220429Z
UID:3284-1764576000-1764597600@northmountainvisitorcenter.org
SUMMARY:BOTANICAL ART PERMANENT DISPLAY: SEEDS – Foundation of Life\, Hope for the Future
DESCRIPTION:Presented by the: \n \nMany of us are familiar with the old proverb\, “From a tiny acorn a mighty oak grows.”  True\, but consider Saguaro\, King of the Sonoran Desert.  Its tiny seeds\, 1-1.5mm\, can develop into a forty-foot giant. Supporting these tiny power houses are the fruits which come in a variety of shapes and sizes providing the nurturing environment for the seeds to develop. \nCome visit the North Mountain Visitor Center (NMVC) and view an exquisite display of botanical illustrations created by members of the Southwest Society of Botanical Artists (SWSBA).  This display serves to educate us all in the variety and power of some of our Sonoran Desert plants and their miniscule foundation. \nBeautiful illustrations and descriptions await your visit!  This permanent display can be viewed every day during our open hours of operation. \nNMVC also has a permanent exhibit of scientific illustrations of plants found in the preserve\, largely illustrated by SWSBA members. Come visit soon!  NMVC is open every day from 8:00 am – 2:00 pm.
URL:https://northmountainvisitorcenter.org/event/botanical-art-permanent-display-seeds-foundation-of-life-hope-for-the-future-6/
LOCATION:North Mountain Visitor Center\, 12950 North 7th Street\, Phoenix\, AZ\, 85022\, United States
CATEGORIES:Education
END:VEVENT
BEGIN:VEVENT
DTSTART;TZID=America/Phoenix:20251201T183000
DTEND;TZID=America/Phoenix:20251201T210000
DTSTAMP:20260423T151053
CREATED:20250318T205327Z
LAST-MODIFIED:20250318T205327Z
UID:3122-1764613800-1764622800@northmountainvisitorcenter.org
SUMMARY:Phoenix Mountains Preservation Council\, Inc. Board of Directors Meeting
DESCRIPTION:Phoenix Mountains Preservation Council\, Inc. (PMPC) monthly meetings of the Board of Directors are open to the public. \nPMPC invites everyone to attend and learn more about the original nonprofit organization that lead the race to save the desert open spaces since its inception in 1970. \nPMPC is dedicated to preserving select desert areas to ensure that natural open space remains in our greater city area.  These Preserves guarantee that our way of life remains connected to nature and a wonderfully fascinating\, yet delicate\, environment is kept easily available to all our citizens.
URL:https://northmountainvisitorcenter.org/event/phoenix-mountains-preservation-council-inc-board-of-directors-meeting-9/
LOCATION:North Mountain Visitor Center\, 12950 North 7th Street\, Phoenix\, AZ\, 85022\, United States
CATEGORIES:Meeting
END:VEVENT
BEGIN:VEVENT
DTSTART;TZID=America/Phoenix:20251206T103000
DTEND;TZID=America/Phoenix:20251206T120000
DTSTAMP:20260423T151053
CREATED:20250928T162732Z
LAST-MODIFIED:20250928T162732Z
UID:3509-1765017000-1765022400@northmountainvisitorcenter.org
SUMMARY:Rattlesnake Garage
DESCRIPTION:Rattlesnake Garage is one of the Save Our Mountains Foundation’s signature events.  Learn what to do if you encounter a rattlesnake. Rattlesnake garage is a real-time presentation with live snakes in an enclosed arena and hosted by professional snake handler Mark Hindle. This family-friendly presentation happens once a month\, so please keep checking back for future dates. \nLocation: North Mountain Visitor Center\, 12950 N. 7th St. Phoenix\, AZ 85022 \n \n \nPROCEEDS GO TO FEEDING THE CREATURES \nFollow them on Facebook & Instragram @rattlesnakegarage \n\n 
URL:https://northmountainvisitorcenter.org/event/rattlesnake-garage-24/
LOCATION:North Mountain Visitor Center\, 12950 North 7th Street\, Phoenix\, AZ\, 85022\, United States
CATEGORIES:Snake
END:VEVENT
BEGIN:VEVENT
DTSTART;TZID=America/Phoenix:20251213T080000
DTEND;TZID=America/Phoenix:20251213T170000
DTSTAMP:20260423T151053
CREATED:20250311T225725Z
LAST-MODIFIED:20250311T225725Z
UID:3090-1765612800-1765645200@northmountainvisitorcenter.org
SUMMARY:CAMRA Wilderness First Aid Class
DESCRIPTION:Come to North Mountain Visitor Center this weekend for a Wilderness First Aid Class taught by the Central Arizona Mountain Rescue Association (CAMRA)\, Maricopa County’s Mountain Rescue Team!  Tickets\, class information and cost are available here: www.mountainrescue.org/medical-training \nClass is December 13 & 14\, 8am-5pm. Please bring a sack lunch and be prepared for a jam-packed schedule with tons of scenarios and hands on experience! \nThe Wilderness First Aid certification is an entry-level course for wilderness medicine. It is highly recommended for anyone who spends time in the backcountry. Whether you are planning on leading a multi-day trip or even a day hiker who wants to be prepared for anything that may come up. Skiers\, kayakers\, mountain bikers\, climbers\, and campers… everyone can benefit from this training! \nWFA courses are offered throughout the year. If you are interested in taking this life saving course another weekend\, please visit www.mountainrescue.org/medical-training for more class dates available.
URL:https://northmountainvisitorcenter.org/event/camra-wilderness-first-aid-class-11/
LOCATION:North Mountain Visitor Center\, 12950 North 7th Street\, Phoenix\, AZ\, 85022\, United States
CATEGORIES:Workshop
END:VEVENT
BEGIN:VEVENT
DTSTART;TZID=America/Phoenix:20251214T080000
DTEND;TZID=America/Phoenix:20251214T170000
DTSTAMP:20260423T151053
CREATED:20250311T225934Z
LAST-MODIFIED:20250311T225934Z
UID:3092-1765699200-1765731600@northmountainvisitorcenter.org
SUMMARY:CAMRA Wilderness First Aid Class
DESCRIPTION:Come to North Mountain Visitor Center this weekend for a Wilderness First Aid Class taught by the Central Arizona Mountain Rescue Association (CAMRA)\, Maricopa County’s Mountain Rescue Team!  Tickets\, class information and cost are available here: www.mountainrescue.org/medical-training \nClass is December 13 & 14\, 8am-5pm. Please bring a sack lunch and be prepared for a jam-packed schedule with tons of scenarios and hands on experience! \nThe Wilderness First Aid certification is an entry-level course for wilderness medicine. It is highly recommended for anyone who spends time in the backcountry. Whether you are planning on leading a multi-day trip or even a day hiker who wants to be prepared for anything that may come up. Skiers\, kayakers\, mountain bikers\, climbers\, and campers… everyone can benefit from this training! \nWFA courses are offered throughout the year. If you are interested in taking this life saving course another weekend\, please visit www.mountainrescue.org/medical-training for more class dates available.
URL:https://northmountainvisitorcenter.org/event/camra-wilderness-first-aid-class-12/
LOCATION:North Mountain Visitor Center\, 12950 North 7th Street\, Phoenix\, AZ\, 85022\, United States
CATEGORIES:Workshop
END:VEVENT
END:VCALENDAR