BEGIN:VCALENDAR
VERSION:2.0
PRODID:-//North Mountain Visitor Center - ECPv6.13.2.1//NONSGML v1.0//EN
CALSCALE:GREGORIAN
METHOD:PUBLISH
X-ORIGINAL-URL:https://northmountainvisitorcenter.org
X-WR-CALDESC:Events for North Mountain Visitor Center
REFRESH-INTERVAL;VALUE=DURATION:PT1H
X-Robots-Tag:noindex
X-PUBLISHED-TTL:PT1H
BEGIN:VTIMEZONE
TZID:America/Phoenix
BEGIN:STANDARD
TZOFFSETFROM:-0700
TZOFFSETTO:-0700
TZNAME:MST
DTSTART:20260101T000000
END:STANDARD
END:VTIMEZONE
BEGIN:VEVENT
DTSTART;TZID=America/Phoenix:20260505T183000
DTEND;TZID=America/Phoenix:20260505T210000
DTSTAMP:20260423T102934
CREATED:20260127T234446Z
LAST-MODIFIED:20260127T234446Z
UID:3673-1778005800-1778014800@northmountainvisitorcenter.org
SUMMARY:Phoenix Mountains Preservation Council\, Inc. Board of Directors Meeting
DESCRIPTION:Phoenix Mountains Preservation Council\, Inc. (PMPC) monthly meetings of the Board of Directors are open to the public. \nPMPC invites everyone to attend and learn more about the original nonprofit organization that lead the race to save the desert open spaces since its inception in 1970. \nPMPC is dedicated to preserving select desert areas to ensure that natural open space remains in our greater city area.  These Preserves guarantee that our way of life remains connected to nature and a wonderfully fascinating\, yet delicate\, environment is kept easily available to all our citizens.
URL:https://northmountainvisitorcenter.org/event/phoenix-mountains-preservation-council-inc-board-of-directors-meeting-13/
LOCATION:North Mountain Visitor Center\, 12950 North 7th Street\, Phoenix\, AZ\, 85022\, United States
CATEGORIES:Meeting
END:VEVENT
BEGIN:VEVENT
DTSTART;TZID=America/Phoenix:20260530T090000
DTEND;TZID=America/Phoenix:20260530T140000
DTSTAMP:20260423T102934
CREATED:20260127T235714Z
LAST-MODIFIED:20260420T000143Z
UID:3680-1780131600-1780149600@northmountainvisitorcenter.org
SUMMARY:NMVC Author's Day - Save the Date
DESCRIPTION:Funds raised at this event directly support Save Our Mountains Foundation\, a 501(c)(3) whose mission is to acquire and preserve land to assist in the expansion of the Phoenix Mountains Preserve.  We support the Mountains Preserve with education\, conservation\, and research as well as maintain operations at the North Mountains Visitor Center\, the Exhibit Hall of the Phoenix Mountains Preserve\, in collaboration with the City of Phoenix.
URL:https://northmountainvisitorcenter.org/event/nmvc-authors-day-save-the-date-2/
LOCATION:North Mountain Visitor Center\, 12950 North 7th Street\, Phoenix\, AZ\, 85022\, United States
END:VEVENT
END:VCALENDAR