BEGIN:VCALENDAR
VERSION:2.0
PRODID:-//North Mountain Visitor Center - ECPv6.13.2.1//NONSGML v1.0//EN
CALSCALE:GREGORIAN
METHOD:PUBLISH
X-ORIGINAL-URL:https://northmountainvisitorcenter.org
X-WR-CALDESC:Events for North Mountain Visitor Center
REFRESH-INTERVAL;VALUE=DURATION:PT1H
X-Robots-Tag:noindex
X-PUBLISHED-TTL:PT1H
BEGIN:VTIMEZONE
TZID:America/Phoenix
BEGIN:STANDARD
TZOFFSETFROM:-0700
TZOFFSETTO:-0700
TZNAME:MST
DTSTART:20250101T000000
END:STANDARD
END:VTIMEZONE
BEGIN:VEVENT
DTSTART;TZID=America/Phoenix:20250718T080000
DTEND;TZID=America/Phoenix:20250718T130000
DTSTAMP:20260424T071135
CREATED:20250624T172114Z
LAST-MODIFIED:20250624T172114Z
UID:3326-1752825600-1752843600@northmountainvisitorcenter.org
SUMMARY:NMVC THURSDAY HIKES: Kachina Trail - Flagstaff
DESCRIPTION:Trailhead Meet Up: July 18\, 2025 at 8 am  \nName of Hike: Kachina Trail  \nLocation: Flagstaff \nLeader(s): Debi Quarry \nLeader Contact: debiquarry@gmail.com\, 602-524 -1433 \nCarpool? (Y/N) Yes  \nCarpool Time & Location: Get in contact with me 48 hours before the hike and I will share your information with others coming. \nHike Distance (estim): 8 miles \nHike Time (estim): 5 hours \nElevation Chg: 2400 ft \nHike Description: This hike is on the west side of the San Francisco Peaks near Arizona SnowBowl and starts at about 9300 ft elevation area.  We hike high on the mountains to avoid the summer heat . The trail crosses several canyons and even descends to a  lava cliff. A dramatic\, cave-like recess in the lava marks where a bed of looser volcanic debris eroded away from denser flow layers above.  Ancient limber pine and massive Douglas-fir dominate the higher elevations and of course aspens are present. Waist-high meadows of bracken fern punctuate the slopes. We will do an in and out hike about 6-8 miles total.  The elevation change is approximately 1\,250 feet . Bring rain gear as it is monsoon season .  \nDrive Instructions: From Flagstaff drive 7 miles on US 180 N and then R at the SnowBowl  FR 156 . Drive approx. 7miles up the mountain and turn right at the sign for Kachina Trail . Lower Parking Lot – new parking lots have been developed since last yr.) Parking for the TH is at the far end . No restrooms at the TH.
URL:https://northmountainvisitorcenter.org/event/nmvc-thursday-hikes-kachina-trail-flagstaff/
CATEGORIES:Hiking
END:VEVENT
END:VCALENDAR