BEGIN:VCALENDAR
VERSION:2.0
PRODID:-//North Mountain Visitor Center - ECPv6.13.2.1//NONSGML v1.0//EN
CALSCALE:GREGORIAN
METHOD:PUBLISH
X-WR-CALNAME:North Mountain Visitor Center
X-ORIGINAL-URL:https://northmountainvisitorcenter.org
X-WR-CALDESC:Events for North Mountain Visitor Center
REFRESH-INTERVAL;VALUE=DURATION:PT1H
X-Robots-Tag:noindex
X-PUBLISHED-TTL:PT1H
BEGIN:VTIMEZONE
TZID:America/Phoenix
BEGIN:STANDARD
TZOFFSETFROM:-0700
TZOFFSETTO:-0700
TZNAME:MST
DTSTART:20240101T000000
END:STANDARD
END:VTIMEZONE
BEGIN:VEVENT
DTSTART;TZID=America/Phoenix:20241019T111500
DTEND;TZID=America/Phoenix:20241019T121500
DTSTAMP:20260424T210515
CREATED:20241001T202805Z
LAST-MODIFIED:20241001T202805Z
UID:2784-1729336500-1729340100@northmountainvisitorcenter.org
SUMMARY:Brown Bag Workshop - Demystifying in the Garden Center
DESCRIPTION:Join us for fascinating facts\, fun\, and fellowship. A workshop pertaining to growing in our climate is being offered at The North Mountain Visitor Center\, 12950 N. 7th Street. Please bring your lunch and enjoy the presentation. This workshop will last about an hour and is free to the public. \nPlease register by sending an e-mail to Cheryl Toloskiewich. cheryltolo@gmail.com. \nDemystifying in the Garden Center presented by a local Master Gardener \n\nHave you ever stared at a wall of products at your favorite garden center and been baffled by the choices and the information on the labels? You are not alone! Come join us as we de-mystify products commonly found in the garden department and show you how to read jargon-filled labels to make you more confident on your next shopping trip or browse through an online store. \n  \nMaster Gardeners are active volunteers for the University of Arizona’s Cooperative Extension.  We provide outreach and education to communities throughout Maricopa County.  Master Gardener volunteers help bring the University’s science-based information on plants\, gardens and landscapes to the public.
URL:https://northmountainvisitorcenter.org/event/brown-bag-workshop-demystifying-in-the-garden-center/
LOCATION:North Mountain Visitor Center\, 12950 North 7th Street\, Phoenix\, AZ\, 85022\, United States
END:VEVENT
END:VCALENDAR