BEGIN:VCALENDAR
VERSION:2.0
PRODID:-//North Mountain Visitor Center - ECPv6.13.2.1//NONSGML v1.0//EN
CALSCALE:GREGORIAN
METHOD:PUBLISH
X-WR-CALNAME:North Mountain Visitor Center
X-ORIGINAL-URL:https://northmountainvisitorcenter.org
X-WR-CALDESC:Events for North Mountain Visitor Center
REFRESH-INTERVAL;VALUE=DURATION:PT1H
X-Robots-Tag:noindex
X-PUBLISHED-TTL:PT1H
BEGIN:VTIMEZONE
TZID:America/Phoenix
BEGIN:STANDARD
TZOFFSETFROM:-0700
TZOFFSETTO:-0700
TZNAME:MST
DTSTART:20240101T000000
END:STANDARD
END:VTIMEZONE
BEGIN:VEVENT
DTSTART;TZID=America/Phoenix:20241116T113000
DTEND;TZID=America/Phoenix:20241116T123000
DTSTAMP:20260424T193000
CREATED:20241026T235858Z
LAST-MODIFIED:20241026T235958Z
UID:2794-1731756600-1731760200@northmountainvisitorcenter.org
SUMMARY:Ask Your Gardening Questions
DESCRIPTION:Want to be more successful gardening in Phoenix?\nSeveral Master Gardeners will be\non hand from\n11:30 A.M. to12:30 P.M.\non November 16th\nto answer your gardening\nquestions and provide\nresources to help you succeed\nin this challenging environment.\nBring your photos\, specimens and/or questions with you!
URL:https://northmountainvisitorcenter.org/event/ask-your-gardening-questions/
LOCATION:North Mountain Visitor Center\, 12950 North 7th Street\, Phoenix\, AZ\, 85022\, United States
END:VEVENT
END:VCALENDAR