BEGIN:VCALENDAR
VERSION:2.0
PRODID:-//North Mountain Visitor Center - ECPv6.13.2.1//NONSGML v1.0//EN
CALSCALE:GREGORIAN
METHOD:PUBLISH
X-WR-CALNAME:North Mountain Visitor Center
X-ORIGINAL-URL:https://northmountainvisitorcenter.org
X-WR-CALDESC:Events for North Mountain Visitor Center
REFRESH-INTERVAL;VALUE=DURATION:PT1H
X-Robots-Tag:noindex
X-PUBLISHED-TTL:PT1H
BEGIN:VTIMEZONE
TZID:America/Phoenix
BEGIN:STANDARD
TZOFFSETFROM:-0700
TZOFFSETTO:-0700
TZNAME:MST
DTSTART:20240101T000000
END:STANDARD
END:VTIMEZONE
BEGIN:VEVENT
DTSTART;TZID=America/Phoenix:20241221T080000
DTEND;TZID=America/Phoenix:20241221T130000
DTSTAMP:20260424T110415
CREATED:20241207T190933Z
LAST-MODIFIED:20241207T190933Z
UID:2818-1734768000-1734786000@northmountainvisitorcenter.org
SUMMARY:Holiday Hike
DESCRIPTION:Join us for a jolly good time at our Holiday Hike on Saturday\, December 21st! We’ve\ngot three short\, easy hikes perfect for all ages. Let’s bask in the delightful Phoenix\nweather and enjoy some festive fun outdoors.\nHike Schedule:\n08:00 AM\n10:00 AM\n12:00 PM \nAll hikes start at the North Mountain Visitor Center front desk. Our medayrry Volunteers\nfrom the Save Our Mountains Foundation will lead the way.\nCome for the hike\, stay for the holiday cheer! \nDonations to Save Our Mountains Foundation are greatly appreciated. \n \nNorth Mountain Visitor Center operated by\nSave Our Mountains Foundation Volunteers\n12950 North 7th Street\nPhoenix\, AZ 85022\n602-343-5125
URL:https://northmountainvisitorcenter.org/event/holiday-hike/
LOCATION:North Mountain Visitor Center\, 12950 North 7th Street\, Phoenix\, AZ\, 85022\, United States
END:VEVENT
END:VCALENDAR