BEGIN:VCALENDAR
VERSION:2.0
PRODID:-//North Mountain Visitor Center - ECPv6.13.2.1//NONSGML v1.0//EN
CALSCALE:GREGORIAN
METHOD:PUBLISH
X-WR-CALNAME:North Mountain Visitor Center
X-ORIGINAL-URL:https://northmountainvisitorcenter.org
X-WR-CALDESC:Events for North Mountain Visitor Center
REFRESH-INTERVAL;VALUE=DURATION:PT1H
X-Robots-Tag:noindex
X-PUBLISHED-TTL:PT1H
BEGIN:VTIMEZONE
TZID:America/Phoenix
BEGIN:STANDARD
TZOFFSETFROM:-0700
TZOFFSETTO:-0700
TZNAME:MST
DTSTART:20250101T000000
END:STANDARD
END:VTIMEZONE
BEGIN:VEVENT
DTSTART;TZID=America/Phoenix:20250102T091500
DTEND;TZID=America/Phoenix:20250102T091500
DTSTAMP:20260424T092309
CREATED:20241230T210946Z
LAST-MODIFIED:20241231T034809Z
UID:2839-1735809300-1735809300@northmountainvisitorcenter.org
SUMMARY:NMVC THURSDAY HIKES: BUENA VISTA TRAILHEAD TO FAT MAN PASS
DESCRIPTION:We’d like to meet everyone at 9:15 at the stone buildings and carpool up from there because\nparking at the TH is limited.\nWe hope to arrive at the TH by 9:40 ish.\nLocation: South Mountain \nHike Leader(s) & Contact(s): Rich rhhiking@hotmail.com or text 602-421-9438\nwww.facebook.com/groups/NMVCHiking \nThose who want to carpool with us can meet in Lowe’s parking lot at I-17 and Thunderbird at 8.\nPark near the garden center. Rich drives a black Ram pickup. Note: the light rail construction\nhas Central Ave. torn up. I would take 7th Ave down to baseline from the I-17 and over to Central\nAve to avoid the construction. Follow Central south into the PARK. Go through to entrance stay\nstraight until you get to the old rock buildings where there is parking on the right\, restrooms\n(only restrooms today) and more parking on the left. Meet everyone there by 9:15. Parking at the\ntrailhead is limited so take just a few cars up. \nEstimated Difficulty: easy/moderate\nEstimated Length in Hours: 3 to 5 (including the drive)\nEstimated Distance in Miles: 5 – round trip \nDescription: This is a lollipop route. We hike to Fat Man Pass\, squeeze through or take a short\ndetour. This is a great photo spot and it’s fun to watch everyone come through the Pass. We\nventure on through Hidden Valley\, down a rockslide\, through a tunnel and then head back up to\ncomplete the loop portion of the lollipop. It’s a fun\, scenic\, popular hike and a must do.\nBring a snack and plenty of water. \n 
URL:https://northmountainvisitorcenter.org/event/holiday-hike-2/
LOCATION:AZ
END:VEVENT
BEGIN:VEVENT
DTSTART;TZID=America/Phoenix:20250109T090000
DTEND;TZID=America/Phoenix:20250109T090000
DTSTAMP:20260424T092309
CREATED:20250104T204534Z
LAST-MODIFIED:20250104T205926Z
UID:2852-1736413200-1736413200@northmountainvisitorcenter.org
SUMMARY:NMVC THURSDAY HIKES: BUTCHER JONES TRAIL
DESCRIPTION:When: Thursday 1/9/2025 9:00 AM\nLocation: Saguaro Lake\nName of Hike: Butcher Jones Trail\nHike Leader: Maya Coffey\, Text or VM to 602-448-7079\, email mayakuipercoffey@gmail.com \nwww.facebook.com/groups/NMVCHiking \nMeet up:  7:30am at NMVC or 9 am at the Trail Head\nEstimated Difficulty: easy to moderate: no significant elevation\nEstimated length in Hours: 3 hours\nEstimated in miles: 5.8 miles\nDescription:\nModerate in and out trail with great views of Saguaro Lake.\nDriving Instructions:\nShea to 87 North. Drive 18 miles to Bush Hwy\, turn right. Drive 0.9 mile to Butcher Jones Beach turn off on the left. Road ends at Butcher Jones Beach. $7 Tonto Pass or America the Beautiful pass required. Bathrooms and Picnic Tables are available. Bring a picnic lunch if you want to eat with the group after the hike.\nPS\nI will be at the trail head at 9 because I may want to stay afterwards
URL:https://northmountainvisitorcenter.org/event/nmvc-thursday-hikes-butcher-jones-trail/
LOCATION:North Mountain Visitor Center\, 12950 North 7th Street\, Phoenix\, AZ\, 85022\, United States
END:VEVENT
BEGIN:VEVENT
DTSTART;TZID=America/Phoenix:20250123T090000
DTEND;TZID=America/Phoenix:20250123T090000
DTSTAMP:20260424T092309
CREATED:20250107T215645Z
LAST-MODIFIED:20250107T215645Z
UID:2872-1737622800-1737622800@northmountainvisitorcenter.org
SUMMARY:NMVC THURSDAY HIKES: Tom's Thumb or Marcus Landslide
DESCRIPTION:Location: Scottsdale \nHike Leader(s): Debi Quarry and Jim Devine: DQ 6025241433 or debi.quarry@gmail.com to ask questions \nhttp://www.facebook.com/groups/NMVCHiking \nMeet up: Tom’s Thumb TH at 9 am. Restroom near the TH \nApproximate Length in Hours: 3-4 \nApproximate Distance in Miles: Tom’s Thumb 5 miles 1400 feet in elevation change Marcus Landslide 4.4 miles 500 feet in change of elevation \nDescription: Unusual rock formations will be seen on this hike. It is steep for the first 1.2 miles but then opens up into a valley with a gentler grade. It is well worth the effort. Or one can do the Marcus Landslide Hike with Jim Devine. A gentle but interesting hike with a vista of sandstone formations. \nDirections: Google it for the best directions.
URL:https://northmountainvisitorcenter.org/event/nmvc-thursday-hikes-toms-thumb-or-marcus-landslide/
LOCATION:AZ
CATEGORIES:Hiking
END:VEVENT
BEGIN:VEVENT
DTSTART;TZID=America/Phoenix:20250130T090000
DTEND;TZID=America/Phoenix:20250130T090000
DTSTAMP:20260424T092309
CREATED:20250107T220515Z
LAST-MODIFIED:20250107T220515Z
UID:2879-1738227600-1738227600@northmountainvisitorcenter.org
SUMMARY:NMVC THURSDAY HIKES: Dixie Mountain Loop
DESCRIPTION:Location: Desert Vista trailhead \nHike Leader: Susan Fournie\, Email: sm4nier841@gmail.com Phone #: 602-320-8964 \nhttp://www.facebook.com/groups/NMVCHiking \nMeet Up: 9:00 am @ Desert Vista trailhead \nEstimated Difficulty: Moderate \nEstimated Length in Hours: 2-3 \nEstimated Distance in Miles/Elevation Change: 4.6 miles with 600′ E/C \nDescription: The hike starts out on Hawk’s Nest trail for approximately .4 mile with 236′ elevation gain. It then connects to the Dixie Mtn. loop trail that is 3.8 miles and 400′ E/C. We will do the hike counterclockwise. The trail can be rocky in spots and what I call rolling in several spots. Has nice views to the east\, north and west as we loop around. There are restrooms at the trailhead. \nDriving Directions: Trailhead is just northeast of I17 and Happy Valley Road. Either take I17 and exit to the right onto Happy Valley Road and go the light at 19th Avenue. Turn left at the light and this becomes N North Valley Pkwy. Head north to W Copperhead and take a right (there is a brown sign for the trailhead); take a left onto N Melvern Trail and a quick right onto W Desert Vista follow to parking area. You can also take 7th Avenue to Happy Valley and turn at 19th Avenue – follow rest of directions to trailhead.
URL:https://northmountainvisitorcenter.org/event/nmvc-thursday-hikes-dixie-mountain-loop/
LOCATION:AZ
CATEGORIES:Hiking
END:VEVENT
END:VCALENDAR