BEGIN:VCALENDAR
VERSION:2.0
PRODID:-//North Mountain Visitor Center - ECPv6.13.2.1//NONSGML v1.0//EN
CALSCALE:GREGORIAN
METHOD:PUBLISH
X-WR-CALNAME:North Mountain Visitor Center
X-ORIGINAL-URL:https://northmountainvisitorcenter.org
X-WR-CALDESC:Events for North Mountain Visitor Center
REFRESH-INTERVAL;VALUE=DURATION:PT1H
X-Robots-Tag:noindex
X-PUBLISHED-TTL:PT1H
BEGIN:VTIMEZONE
TZID:America/Phoenix
BEGIN:STANDARD
TZOFFSETFROM:-0700
TZOFFSETTO:-0700
TZNAME:MST
DTSTART:20250101T000000
END:STANDARD
END:VTIMEZONE
BEGIN:VEVENT
DTSTART;TZID=America/Phoenix:20250802T120000
DTEND;TZID=America/Phoenix:20250802T133000
DTSTAMP:20260423T221531
CREATED:20250429T233847Z
LAST-MODIFIED:20250913T170354Z
UID:3197-1754136000-1754141400@northmountainvisitorcenter.org
SUMMARY:Rattlesnake Garage
DESCRIPTION:Rattlesnake Garage is one of the Save Our Mountains Foundation’s signature events.  Learn what to do if you encounter a rattlesnake. Rattlesnake garage is a real-time presentation with live snakes in an enclosed arena and hosted by professional snake handler Mark Hindle. This family-friendly presentation happens once a month\, so please keep checking back for future dates. \nLocation: North Mountain Visitor Center\, 12950 N. 7th St. Phoenix\, AZ 85022 \n \n\nQuestions? Call us at 602-343-5125
URL:https://northmountainvisitorcenter.org/event/rattlesnake-garage-20/
LOCATION:North Mountain Visitor Center\, 12950 North 7th Street\, Phoenix\, AZ\, 85022\, United States
CATEGORIES:Snake
END:VEVENT
BEGIN:VEVENT
DTSTART;TZID=America/Phoenix:20250807T060000
DTEND;TZID=America/Phoenix:20250807T080000
DTSTAMP:20260423T221531
CREATED:20250729T231512Z
LAST-MODIFIED:20250729T231512Z
UID:3394-1754546400-1754553600@northmountainvisitorcenter.org
SUMMARY:NMVC THURSDAY HIKES: Apache Wash
DESCRIPTION:Name of Hike: Apache Wash \nLocation: 1600 E Sonoran Desert Dr. \nTrailhead Meet Up Date: 8/7/2025 \nTrailhead Meet Up Time: 6:00:00 AM \nLeader(s): Billie & Neil \nLeader Contact: Text Billie 602-361-0276 \nCarpool? (Y/N) No \nCarpool Time & Location: NA \nHike Distance (estim): 4 miles miles \nHike Time (estim): 2 hours \nElevation Chg (approx ft\, optional): ft \nHike Description: A nice flattish\, scenic tour of our splendid desert. \nDrive Instructions: Google the TH. It depends upon which area you’re coming from. Easy to find.
URL:https://northmountainvisitorcenter.org/event/nmvc-thursday-hikes-apache-wash/
LOCATION:AZ
CATEGORIES:Hiking
END:VEVENT
BEGIN:VEVENT
DTSTART;TZID=America/Phoenix:20250814T060000
DTEND;TZID=America/Phoenix:20250814T080000
DTSTAMP:20260423T221531
CREATED:20250729T232044Z
LAST-MODIFIED:20250729T232044Z
UID:3398-1755151200-1755158400@northmountainvisitorcenter.org
SUMMARY:NMVC THURSDAY HIKES: Lost Dog Wash Trailhead
DESCRIPTION:Name of Hike: Lost Dog Wash Trailhead \nLocation: 12601 N 124th St\, Scottsdale\, AZ 85259 \nTrailhead Meet Up Date: 8/14/2025 \nTrailhead Meet Up Time: 6:00:00 AM \nLeader(s): Jeremy Weingast  \nLeader Contact: (860) 729-8468 \nCarpool? (Y/N): No \nCarpool Time & Location: NA \nHike Distance (estim): 4 miles miles \nHike Time (estim): 2 hours \nElevation Chg (approx ft\, optional): ft \nHike Description: Restrooms available and plenty of parking \nDrive Instructions: From the 101\, go 5 miles east on Shea then north on 124th St past Anasazi School
URL:https://northmountainvisitorcenter.org/event/nmvc-thursday-hikes-lost-dog-wash-trailhead/
LOCATION:AZ
CATEGORIES:Hiking
END:VEVENT
BEGIN:VEVENT
DTSTART;TZID=America/Phoenix:20250815T090000
DTEND;TZID=America/Phoenix:20250815T120000
DTSTAMP:20260423T221531
CREATED:20250729T232636Z
LAST-MODIFIED:20250729T232636Z
UID:3401-1755248400-1755259200@northmountainvisitorcenter.org
SUMMARY:NMVC THURSDAY HIKES: Iron Springs to Crystal Point
DESCRIPTION:Name of Hike: Iron Springs to Crystal Point \nLocation: Munds park \nTrailhead Meet Up Date: 8/15/2025 \nTrailhead Meet Up Time: 9:00:00 AM \nLeader(s): Jan Donnelly \nLeader Contact: 602/505-9450 \nCarpool? (Y/N): Yes \nCarpool Time & Location: Denny’s parking lot\, east side. 2717 W Bell Rd\, Phoenix\, AZ 85053 \nHike Distance (estim): 7 miles \nHike Time (estim): 3 hours \nElevation Chg (approx ft\, optional): ft \nHike Description: We will meet at the iron springs trailhead in Munds park. From there\, we will hike through the pines\, cross Mormon Lake Road and head up to Crystal Point. We will then hike down towards Odell Lake\, ending at my cabin. You are then invited to have lunch/beverages on my deck. \n\nIf you would like to carpool\, let me know at least 48 hours in advance so I can share your names with other drivers from phoenix.  \nDrive Instructions: Drive north on I17 to exit 322 (Munds Park). Turn RT onto Pinewood Blvd. You will pass the post office and make a Lt on Fairway Dr. In .2 miles\, turn Rt on E Oak Dr. In another mile turn Lt onto Iron Springs Rd and follow it to the trailhead.  \n 
URL:https://northmountainvisitorcenter.org/event/nmvc-thursday-hikes-iron-springs-to-crystal-point/
LOCATION:AZ
CATEGORIES:Hiking
END:VEVENT
BEGIN:VEVENT
DTSTART;TZID=America/Phoenix:20250821T060000
DTEND;TZID=America/Phoenix:20250821T080000
DTSTAMP:20260423T221531
CREATED:20250729T233040Z
LAST-MODIFIED:20250729T233040Z
UID:3404-1755756000-1755763200@northmountainvisitorcenter.org
SUMMARY:NMVC THURSDAY HIKES: Pima/Dyn
DESCRIPTION:Name of Hike: Pima/Dyn \nLocation: Pima/Dynamite trailhead. \nTrailhead Meet Up Date: 8/21/2025 \nTrailhead Meet Up Time: 6:00:00 AM \nLeader(s): Billie & Neil \nLeader Contact: Text Billie 602-361-0276 \nCarpool? (Y/N): No \nCarpool Time & Location: NA \nHike Distance (estim): 4 miles \nHike Time (estim): 2 hrs \nElevation Chg (approx ft\, optional): ft \nHike Description: We’ve been out pre-hiking again and have mapped a 4 mile loop you will enjoy. \nDrive Instructions: 101 to Pima\, North to Dynamite rt to Pima/Dyn TH sign on the left.
URL:https://northmountainvisitorcenter.org/event/nmvc-thursday-hikes-pima-dyn/
LOCATION:AZ
CATEGORIES:Hiking
END:VEVENT
BEGIN:VEVENT
DTSTART;TZID=America/Phoenix:20250823T080000
DTEND;TZID=America/Phoenix:20250823T170000
DTSTAMP:20260423T221531
CREATED:20250311T224618Z
LAST-MODIFIED:20250311T224618Z
UID:3082-1755936000-1755968400@northmountainvisitorcenter.org
SUMMARY:CAMRA Wilderness First Aid Class
DESCRIPTION:Come to North Mountain Visitor Center this weekend for a Wilderness First Aid Class taught by the Central Arizona Mountain Rescue Association (CAMRA)\, Maricopa County’s Mountain Rescue Team!  Tickets\, class information and cost are available here: www.mountainrescue.org/medical-training \nClass is August 23 & 24\, 8am-5pm. Please bring a sack lunch and be prepared for a jam-packed schedule with tons of scenarios and hands-on experience! \nThe Wilderness First Aid certification is an entry-level course for wilderness medicine. It is highly recommended for anyone who spends time in the backcountry. Whether you are planning on leading a multi-day trip or even a day hiker who wants to be prepared for anything that may come up. Skiers\, kayakers\, mountain bikers\, climbers\, and campers… everyone can benefit from this training! \nWFA courses are offered throughout the year. If you are interested in taking this life saving course another weekend\, please visit www.mountainrescue.org/medical-training for more class dates available.
URL:https://northmountainvisitorcenter.org/event/camra-wilderness-first-aid-class-7/
LOCATION:North Mountain Visitor Center\, 12950 North 7th Street\, Phoenix\, AZ\, 85022\, United States
CATEGORIES:Workshop
END:VEVENT
BEGIN:VEVENT
DTSTART;TZID=America/Phoenix:20250824T080000
DTEND;TZID=America/Phoenix:20250824T170000
DTSTAMP:20260423T221531
CREATED:20250311T224923Z
LAST-MODIFIED:20250311T224923Z
UID:3084-1756022400-1756054800@northmountainvisitorcenter.org
SUMMARY:CAMRA Wilderness First Aid Class
DESCRIPTION:Come to North Mountain Visitor Center this weekend for a Wilderness First Aid Class taught by the Central Arizona Mountain Rescue Association (CAMRA)\, Maricopa County’s Mountain Rescue Team!  Tickets\, class information and cost are available here: www.mountainrescue.org/medical-training \nClass is August 23 & 24\, 8am-5pm. Please bring a sack lunch and be prepared for a jam-packed schedule with tons of scenarios and hands-on experience! \nThe Wilderness First Aid certification is an entry-level course for wilderness medicine. It is highly recommended for anyone who spends time in the backcountry. Whether you are planning on leading a multi-day trip or even a day hiker who wants to be prepared for anything that may come up. Skiers\, kayakers\, mountain bikers\, climbers\, and campers… everyone can benefit from this training! \nWFA courses are offered throughout the year. If you are interested in taking this life saving course another weekend\, please visit www.mountainrescue.org/medical-training for more class dates available.
URL:https://northmountainvisitorcenter.org/event/camra-wilderness-first-aid-class-8/
LOCATION:North Mountain Visitor Center\, 12950 North 7th Street\, Phoenix\, AZ\, 85022\, United States
CATEGORIES:Workshop
END:VEVENT
BEGIN:VEVENT
DTSTART;TZID=America/Phoenix:20250828T060000
DTEND;TZID=America/Phoenix:20250828T080000
DTSTAMP:20260423T221531
CREATED:20250729T233513Z
LAST-MODIFIED:20250729T233513Z
UID:3407-1756360800-1756368000@northmountainvisitorcenter.org
SUMMARY:NMVC THURSDAY HIKES: 40th St Trailhead at Phoenix Mountain Preserve
DESCRIPTION:Name of Hike: 40th St Trailhead at Phoenix Mountain Preserve \nLocation: 9200 N 40th St\, Phoenix\, AZ 85028 \nTrailhead Meet Up Date: 8/28/2025 \nTrailhead Meet Up Time: 6:00:00 AM \nLeader(s): Karen Twyning \nLeader Contact: 262-903-8012 \nCarpool? (Y/N): No \nCarpool Time & Location: NA \nHike Distance (estim): 4 miles miles \nHike Time (estim): 2 hours \nElevation Chg (approx ft\, optional): ft \nHike Description: restrooms available\, flat loop  \nDrive Instructions: From the 51 go east on Shea and south on 40th St
URL:https://northmountainvisitorcenter.org/event/nmvc-thursday-hikes-40th-st-trailhead-at-phoenix-mountain-preserve/
LOCATION:AZ
CATEGORIES:Hiking
END:VEVENT
END:VCALENDAR