BEGIN:VCALENDAR
VERSION:2.0
PRODID:-//North Mountain Visitor Center - ECPv6.13.2.1//NONSGML v1.0//EN
CALSCALE:GREGORIAN
METHOD:PUBLISH
X-WR-CALNAME:North Mountain Visitor Center
X-ORIGINAL-URL:https://northmountainvisitorcenter.org
X-WR-CALDESC:Events for North Mountain Visitor Center
REFRESH-INTERVAL;VALUE=DURATION:PT1H
X-Robots-Tag:noindex
X-PUBLISHED-TTL:PT1H
BEGIN:VTIMEZONE
TZID:America/Phoenix
BEGIN:STANDARD
TZOFFSETFROM:-0700
TZOFFSETTO:-0700
TZNAME:MST
DTSTART:20250101T000000
END:STANDARD
END:VTIMEZONE
BEGIN:VEVENT
DTSTART;TZID=America/Phoenix:20250529T053000
DTEND;TZID=America/Phoenix:20250529T090000
DTSTAMP:20260424T071830
CREATED:20250429T225222Z
LAST-MODIFIED:20250429T225222Z
UID:3176-1748496600-1748509200@northmountainvisitorcenter.org
SUMMARY:NMVC THURSDAY HIKES: Scenic Trail
DESCRIPTION:Name of Hike: Scenic Trail \nWhen: Thursday\, 05/29/25 7:00 at TH OR meet at NMVC to carpool at 5:45 AM \nLocation: McDowell Mt. Park\, Fountain Hills \nName of Hike: Scenic Trail \nHike Leader(s) & Contact(s): Neil & Billie text for info 602-361-0276 or shakemat4@yahoo.com \nMeet Up: 7:00 Pemberton Trail Head at McD. Mt. Park Or NMVC at 5:45.  Please text Billie if you plan to carpool or meet at TH. \nEstimated Difficulty: easy \nEstimated Length in Hours: 2 \nEstimated Distance in Miles: 4 to 4.5 \nDescription: An interesting lollipop configuration beginning and ending on the Pemberton Trail/Scenic Trail junction. We’ll enjoy a gradual ascent to a ridgeline where we’ll have great views to the East. \nDriving Instructions:  Shea Blvd to Palisades. Left and follow Pal. all the way to Fountain Hills Blvd. Left on McDowell Mt. Rd 3.6 mi then left onto McD. Mt Park Drive.  Pay $7.00 per car at the gate Ask for directions to the Pemberton TH.  Restrooms at TH.
URL:https://northmountainvisitorcenter.org/event/nmvc-thursday-hikes-scenic-trail/
LOCATION:North Mountain Visitor Center\, 12950 North 7th Street\, Phoenix\, AZ\, 85022\, United States
CATEGORIES:Hiking
END:VEVENT
END:VCALENDAR