BEGIN:VCALENDAR
VERSION:2.0
PRODID:-//North Mountain Visitor Center - ECPv6.13.2.1//NONSGML v1.0//EN
CALSCALE:GREGORIAN
METHOD:PUBLISH
X-ORIGINAL-URL:https://northmountainvisitorcenter.org
X-WR-CALDESC:Events for North Mountain Visitor Center
REFRESH-INTERVAL;VALUE=DURATION:PT1H
X-Robots-Tag:noindex
X-PUBLISHED-TTL:PT1H
BEGIN:VTIMEZONE
TZID:America/Phoenix
BEGIN:STANDARD
TZOFFSETFROM:-0700
TZOFFSETTO:-0700
TZNAME:MST
DTSTART:20250101T000000
END:STANDARD
END:VTIMEZONE
BEGIN:VEVENT
DTSTART;TZID=America/Phoenix:20251106T080000
DTEND;TZID=America/Phoenix:20251106T120000
DTSTAMP:20260423T215625
CREATED:20251028T192401Z
LAST-MODIFIED:20251028T192401Z
UID:3547-1762416000-1762430400@northmountainvisitorcenter.org
SUMMARY:NMVC THURSDAY HIKES: Hawknest Trail / Axle Grease
DESCRIPTION:Name of Hike: Hawknest Trail / Axle Grease  \nLocation: Scottsdale McDowell Sonoran Preserve\, Pima and Dynamite TH  \nTrailhead Meet Up Date: 11/6/2025  \nTrailhead Meet Up Time: 8:00 AM  \nLeader(s): Debi Quarry  \nLeader Contact: DQ: 602 524 1433  \nCarpool? (Y/N) Yes  \nCarpool Time & Location: Contact Debi 48 Hrs ahead and she will share your # with others who are interested.  \nHike Distance (estim): 6.8 miles  \nHike Time (estim): 4  \nElevation Chg (approx ft\, optional): ft  \nHike Description: Rolling hills make this trail interesting along with Goldeneye plants that should still be in bloom.  Full leafed out ocotillos and eroded boulders (one looks like a duck) and fat saguaros line the trail.  We start on Hawknest to Hackmore and return via Axle Grease / Rock Tank (which was full on the pre hike) back to Hawknest  \nDrive Instructions: Check Google for quickest route to Pima Rd / Dynamite. TH.  Traffic and construction in the area. If coming from the visitor center get on the 101 exit\, Scottsdale Rd R on Dynamite L just past Pima into parking lot. 
URL:https://northmountainvisitorcenter.org/event/nmvc-thursday-hikes-hawknest-trail-axle-grease/
CATEGORIES:Hiking
END:VEVENT
END:VCALENDAR