BEGIN:VCALENDAR
VERSION:2.0
PRODID:-//North Mountain Visitor Center - ECPv6.13.2.1//NONSGML v1.0//EN
CALSCALE:GREGORIAN
METHOD:PUBLISH
X-WR-CALNAME:North Mountain Visitor Center
X-ORIGINAL-URL:https://northmountainvisitorcenter.org
X-WR-CALDESC:Events for North Mountain Visitor Center
REFRESH-INTERVAL;VALUE=DURATION:PT1H
X-Robots-Tag:noindex
X-PUBLISHED-TTL:PT1H
BEGIN:VTIMEZONE
TZID:America/Phoenix
BEGIN:STANDARD
TZOFFSETFROM:-0700
TZOFFSETTO:-0700
TZNAME:MST
DTSTART:20250101T000000
END:STANDARD
END:VTIMEZONE
BEGIN:VEVENT
DTSTART;TZID=America/Phoenix:20250620T080000
DTEND;TZID=America/Phoenix:20250620T140000
DTSTAMP:20260424T091457
CREATED:20250527T224804Z
LAST-MODIFIED:20250527T224804Z
UID:3303-1750406400-1750428000@northmountainvisitorcenter.org
SUMMARY:NMVC THURSDAY HIKES: To Humphrey’s Saddle 
DESCRIPTION:When:  Friday June 20th\, 8:00 AM  \nName of Hike: To Humphrey’s Saddle \nHike Leader(s): Debi and Steve Quarry 602524-1433 debi.quarry@gmail.com \nLocation:  Flagstaff \nMeet Up (when & where):  At the corner of Snowball Rd and 180 at 8 am. We will carpool up to the first parking lot or if the road is open to the second parking lot we will drive there. This will cut off some elevation and length.  A plus for us all.  \nAs always carpooling can be arranged if you let me know 48 hrs ahead your phone #. I will share it with anyone who also wants to carpool.  \nEstimated Difficulty: Difficult due to altitude (starting at 9\,000 feet) and a change in elevation of about 2\,500 feet  \nEstimated Length in Hours:  5-6 hours  \nEstimated Distance in Miles: 6 miles  \nDescription:  The trail goes through a lovely ponderosa forest but is rocky and has exposed roots in many spots. If you use poles bring them. We are going in June to avoid the monsoon season but bring rain gear anyway. Be sure to bring food so we can eat at the saddle where the views will be pleasant.    \nThis hike was requested by one of our members and if you are up for the challenge\, I am sure we will have fun and have bragging rights after it is done.  The hike is limited to 7-10 people so RSVP. I will start a waiting list if need be. \nDriving Instructions:  I-17 to Flagstaff\, then drive through town and turn L on 180 to Snowball Rd. \nPark on the left side of the Snowball Rd near the corner.
URL:https://northmountainvisitorcenter.org/event/nmvc-thursday-hikes-to-humphreys-saddle/
CATEGORIES:Hiking
END:VEVENT
END:VCALENDAR