BEGIN:VCALENDAR
VERSION:2.0
PRODID:-//North Mountain Visitor Center - ECPv6.13.2.1//NONSGML v1.0//EN
CALSCALE:GREGORIAN
METHOD:PUBLISH
X-ORIGINAL-URL:https://northmountainvisitorcenter.org
X-WR-CALDESC:Events for North Mountain Visitor Center
REFRESH-INTERVAL;VALUE=DURATION:PT1H
X-Robots-Tag:noindex
X-PUBLISHED-TTL:PT1H
BEGIN:VTIMEZONE
TZID:America/Phoenix
BEGIN:STANDARD
TZOFFSETFROM:-0700
TZOFFSETTO:-0700
TZNAME:MST
DTSTART:20240101T000000
END:STANDARD
END:VTIMEZONE
BEGIN:VEVENT
DTSTART;TZID=America/Phoenix:20240203T110000
DTEND;TZID=America/Phoenix:20240203T120000
DTSTAMP:20260425T042348
CREATED:20240127T171731Z
LAST-MODIFIED:20240127T171731Z
UID:2682-1706958000-1706961600@northmountainvisitorcenter.org
SUMMARY:The National Register of Historic Places Process Talk
DESCRIPTION:Dear Local Historians\,\n\n\nYou are invited to hear Bill Collins from the Arizona State Historic Preservation Office speak about the National Register of Historic Places. Do you know of a property you think has historic value? Tell us about it at this speaking event. All are welcome that want to learn about the National Register of Historic Places process. It is a free event for everyone! So come on down and learn how to preserve history with us!
URL:https://northmountainvisitorcenter.org/event/the-national-register-of-historic-places-process-talk/
LOCATION:North Mountain Visitor Center\, 12950 North 7th Street\, Phoenix\, AZ\, 85022\, United States
END:VEVENT
BEGIN:VEVENT
DTSTART;TZID=America/Phoenix:20240217T090000
DTEND;TZID=America/Phoenix:20240217T110000
DTSTAMP:20260425T042348
CREATED:20240216T000127Z
LAST-MODIFIED:20240216T000127Z
UID:2691-1708160400-1708167600@northmountainvisitorcenter.org
SUMMARY:Live Music at the Coffee House
DESCRIPTION:Welcome to Coffee House Saturdays at the North Mountain Visitor Center (NMVC)\, 12950 North 7th Street MAP every third Saturday of the month. We feature coffee from 9:00 a.m. to 11:00 a.m. generously donated from Save Our Mountains Foundation and other local brew houses. We also have wonderful breakfast snack items to purchase in our Exhibit Hall gift shop plus free snack items from donations from local donors\, the proceeds of all sales and donations go to help with the operation of the NMVC. Admission is always free. \nFebruary’s event features Half Way Home with James Sallis. Stop by for free coffee and music. Donations to Save Our Mountains Foundation are always welcome.
URL:https://northmountainvisitorcenter.org/event/live-music-at-the-coffee-house-11/
LOCATION:North Mountain Visitor Center\, 12950 North 7th Street\, Phoenix\, AZ\, 85022\, United States
CATEGORIES:Coffee House
END:VEVENT
BEGIN:VEVENT
DTSTART;TZID=America/Phoenix:20240224T183000
DTEND;TZID=America/Phoenix:20240224T203000
DTSTAMP:20260425T042348
CREATED:20240216T000607Z
LAST-MODIFIED:20240216T000607Z
UID:2693-1708799400-1708806600@northmountainvisitorcenter.org
SUMMARY:Astronomy Night
DESCRIPTION:Join us for one of Save Our Mountains Foundation’s (SOMF) signature monthly events. Astronomy Night at North Mountain Visitor Center is family-friendly and out of this world! Local school principal\, astronomy enthusiast\, and SOMF at NMVC volunteer Jeff Geyer leads this community event. See the stars and planets through provided high-powered telescopes. You’re encouraged to bring your own telescopes and chairs too. Meet in the parking lot by the ramada across from the North Mountain Visitor Center. This event is free\, but donations to Save Our Mountains Foundation are greatly appreciated. See info graphic above for additional dates. \nEvent subject to cancellation depending on cloud cover and weather. Please check social media the day of the event for updates. \nQuestions? Call us at 602-343-5125.
URL:https://northmountainvisitorcenter.org/event/astronomy-night-3/
LOCATION:North Mountain Visitor Center\, 12950 North 7th Street\, Phoenix\, AZ\, 85022\, United States
END:VEVENT
END:VCALENDAR