BEGIN:VCALENDAR
VERSION:2.0
PRODID:-//North Mountain Visitor Center - ECPv6.13.2.1//NONSGML v1.0//EN
CALSCALE:GREGORIAN
METHOD:PUBLISH
X-WR-CALNAME:North Mountain Visitor Center
X-ORIGINAL-URL:https://northmountainvisitorcenter.org
X-WR-CALDESC:Events for North Mountain Visitor Center
REFRESH-INTERVAL;VALUE=DURATION:PT1H
X-Robots-Tag:noindex
X-PUBLISHED-TTL:PT1H
BEGIN:VTIMEZONE
TZID:America/Phoenix
BEGIN:STANDARD
TZOFFSETFROM:-0700
TZOFFSETTO:-0700
TZNAME:MST
DTSTART:20250101T000000
END:STANDARD
END:VTIMEZONE
BEGIN:VEVENT
DTSTART;TZID=America/Phoenix:20250901T080000
DTEND;TZID=America/Phoenix:20250901T140000
DTSTAMP:20260423T205146
CREATED:20250527T215314Z
LAST-MODIFIED:20250527T215314Z
UID:3277-1756713600-1756735200@northmountainvisitorcenter.org
SUMMARY:BOTANICAL ART PERMANENT DISPLAY: SEEDS – Foundation of Life\, Hope for the Future
DESCRIPTION:Presented by the: \n \nMany of us are familiar with the old proverb\, “From a tiny acorn a mighty oak grows.”  True\, but consider Saguaro\, King of the Sonoran Desert.  Its tiny seeds\, 1-1.5mm\, can develop into a forty-foot giant. Supporting these tiny power houses are the fruits which come in a variety of shapes and sizes providing the nurturing environment for the seeds to develop. \nCome visit the North Mountain Visitor Center (NMVC) and view an exquisite display of botanical illustrations created by members of the Southwest Society of Botanical Artists (SWSBA).  This display serves to educate us all in the variety and power of some of our Sonoran Desert plants and their miniscule foundation. \nBeautiful illustrations and descriptions await your visit!  This permanent display can be viewed every day during our open hours of operation. \nNMVC also has a permanent exhibit of scientific illustrations of plants found in the preserve\, largely illustrated by SWSBA members. Come visit soon!  NMVC is open every day from 8:00 am – 2:00 pm.
URL:https://northmountainvisitorcenter.org/event/botanical-art-permanent-display-seeds-foundation-of-life-hope-for-the-future-3/
LOCATION:North Mountain Visitor Center\, 12950 North 7th Street\, Phoenix\, AZ\, 85022\, United States
CATEGORIES:Education
END:VEVENT
BEGIN:VEVENT
DTSTART;TZID=America/Phoenix:20250901T183000
DTEND;TZID=America/Phoenix:20250901T210000
DTSTAMP:20260423T205146
CREATED:20250318T204808Z
LAST-MODIFIED:20250318T204808Z
UID:3116-1756751400-1756760400@northmountainvisitorcenter.org
SUMMARY:Phoenix Mountains Preservation Council\, Inc. Board of Directors Meeting
DESCRIPTION:Phoenix Mountains Preservation Council\, Inc. (PMPC) monthly meetings of the Board of Directors are open to the public. \nPMPC invites everyone to attend and learn more about the original nonprofit organization that lead the race to save the desert open spaces since its inception in 1970. \nPMPC is dedicated to preserving select desert areas to ensure that natural open space remains in our greater city area.  These Preserves guarantee that our way of life remains connected to nature and a wonderfully fascinating\, yet delicate\, environment is kept easily available to all our citizens.
URL:https://northmountainvisitorcenter.org/event/phoenix-mountains-preservation-council-inc-board-of-directors-meeting-6/
LOCATION:North Mountain Visitor Center\, 12950 North 7th Street\, Phoenix\, AZ\, 85022\, United States
CATEGORIES:Meeting
END:VEVENT
BEGIN:VEVENT
DTSTART;TZID=America/Phoenix:20250913T100000
DTEND;TZID=America/Phoenix:20250913T120000
DTSTAMP:20260423T205146
CREATED:20250429T235645Z
LAST-MODIFIED:20250429T235645Z
UID:3207-1757757600-1757764800@northmountainvisitorcenter.org
SUMMARY:Phoenix Old Time Music Society
DESCRIPTION:Please join us for our open Old-Time Jam Sessions at North Mountain Visitor Center (NMVC). Players of all ages and ability come together in the time-honored tradition of gathering and playing music. \n​We encourage acoustical instruments to share in these traditional tunes. Fiddles\, dulcimers\, banjos\, guitars\, harps\, accordions\, mandolins\, dobros\, zithers\, upright bass\, Irish whistles\, flutes\, bodhrans\, rhythm bones\, spoons\, and more. \nAll are welcome  \nWe have been gathering around the Valley sharing tunes and songs for over 20 years. We play a mix of traditional fiddle tunes\, Appalachian Mountain music\, Canadian\, Irish & Scottish tunes (jigs\, polkas\, reels\, waltzes\, hornpipes) and more.
URL:https://northmountainvisitorcenter.org/event/phoenix-old-time-music-society-8/
LOCATION:North Mountain Visitor Center\, 12950 North 7th Street\, Phoenix\, AZ\, 85022\, United States
CATEGORIES:Music
END:VEVENT
BEGIN:VEVENT
DTSTART;TZID=America/Phoenix:20250918T060000
DTEND;TZID=America/Phoenix:20250918T080000
DTSTAMP:20260423T205146
CREATED:20250828T234619Z
LAST-MODIFIED:20250828T234619Z
UID:3440-1758175200-1758182400@northmountainvisitorcenter.org
SUMMARY:NMVC THURSDAY HIKES: Phoenix Mt. Preserve Ridgeline
DESCRIPTION:  \n \nName of Hike: Phoenix Mt. Preserve Ridgeline  \nLocation: NMVC \nTrailhead Meet Up Date: 9/18/2025 \nTrailhead Meet Up Time: 6:00 AM \nLeader(s): Billie & Neil  \nLeader Contact: Billie shakemat4@yahoo.com. 602-361-0276  \nCarpool? (Y/N) No \nCarpool Time & Location: NA \nHike Distance (estim): 4 miles miles \nHike Time (estim): 2 hours \nElevation Chg (approx ft\, optional): ft \nHike Description: We will head East through the tunnel and go up a Ridgeline Trail that is rocky and a touch steep\, or since its a loop hike\, we may decide to go down that trail. We haven’t taken the group there but we pre-hiked it and it’s doable even for me\, Billie  \nDrive Instructions: 7th St. South of Thunderbird 
URL:https://northmountainvisitorcenter.org/event/nmvc-thursday-hikes-phoenix-mt-preserve-ridgeline/
LOCATION:North Mountain Visitor Center\, 12950 North 7th Street\, Phoenix\, AZ\, 85022\, United States
CATEGORIES:Hiking
END:VEVENT
BEGIN:VEVENT
DTSTART;TZID=America/Phoenix:20250920T090000
DTEND;TZID=America/Phoenix:20250920T110000
DTSTAMP:20260423T205146
CREATED:20250520T232115Z
LAST-MODIFIED:20250831T175225Z
UID:3245-1758358800-1758366000@northmountainvisitorcenter.org
SUMMARY:Coffee House Saturdays with live music – Performance by SUGARJAM BAND
DESCRIPTION:  \n \nSugarJam Band is passionate about all genres of music and the transformative power it has on people’s lives. We believe that music is a universal language\, capable of inspiring and uplifting people from all walks of life.\nThe band is comprised of seasoned players who have fun on stage and connect with their audience. \n \nCoffee House Saturdays occurs every third and fourth Saturday of the month at the North Mountain Visitor Center (NMVC) located at 12950 North 7th Street in Phoenix. \nFree hot coffee\, refreshments and live music offered from 9 AM to 11 AM. \nAdmission is always free. \nDonations to Save Our Mountains Foundation (501c3) are always welcome. Any purchases made at our gift shop go toward supporting facility operations and our nonprofit’s mission of protecting the preserve for future generations. \nCall 602-343-5125 with any questions.
URL:https://northmountainvisitorcenter.org/event/coffee-house-saturdays-with-live-music-performance-by-millie/
LOCATION:North Mountain Visitor Center\, 12950 North 7th Street\, Phoenix\, AZ\, 85022\, United States
CATEGORIES:Music
END:VEVENT
BEGIN:VEVENT
DTSTART;TZID=America/Phoenix:20250925T060000
DTEND;TZID=America/Phoenix:20250925T080000
DTSTAMP:20260423T205146
CREATED:20250828T234948Z
LAST-MODIFIED:20250828T234948Z
UID:3443-1758780000-1758787200@northmountainvisitorcenter.org
SUMMARY:NMVC THURSDAY HIKES: Southern Loop from NMVC
DESCRIPTION:Name of Hike: Southern Loop from NMVC \nLocation: 12950 N 7th St\, Phoenix\, AZ 85022 \nTrailhead Meet Up Date: 9/25/2025 \nTrailhead Meet Up Time: 6:00:00 AM \nLeader(s): Rich Hesch \nLeader Contact: (602) 421-9438 \nCarpool? (Y/N) No \nCarpool Time & Location: \nHike Distance (estim): 4 miles miles \nHike Time (estim): 2 hours \nElevation Chg (approx ft\, optional): ft \nHike Description: easy southern loop starting at NMVC \nDrive Instructions: Parking lot with bathrooms south of 7th St & Thunderbird
URL:https://northmountainvisitorcenter.org/event/nmvc-thursday-hikes-southern-loop-from-nmvc/
LOCATION:North Mountain Visitor Center\, 12950 North 7th Street\, Phoenix\, AZ\, 85022\, United States
CATEGORIES:Hiking
END:VEVENT
BEGIN:VEVENT
DTSTART;TZID=America/Phoenix:20250927T090000
DTEND;TZID=America/Phoenix:20250927T110000
DTSTAMP:20260423T205146
CREATED:20250808T205129Z
LAST-MODIFIED:20250831T175534Z
UID:3412-1758963600-1758970800@northmountainvisitorcenter.org
SUMMARY:Coffee House Saturdays with live music – Performance by PETER AND SAL PALAZZO
DESCRIPTION:Peter and Sal Palazzo are brothers that have been performing together for 6 years at various venues in the Valley of the Sun and back home in Rhode Island. They are known for their soft rock\, folk and\, as with many family performers\, their natural harmonies.\nWhile taking a slight hiatus from performing in early 2025\, Peter and Sal are happy to be back performing! \n \nCoffee House Saturdays occurs every third and fourth Saturday of the month at the North Mountain Visitor Center (NMVC) located at 12950 North 7th Street in Phoenix. \nFree hot coffee\, refreshments and live music offered from 9 AM to 11 AM. \nAdmission is always free. \nDonations to Save Our Mountains Foundation (501c3) are always welcome. Any purchases made at our gift shop go toward supporting facility operations and our nonprofit’s mission of protecting the preserve for future generations. \nCall 602-343-5125 with any questions.
URL:https://northmountainvisitorcenter.org/event/coffee-house-saturdays-with-live-music-performance-by-peter-and-sal-palazzo/
LOCATION:North Mountain Visitor Center\, 12950 North 7th Street\, Phoenix\, AZ\, 85022\, United States
CATEGORIES:Coffee House
END:VEVENT
END:VCALENDAR