BEGIN:VCALENDAR
VERSION:2.0
PRODID:-//North Mountain Visitor Center - ECPv6.13.2.1//NONSGML v1.0//EN
CALSCALE:GREGORIAN
METHOD:PUBLISH
X-WR-CALNAME:North Mountain Visitor Center
X-ORIGINAL-URL:https://northmountainvisitorcenter.org
X-WR-CALDESC:Events for North Mountain Visitor Center
REFRESH-INTERVAL;VALUE=DURATION:PT1H
X-Robots-Tag:noindex
X-PUBLISHED-TTL:PT1H
BEGIN:VTIMEZONE
TZID:America/Phoenix
BEGIN:STANDARD
TZOFFSETFROM:-0700
TZOFFSETTO:-0700
TZNAME:MST
DTSTART:20260101T000000
END:STANDARD
END:VTIMEZONE
BEGIN:VEVENT
DTSTART;TZID=America/Phoenix:20260103T103000
DTEND;TZID=America/Phoenix:20260103T120000
DTSTAMP:20260423T135507
CREATED:20250928T163102Z
LAST-MODIFIED:20250928T163102Z
UID:3511-1767436200-1767441600@northmountainvisitorcenter.org
SUMMARY:Rattlesnake Garage
DESCRIPTION:Rattlesnake Garage is one of the Save Our Mountains Foundation’s signature events.  Learn what to do if you encounter a rattlesnake. Rattlesnake garage is a real-time presentation with live snakes in an enclosed arena and hosted by professional snake handler Mark Hindle. This family-friendly presentation happens once a month\, so please keep checking back for future dates. \nLocation: North Mountain Visitor Center\, 12950 N. 7th St. Phoenix\, AZ 85022 \n \n \nPROCEEDS GO TO FEEDING THE CREATURES \nFollow them on Facebook & Instragram @rattlesnakegarage
URL:https://northmountainvisitorcenter.org/event/rattlesnake-garage-25/
LOCATION:North Mountain Visitor Center\, 12950 North 7th Street\, Phoenix\, AZ\, 85022\, United States
CATEGORIES:Snake
END:VEVENT
BEGIN:VEVENT
DTSTART;TZID=America/Phoenix:20260110T100000
DTEND;TZID=America/Phoenix:20260110T120000
DTSTAMP:20260423T135507
CREATED:20260106T234958Z
LAST-MODIFIED:20260106T234958Z
UID:3634-1768039200-1768046400@northmountainvisitorcenter.org
SUMMARY:Phoenix Old Time Music Society
DESCRIPTION:Please join us for our open Old-Time Jam Sessions at North Mountain Visitor Center (NMVC). Players of all ages and ability come together in the time-honored tradition of gathering and playing music. \n​We encourage acoustical instruments to share in these traditional tunes. Fiddles\, dulcimers\, banjos\, guitars\, harps\, accordions\, mandolins\, dobros\, zithers\, upright bass\, Irish whistles\, flutes\, bodhrans\, rhythm bones\, spoons\, and more. \nAll are welcome  \nWe have been gathering around the Valley sharing tunes and songs for over 20 years. We play a mix of traditional fiddle tunes\, Appalachian Mountain music\, Canadian\, Irish & Scottish tunes (jigs\, polkas\, reels\, waltzes\, hornpipes) and more.
URL:https://northmountainvisitorcenter.org/event/phoenix-old-time-music-society-12/
LOCATION:North Mountain Visitor Center\, 12950 North 7th Street\, Phoenix\, AZ\, 85022\, United States
CATEGORIES:Music
END:VEVENT
BEGIN:VEVENT
DTSTART;TZID=America/Phoenix:20260115T090000
DTEND;TZID=America/Phoenix:20260115T113000
DTSTAMP:20260423T135507
CREATED:20251223T200229Z
LAST-MODIFIED:20251223T200229Z
UID:3604-1768467600-1768476600@northmountainvisitorcenter.org
SUMMARY:NMVC THURSDAY HIKES: Quartz Ridge
DESCRIPTION:Name of Hike: Quartz Ridge  \nLocation: Quartz Ridge  \nTrailhead Meet Up Date: 1/15/2026  \nTrailhead Meet Up Time: 9:30 AM  \nLeader(s): Diana Cook  \nLeader Contact: 602-908-4116  \nCarpool? (Y/N) Yes  \nCarpool Time & Location: NMVC  9 am  \nHike Distance (estim): 4.5 miles  \nHike Time (estim): 2 hours  \nElevation Chg (approx ft\, optional): ft  \nHike Description: Beautiful quartz\, cacti and mountain scenery.  \nDrive Instructions: Take Palo Christi Road (aka 36th street) north from Lincoln Drive about a mile up the hill. You will come to cars parked on the side of the road before a sign saying no parking beyond this point. This is where we will meet up. There are no restrooms. 
URL:https://northmountainvisitorcenter.org/event/nmvc-thursday-hikes-quartz-ridge/
LOCATION:North Mountain Visitor Center\, 12950 North 7th Street\, Phoenix\, AZ\, 85022\, United States
CATEGORIES:Hiking
END:VEVENT
BEGIN:VEVENT
DTSTART;TZID=America/Phoenix:20260117T090000
DTEND;TZID=America/Phoenix:20260117T110000
DTSTAMP:20260423T135507
CREATED:20251230T201646Z
LAST-MODIFIED:20251230T202252Z
UID:3614-1768640400-1768647600@northmountainvisitorcenter.org
SUMMARY:Coffee House Saturdays with live music – Performance by Nancy Elliott
DESCRIPTION:“Hard to believe I have been playing music and performing for 50 years. I started playing organ with my Mom. When I got my first guitar I was off and running\, playing campfires and pig roasts\, weddings and backyard parties. My older friends would get me into bars so I could sit in with the bands. I played the folk houses in Dayton\, resorts and lodges in Geneva\, and from here to there in California and Texas. Arizona is where I fell in with the Western crowd\, playing the same music I had been writing and singing for years. I now have my own little genre called South~Western Americana. I hope you enjoy the songs\, stories and poetry.” \nCoffee House Saturdays occurs every third and fourth Saturday of the month at the North Mountain Visitor Center (NMVC) located at 12950 North 7th Street in Phoenix. \nFree hot coffee\, refreshments and live music offered from 9 AM to 11 AM. \nAdmission is always free. \n \nDonations to Save Our Mountains Foundation (501c3) are always welcome. Any purchases made at our gift shop go toward supporting facility operations and our nonprofit’s mission of protecting the preserve for future generations. \nCall 602-343-5125 with any questions.
URL:https://northmountainvisitorcenter.org/event/coffee-house-saturdays-with-live-music-performance-by-nancy-elliott-2/
LOCATION:North Mountain Visitor Center\, 12950 North 7th Street\, Phoenix\, AZ\, 85022\, United States
CATEGORIES:Music
END:VEVENT
BEGIN:VEVENT
DTSTART;TZID=America/Phoenix:20260117T113000
DTEND;TZID=America/Phoenix:20260117T143000
DTSTAMP:20260423T135507
CREATED:20251209T200400Z
LAST-MODIFIED:20251230T203947Z
UID:3589-1768649400-1768660200@northmountainvisitorcenter.org
SUMMARY:Nature Sketching Workshop - BROWN BAG WORKSHOP
DESCRIPTION:Connect with your creative spirit! \nNATURE SKETCHING WORKSHOP \nNorth Mountain Visitor Center (Education Room) Ages 18+ \nPlease bring your lunch to enjoy during the\npresentation portion of this workshop. The presentation is free to the public\nexcept for a small charge for supplies if needed. Please see below. \nIn this hands-on workshop\, you will capture the beauty of nature through sketching.  Sketch landscapes\, skies\, plants and animals from observation. Part of the workshop will be outdoors\, so dress appropriately\, bring water\, and feel free to bring whatever would help you be comfortable such as a folding camp stool. Bring your own sketching supplies (no oil or acrylic paints or toxic art supplies) or purchase a mini sketchbook and colored pencil set from the instructor for $5 (Venmo or cash exact change). All experience levels are welcome. \nFor questions about the workshop or to request a sketching kit\, please contact Rosa at: www.rosaphoenix.com \nDonations made to Save Our Mountains Foundation are greatly\nappreciated. Your donations to SOMF are used to maintain operations\nof the North Mountain Visitor Center and to purchase land to improve\nand expand our beautiful mountains preserve. \n \n 
URL:https://northmountainvisitorcenter.org/event/nature-sketching-workshop-brown-bag-workshop/
LOCATION:North Mountain Visitor Center\, 12950 North 7th Street\, Phoenix\, AZ\, 85022\, United States
CATEGORIES:Workshop
END:VEVENT
BEGIN:VEVENT
DTSTART;TZID=America/Phoenix:20260124T090000
DTEND;TZID=America/Phoenix:20260124T110000
DTSTAMP:20260423T135507
CREATED:20251230T202225Z
LAST-MODIFIED:20251230T202225Z
UID:3616-1769245200-1769252400@northmountainvisitorcenter.org
SUMMARY:Coffee House Saturdays with live music – Performance by Big Bug Creek
DESCRIPTION:Coffee House Saturdays occurs every third and fourth Saturday of the month at the North Mountain Visitor Center (NMVC) located at 12950 North 7th Street in Phoenix. \nFree hot coffee\, refreshments and live music offered from 9 AM to 11 AM. \nAdmission is always free. \n \nDonations to Save Our Mountains Foundation (501c3) are always welcome. Any purchases made at our gift shop go toward supporting facility operations and our nonprofit’s mission of protecting the preserve for future generations. \nCall 602-343-5125 with any questions. \n 
URL:https://northmountainvisitorcenter.org/event/coffee-house-saturdays-with-live-music-performance-by-big-bug-creek/
LOCATION:North Mountain Visitor Center\, 12950 North 7th Street\, Phoenix\, AZ\, 85022\, United States
CATEGORIES:Music
END:VEVENT
BEGIN:VEVENT
DTSTART;TZID=America/Phoenix:20260129T093000
DTEND;TZID=America/Phoenix:20260129T110000
DTSTAMP:20260423T135507
CREATED:20251223T201443Z
LAST-MODIFIED:20251223T201443Z
UID:3609-1769679000-1769684400@northmountainvisitorcenter.org
SUMMARY:NMVC THURSDAY HIKES: Trail 100 from the NMVC
DESCRIPTION:Name of Hike: Trail 100 from the NMVC   \nLocation: 12950 N 7th St Phoenix Az 85022  \nTrailhead Meet Up Date: 1/29/2026  \nTrailhead Meet Up Time: 9:30 AM  \nLeader(s): Debi Quarry  \nLeader Contact: debiquarry@gmail.com.   602 5241433  \nCarpool? (Y/N) No  \nCarpool Time & Location:  \nHike Distance (estim): 3 miles  \nHike Time (estim): 1 1/2 hrs  \nElevation Chg (approx ft\, optional): ft  \nHike Description: This is the day of the Holiday Party for our group so the hike is short so we can party on. We head east from the Visitor Center through the tunnel and climb a small ridge on Tr 100.  Turning back to the visitors center we take a unmarked trail that is gentle and winding. \nDrive Instructions: 12950 N 7th St Phoenix on 7th St south of Thunderbird 
URL:https://northmountainvisitorcenter.org/event/nmvc-thursday-hikes-trail-100-from-the-nmvc/
LOCATION:North Mountain Visitor Center\, 12950 North 7th Street\, Phoenix\, AZ\, 85022\, United States
CATEGORIES:Hiking
END:VEVENT
END:VCALENDAR