BEGIN:VCALENDAR
VERSION:2.0
PRODID:-//North Mountain Visitor Center - ECPv6.13.2.1//NONSGML v1.0//EN
CALSCALE:GREGORIAN
METHOD:PUBLISH
X-ORIGINAL-URL:https://northmountainvisitorcenter.org
X-WR-CALDESC:Events for North Mountain Visitor Center
REFRESH-INTERVAL;VALUE=DURATION:PT1H
X-Robots-Tag:noindex
X-PUBLISHED-TTL:PT1H
BEGIN:VTIMEZONE
TZID:America/Phoenix
BEGIN:STANDARD
TZOFFSETFROM:-0700
TZOFFSETTO:-0700
TZNAME:MST
DTSTART:20240101T000000
END:STANDARD
END:VTIMEZONE
BEGIN:VEVENT
DTSTART;TZID=America/Phoenix:20241214T183000
DTEND;TZID=America/Phoenix:20241214T203000
DTSTAMP:20260424T155337
CREATED:20240930T000906Z
LAST-MODIFIED:20240930T000906Z
UID:2777-1734201000-1734208200@northmountainvisitorcenter.org
SUMMARY:Astronomy Night
DESCRIPTION:Join us for one of Save Our Mountains Foundation’s (SOMF) signature monthly events. Astronomy Night at North Mountain Visitor Center is family-friendly and out of this world! Local school principal\, astronomy enthusiast\, and SOMF at NMVC volunteer Jeff Geyer leads this community event. See the stars and planets through provided high-powered telescopes. You’re encouraged to bring your own telescopes and chairs too. Meet in the parking lot by the ramada across from the North Mountain Visitor Center. This event is free\, but donations to Save Our Mountains Foundation are greatly appreciated. \nIn case of inclement weather or cloudy skies\, the event will be rescheduled! \nQuestions? Call us at 602-343-5125.
URL:https://northmountainvisitorcenter.org/event/astronomy-night-6/
LOCATION:North Mountain Visitor Center\, 12950 North 7th Street\, Phoenix\, AZ\, 85022\, United States
END:VEVENT
BEGIN:VEVENT
DTSTART;TZID=America/Phoenix:20241221T080000
DTEND;TZID=America/Phoenix:20241221T130000
DTSTAMP:20260424T155337
CREATED:20241207T190933Z
LAST-MODIFIED:20241207T190933Z
UID:2818-1734768000-1734786000@northmountainvisitorcenter.org
SUMMARY:Holiday Hike
DESCRIPTION:Join us for a jolly good time at our Holiday Hike on Saturday\, December 21st! We’ve\ngot three short\, easy hikes perfect for all ages. Let’s bask in the delightful Phoenix\nweather and enjoy some festive fun outdoors.\nHike Schedule:\n08:00 AM\n10:00 AM\n12:00 PM \nAll hikes start at the North Mountain Visitor Center front desk. Our medayrry Volunteers\nfrom the Save Our Mountains Foundation will lead the way.\nCome for the hike\, stay for the holiday cheer! \nDonations to Save Our Mountains Foundation are greatly appreciated. \n \nNorth Mountain Visitor Center operated by\nSave Our Mountains Foundation Volunteers\n12950 North 7th Street\nPhoenix\, AZ 85022\n602-343-5125
URL:https://northmountainvisitorcenter.org/event/holiday-hike/
LOCATION:North Mountain Visitor Center\, 12950 North 7th Street\, Phoenix\, AZ\, 85022\, United States
END:VEVENT
BEGIN:VEVENT
DTSTART;TZID=America/Phoenix:20241221T090000
DTEND;TZID=America/Phoenix:20241221T140000
DTSTAMP:20260424T155337
CREATED:20241207T191606Z
LAST-MODIFIED:20241207T191606Z
UID:2821-1734771600-1734789600@northmountainvisitorcenter.org
SUMMARY:NMVC BLOOD DRIVE
DESCRIPTION:On Saturday\, December 21st\, from 9 A.M. to 2 P.M.\, there will be a Blood Drive at North\nMountain Visitor Center in the Education Room. For more information or to schedule an\nappointment\, please call 1-800-733-2767 or visit redcrossblood.org and use sponsor code:\nnorthmountainvisitorcenter or visit Schedule a Blood\, Platelet or Plasma Donation | American\nRed Cross
URL:https://northmountainvisitorcenter.org/event/2748-2/
LOCATION:North Mountain Visitor Center\, 12950 North 7th Street\, Phoenix\, AZ\, 85022\, United States
END:VEVENT
END:VCALENDAR