BEGIN:VCALENDAR
VERSION:2.0
PRODID:-//North Mountain Visitor Center - ECPv6.13.2.1//NONSGML v1.0//EN
CALSCALE:GREGORIAN
METHOD:PUBLISH
X-WR-CALNAME:North Mountain Visitor Center
X-ORIGINAL-URL:https://northmountainvisitorcenter.org
X-WR-CALDESC:Events for North Mountain Visitor Center
REFRESH-INTERVAL;VALUE=DURATION:PT1H
X-Robots-Tag:noindex
X-PUBLISHED-TTL:PT1H
BEGIN:VTIMEZONE
TZID:America/Phoenix
BEGIN:STANDARD
TZOFFSETFROM:-0700
TZOFFSETTO:-0700
TZNAME:MST
DTSTART:20250101T000000
END:STANDARD
END:VTIMEZONE
BEGIN:VEVENT
DTSTART;TZID=America/Phoenix:20250102T091500
DTEND;TZID=America/Phoenix:20250102T091500
DTSTAMP:20260424T140415
CREATED:20241230T210946Z
LAST-MODIFIED:20241231T034809Z
UID:2839-1735809300-1735809300@northmountainvisitorcenter.org
SUMMARY:NMVC THURSDAY HIKES: BUENA VISTA TRAILHEAD TO FAT MAN PASS
DESCRIPTION:We’d like to meet everyone at 9:15 at the stone buildings and carpool up from there because\nparking at the TH is limited.\nWe hope to arrive at the TH by 9:40 ish.\nLocation: South Mountain \nHike Leader(s) & Contact(s): Rich rhhiking@hotmail.com or text 602-421-9438\nwww.facebook.com/groups/NMVCHiking \nThose who want to carpool with us can meet in Lowe’s parking lot at I-17 and Thunderbird at 8.\nPark near the garden center. Rich drives a black Ram pickup. Note: the light rail construction\nhas Central Ave. torn up. I would take 7th Ave down to baseline from the I-17 and over to Central\nAve to avoid the construction. Follow Central south into the PARK. Go through to entrance stay\nstraight until you get to the old rock buildings where there is parking on the right\, restrooms\n(only restrooms today) and more parking on the left. Meet everyone there by 9:15. Parking at the\ntrailhead is limited so take just a few cars up. \nEstimated Difficulty: easy/moderate\nEstimated Length in Hours: 3 to 5 (including the drive)\nEstimated Distance in Miles: 5 – round trip \nDescription: This is a lollipop route. We hike to Fat Man Pass\, squeeze through or take a short\ndetour. This is a great photo spot and it’s fun to watch everyone come through the Pass. We\nventure on through Hidden Valley\, down a rockslide\, through a tunnel and then head back up to\ncomplete the loop portion of the lollipop. It’s a fun\, scenic\, popular hike and a must do.\nBring a snack and plenty of water. \n 
URL:https://northmountainvisitorcenter.org/event/holiday-hike-2/
LOCATION:AZ
END:VEVENT
END:VCALENDAR