BEGIN:VCALENDAR
VERSION:2.0
PRODID:-//North Mountain Visitor Center - ECPv6.13.2.1//NONSGML v1.0//EN
CALSCALE:GREGORIAN
METHOD:PUBLISH
X-ORIGINAL-URL:https://northmountainvisitorcenter.org
X-WR-CALDESC:Events for North Mountain Visitor Center
REFRESH-INTERVAL;VALUE=DURATION:PT1H
X-Robots-Tag:noindex
X-PUBLISHED-TTL:PT1H
BEGIN:VTIMEZONE
TZID:America/Phoenix
BEGIN:STANDARD
TZOFFSETFROM:-0700
TZOFFSETTO:-0700
TZNAME:MST
DTSTART:20250101T000000
END:STANDARD
END:VTIMEZONE
BEGIN:VEVENT
DTSTART;TZID=America/Phoenix:20250405T100000
DTEND;TZID=America/Phoenix:20250405T120000
DTSTAMP:20260424T091655
CREATED:20250225T212526Z
LAST-MODIFIED:20250225T212947Z
UID:3037-1743847200-1743854400@northmountainvisitorcenter.org
SUMMARY:NORTH MOUNTAIN VISITOR CENTER: New Volunteer Workshop - Informational Overview
DESCRIPTION:If you would like to attend the workshops\, please register to cheryltolo@gmail.com by Friday\, March 28\, 2025. \nOur next New Volunteer Workshops are scheduled for Saturday\, April 5\, 2025\, at 10:00 A.M. and Wednesday\, April 9\, 2025\, at 5:30 P.M.  Both are mandatory and are held at the Visitor Center.
URL:https://northmountainvisitorcenter.org/event/north-mountain-visitor-center-new-volunteer-workshop-3/
LOCATION:North Mountain Visitor Center\, 12950 North 7th Street\, Phoenix\, AZ\, 85022\, United States
CATEGORIES:Workshop
END:VEVENT
BEGIN:VEVENT
DTSTART;TZID=America/Phoenix:20250406T120000
DTEND;TZID=America/Phoenix:20250406T133000
DTSTAMP:20260424T091655
CREATED:20250204T225011Z
LAST-MODIFIED:20250913T170441Z
UID:2979-1743940800-1743946200@northmountainvisitorcenter.org
SUMMARY:Rattlesnake Garage
DESCRIPTION:  \nRattlesnake Garage is one of the Save Our Mountains Foundation’s signature events.  Learn what to do if you encounter a rattlesnake. Rattlesnake garage is a real-time presentation with live snakes in an enclosed arena and hosted by professional snake handler Mark Hindle. This free family-friendly presentation happens once a month\, so please keep checking back for future dates. Donations to Save Our Mountains Foundation are greatly appreciated. \nLocation: North Mountain Visitor Center\, 12950 N. 7th St. Phoenix\, AZ 85022 \nQuestions? Call us at 602-343-5125
URL:https://northmountainvisitorcenter.org/event/rattlesnake-garage-16/
LOCATION:North Mountain Visitor Center\, 12950 North 7th Street\, Phoenix\, AZ\, 85022\, United States
CATEGORIES:Snake
END:VEVENT
BEGIN:VEVENT
DTSTART;TZID=America/Phoenix:20250407T183000
DTEND;TZID=America/Phoenix:20250407T210000
DTSTAMP:20260424T091655
CREATED:20250318T200209Z
LAST-MODIFIED:20250318T205414Z
UID:3099-1744050600-1744059600@northmountainvisitorcenter.org
SUMMARY:Phoenix Mountains Preservation Council\, Inc. Board of Directors Meeting
DESCRIPTION:Phoenix Mountains Preservation Council\, Inc. (PMPC) monthly meetings of the Board of Directors are open to the public. \nPMPC invites everyone to attend and learn more about the original nonprofit organization that lead the race to save the desert open spaces since its inception in 1970. \nPMPC is dedicated to preserving select desert areas to ensure that natural open space remains in our greater city area.  These Preserves guarantee that our way of life remains connected to nature and a wonderfully fascinating\, yet delicate\, environment is kept easily available to all our citizens. \n \n 
URL:https://northmountainvisitorcenter.org/event/phoenix-mountains-preservation-council-inc-board-of-directors-meeting/
LOCATION:North Mountain Visitor Center\, 12950 North 7th Street\, Phoenix\, AZ\, 85022\, United States
CATEGORIES:Meeting
END:VEVENT
BEGIN:VEVENT
DTSTART;TZID=America/Phoenix:20250409T173000
DTEND;TZID=America/Phoenix:20250409T183000
DTSTAMP:20260424T091655
CREATED:20250225T212859Z
LAST-MODIFIED:20250225T212859Z
UID:3039-1744219800-1744223400@northmountainvisitorcenter.org
SUMMARY:NORTH MOUNTAIN VISITOR CENTER: New Volunteer Workshop - Front Desk Training
DESCRIPTION:If you would like to attend the workshops\, please register to cheryltolo@gmail.com by Friday\, March 28\, 2025. \nOur next New Volunteer Workshops are scheduled for Saturday\, April 5\, 2025\, at 10:00 A.M. and Wednesday\, April 9\, 2025\, at 5:30 P.M.  Both are mandatory and are held at the Visitor Center.
URL:https://northmountainvisitorcenter.org/event/north-mountain-visitor-center-new-volunteer-workshop-front-desk-training/
LOCATION:North Mountain Visitor Center\, 12950 North 7th Street\, Phoenix\, AZ\, 85022\, United States
CATEGORIES:Workshop
END:VEVENT
BEGIN:VEVENT
DTSTART;TZID=America/Phoenix:20250417T073000
DTEND;TZID=America/Phoenix:20250417T120000
DTSTAMP:20260424T091655
CREATED:20250401T003254Z
LAST-MODIFIED:20250401T003254Z
UID:3147-1744875000-1744891200@northmountainvisitorcenter.org
SUMMARY:NMVC THURSDAY HIKES: Lynx Creek Ruins
DESCRIPTION:Name of Hike: Lynx Creek Ruins \nWhen: Thursday\,  Apr. 17\, 2025  7:30 AM \nLocation: Lynx Lake\, Prescott \nHike Leader(s) & contact information: Neil & Billie  B-  shakemat4@yahoo.com  602-361-0276 \nMeet Up:  To carpool: NMVC 7:30 AM (Please let Billie know if you wish to carpool) \nor Trail Head at 9:00 \nEstimated Difficulty: easy\, moderate \nEstimated Length in Hours: 3 \nEstimated Distance in Miles: 5 to 6 \nDescription: From the Trail Head we will visit the ruins and then retrace our steps a bit and begin a scenic hike with views of the Bradshaw Mts. and the flowing creek. \nDriving Instructions: I-17 to E  State route 69 to Prescott\, 15 miles to Walker Rd (light) Turn left 1.4 mi. Turn left onto S Lynx Creek Rd .2 mi TH is on the left
URL:https://northmountainvisitorcenter.org/event/nmvc-thursday-hikes-lynx-creek-ruins/
LOCATION:North Mountain Visitor Center\, 12950 North 7th Street\, Phoenix\, AZ\, 85022\, United States
CATEGORIES:Hiking
END:VEVENT
BEGIN:VEVENT
DTSTART;TZID=America/Phoenix:20250419T090000
DTEND;TZID=America/Phoenix:20250419T110000
DTSTAMP:20260424T091655
CREATED:20250204T221015Z
LAST-MODIFIED:20250318T210203Z
UID:2965-1745053200-1745060400@northmountainvisitorcenter.org
SUMMARY:Coffee House Saturdays with live music – Performance by GEORGE & GEORGIA
DESCRIPTION:“We are an acoustic duo that started making music together in 2016. We met in Denver\, Colorado when Georgia came into the bourbon bar that George was playing at. From her seat she started singing harmony to every song. Our voices blended naturally. Soon we became a duo. After a short stay in Austin\, Texas during the pandemic\, we moved to Phoenix in June of 2021. We enjoy our harmonies and unique arrangements of songs from different genres and eras.” \n \nCoffee House Saturdays occurs every third and fourth Saturday of the month at the North Mountain Visitor Center (NMVC) located at 12950 North 7th Street in Phoenix. \nFree hot coffee\, refreshments and live music offered from 9 AM to 11 AM. \nAdmission is always free. \nDonations to Save Our Mountains Foundation (501c3) are always welcome. Any purchases made at our gift shop go toward supporting facility operations and our nonprofit’s mission of protecting the preserve for future generations. \nCall 602-343-5125 with any questions.
URL:https://northmountainvisitorcenter.org/event/coffee-house-saturdays-with-live-music-performance-by-george-georgia/
LOCATION:North Mountain Visitor Center\, 12950 North 7th Street\, Phoenix\, AZ\, 85022\, United States
CATEGORIES:Coffee House
END:VEVENT
BEGIN:VEVENT
DTSTART;TZID=America/Phoenix:20250419T113000
DTEND;TZID=America/Phoenix:20250419T123000
DTSTAMP:20260424T091655
CREATED:20250218T224438Z
LAST-MODIFIED:20250221T180742Z
UID:3000-1745062200-1745065800@northmountainvisitorcenter.org
SUMMARY:Brown Bag Workshop – “SUN SAFETY TALK” presented by Ann Roseman
DESCRIPTION:“SUN SAFETY TALK”\npresented by Ann Roseman \nApril 19\, 2025\, at 11:30 A.M. \nJoin us for fascinating facts\, fun\, and fellowship at The North Mountain Visitor Center\, 12950 N. 7th Street on Saturday\,\nApril 19\, 2025\, at 11:30 A.M. Please bring your lunch and enjoy the presentation. This presentation is free to the public.\nDonations made to Save Our Mountains Foundation are much appreciated. The funds help run the North Mountain Visitor\nCenter. \nAs a melanoma survivor and an AIM at Melanoma local Sun Safety Advocate volunteer\, Ann Roseman will speak on sun\nsafety\, melanoma prevention and skin cancer recognition. In addition\, there will be free sunscreen samples and other sun\nsafety prizes available.\nWhat to expect at the Sun Safety Talk:\n• Learn risk factors\, prevention and tips on detection of\nmelanoma\n• Learn about AIM at Melanoma Foundation\n• Sun safety giveaways and sunscreen will be available\n• Engage with others about skin safety\nMark your calendars and bring your lunches!\nYou won’t want to miss this!\nNORTH MOUNTAIN VISITOR CENTER BROWN BAG WORKSHOP
URL:https://northmountainvisitorcenter.org/event/brown-bag-workshop-sun-safety-talk-presented-by-ann-roseman/
LOCATION:North Mountain Visitor Center\, 12950 North 7th Street\, Phoenix\, AZ\, 85022\, United States
CATEGORIES:Workshop
END:VEVENT
BEGIN:VEVENT
DTSTART;TZID=America/Phoenix:20250426T080000
DTEND;TZID=America/Phoenix:20250426T170000
DTSTAMP:20260424T091655
CREATED:20250204T221250Z
LAST-MODIFIED:20250318T210726Z
UID:2967-1745654400-1745686800@northmountainvisitorcenter.org
SUMMARY:Coffee House Saturdays with live music – Performance by HALF WAY HOME
DESCRIPTION:Half Way Home\, Barbara Herber on fiddle and Dave Baumann on guitar\, have been playing together since 1993. For many years they were part of the Close Enough String Band\, a five and sometimes six-piece extravaganza largely committed to Old Time Music and its more immediate offspring. The band made three CDs\, one of them dedicated to Carter Family songs.\nThe first iteration of the trio\, Half Way Home\, grew out of the string band and featured Rick Sonder on banjo and too many autoharps. Their self-titled CD in 2005 was their first foray into more contemporary acoustic music. “It was where we honed our harmonies.” \n“North Mountain Visitor Center has long been a favorite venue of ours. It’s a thorough delight to be asked back again.” \nCoffee House Saturdays occurs every third and fourth Saturday of the month at the North Mountain Visitor Center (NMVC) located at 12950 North 7th Street in Phoenix. \nFree hot coffee\, refreshments and live music offered from 9 AM to 11 AM. \nAdmission is always free. \nDonations to Save Our Mountains Foundation (501c3) are always welcome. Any purchases made at our gift shop go toward supporting facility operations and our nonprofit’s mission of protecting the preserve for future generations. \nCall 602-343-5125 with any questions.
URL:https://northmountainvisitorcenter.org/event/coffee-house-saturdays-with-live-music-performance-by-halfway-home/
LOCATION:North Mountain Visitor Center\, 12950 North 7th Street\, Phoenix\, AZ\, 85022\, United States
CATEGORIES:Coffee House
END:VEVENT
BEGIN:VEVENT
DTSTART;TZID=America/Phoenix:20250426T080000
DTEND;TZID=America/Phoenix:20250426T170000
DTSTAMP:20260424T091655
CREATED:20250204T223511Z
LAST-MODIFIED:20250204T232048Z
UID:2969-1745654400-1745686800@northmountainvisitorcenter.org
SUMMARY:CAMRA Wilderness First Aid Class
DESCRIPTION:Come to North Mountain Visitor Center this weekend for a Wilderness First Aid Class taught by the Central Arizona Mountain Rescue Association (CAMRA)\, Maricopa County’s Mountain Rescue Team!  Tickets\, class information and cost are available here: www.mountainrescue.org/medical-training \nClass is April 26 – 27\, 8am-5pm. Please bring a sack lunch and be prepared for a jam-packed schedule with tons of scenarios and hands-on experience! \nThe Wilderness First Aid certification is an entry-level course for wilderness medicine. It is highly recommended for anyone who spends time in the backcountry. Whether you are planning on leading a multi-day trip or even a day hiker who wants to be prepared for anything that may come up. Skiers\, kayakers\, mountain bikers\, climbers\, and campers… everyone can benefit from this training! \nWFA courses are offered throughout the year. If you are interested in taking this life saving course another weekend\, please visit www.mountainrescue.org/medical-training for more class dates available.
URL:https://northmountainvisitorcenter.org/event/camra-wilderness-first-aid-class-3/
LOCATION:North Mountain Visitor Center\, 12950 North 7th Street\, Phoenix\, AZ\, 85022\, United States
CATEGORIES:Workshop
END:VEVENT
BEGIN:VEVENT
DTSTART;TZID=America/Phoenix:20250427T080000
DTEND;TZID=America/Phoenix:20250427T170000
DTSTAMP:20260424T091655
CREATED:20250204T223708Z
LAST-MODIFIED:20250204T232128Z
UID:2971-1745740800-1745773200@northmountainvisitorcenter.org
SUMMARY:CAMRA Wilderness First Aid Class
DESCRIPTION:Come to North Mountain Visitor Center this weekend for a Wilderness First Aid Class taught by the Central Arizona Mountain Rescue Association (CAMRA)\, Maricopa County’s Mountain Rescue Team!  Tickets\, class information and cost are available here: www.mountainrescue.org/medical-training \nClass is April 26-27\, 8am-5pm. Please bring a sack lunch and be prepared for a jam-packed schedule with tons of scenarios and hands-on experience! \nThe Wilderness First Aid certification is an entry-level course for wilderness medicine. It is highly recommended for anyone who spends time in the backcountry. Whether you are planning on leading a multi-day trip or even a day hiker who wants to be prepared for anything that may come up. Skiers\, kayakers\, mountain bikers\, climbers\, and campers… everyone can benefit from this training! \nWFA courses are offered throughout the year. If you are interested in taking this life saving course another weekend\, please visit www.mountainrescue.org/medical-training for more class dates available.
URL:https://northmountainvisitorcenter.org/event/camra-wilderness-first-aid-class-4/
LOCATION:North Mountain Visitor Center\, 12950 North 7th Street\, Phoenix\, AZ\, 85022\, United States
CATEGORIES:Workshop
END:VEVENT
END:VCALENDAR