BEGIN:VCALENDAR
VERSION:2.0
PRODID:-//North Mountain Visitor Center - ECPv6.13.2.1//NONSGML v1.0//EN
CALSCALE:GREGORIAN
METHOD:PUBLISH
X-ORIGINAL-URL:https://northmountainvisitorcenter.org
X-WR-CALDESC:Events for North Mountain Visitor Center
REFRESH-INTERVAL;VALUE=DURATION:PT1H
X-Robots-Tag:noindex
X-PUBLISHED-TTL:PT1H
BEGIN:VTIMEZONE
TZID:America/Phoenix
BEGIN:STANDARD
TZOFFSETFROM:-0700
TZOFFSETTO:-0700
TZNAME:MST
DTSTART:20250101T000000
END:STANDARD
END:VTIMEZONE
BEGIN:VEVENT
DTSTART;TZID=America/Phoenix:20250701T080000
DTEND;TZID=America/Phoenix:20250701T140000
DTSTAMP:20260424T042916
CREATED:20250527T213736Z
LAST-MODIFIED:20250527T213736Z
UID:3272-1751356800-1751378400@northmountainvisitorcenter.org
SUMMARY:BOTANICAL ART PERMANENT DISPLAY: SEEDS – Foundation of Life\, Hope for the Future
DESCRIPTION:Presented by the: \n \nMany of us are familiar with the old proverb\, “From a tiny acorn a mighty oak grows.”  True\, but consider Saguaro\, King of the Sonoran Desert.  Its tiny seeds\, 1-1.5mm\, can develop into a forty-foot giant. Supporting these tiny power houses are the fruits which come in a variety of shapes and sizes providing the nurturing environment for the seeds to develop. \nCome visit the North Mountain Visitor Center (NMVC) and view an exquisite display of botanical illustrations created by members of the Southwest Society of Botanical Artists (SWSBA).  This display serves to educate us all in the variety and power of some of our Sonoran Desert plants and their miniscule foundation. \nBeautiful illustrations and descriptions await your visit!  This permanent display can be viewed every day during our open hours of operation. \n \nNMVC also has a permanent exhibit of scientific illustrations of plants found in the preserve\, largely illustrated by SWSBA members. Come visit soon!  NMVC is open every day from 8:00 am – 2:00 pm.
URL:https://northmountainvisitorcenter.org/event/botanical-art-permanent-display-seeds-foundation-of-life-hope-for-the-future/
LOCATION:North Mountain Visitor Center\, 12950 North 7th Street\, Phoenix\, AZ\, 85022\, United States
CATEGORIES:Education
END:VEVENT
BEGIN:VEVENT
DTSTART;TZID=America/Phoenix:20250705T120000
DTEND;TZID=America/Phoenix:20250705T133000
DTSTAMP:20260424T042916
CREATED:20250429T232942Z
LAST-MODIFIED:20250429T233152Z
UID:3195-1751716800-1751722200@northmountainvisitorcenter.org
SUMMARY:Rattlesnake Garage
DESCRIPTION:Rattlesnake Garage is one of the Save Our Mountains Foundation’s signature events.  Learn what to do if you encounter a rattlesnake. Rattlesnake garage is a real-time presentation with live snakes in an enclosed arena and hosted by professional snake handler Mark Hindle. This family-friendly presentation happens once a month\, so please keep checking back for future dates. \nLocation: North Mountain Visitor Center\, 12950 N. 7th St. Phoenix\, AZ 85022 \n \n \nQuestions? Call us at 602-343-5125
URL:https://northmountainvisitorcenter.org/event/rattlesnake-garage-19/
LOCATION:North Mountain Visitor Center\, 12950 North 7th Street\, Phoenix\, AZ\, 85022\, United States
CATEGORIES:Snake
END:VEVENT
BEGIN:VEVENT
DTSTART;TZID=America/Phoenix:20250707T183000
DTEND;TZID=America/Phoenix:20250707T210000
DTSTAMP:20260424T042916
CREATED:20250318T204221Z
LAST-MODIFIED:20250318T204221Z
UID:3112-1751913000-1751922000@northmountainvisitorcenter.org
SUMMARY:Phoenix Mountains Preservation Council\, Inc. Board of Directors Meeting
DESCRIPTION:Phoenix Mountains Preservation Council\, Inc. (PMPC) monthly meetings of the Board of Directors are open to the public. \nPMPC invites everyone to attend and learn more about the original nonprofit organization that lead the race to save the desert open spaces since its inception in 1970. \nPMPC is dedicated to preserving select desert areas to ensure that natural open space remains in our greater city area.  These Preserves guarantee that our way of life remains connected to nature and a wonderfully fascinating\, yet delicate\, environment is kept easily available to all our citizens.
URL:https://northmountainvisitorcenter.org/event/phoenix-mountains-preservation-council-inc-board-of-directors-meeting-4/
LOCATION:North Mountain Visitor Center\, 12950 North 7th Street\, Phoenix\, AZ\, 85022\, United States
CATEGORIES:Meeting
END:VEVENT
BEGIN:VEVENT
DTSTART;TZID=America/Phoenix:20250719T090000
DTEND;TZID=America/Phoenix:20250719T110000
DTSTAMP:20260424T042916
CREATED:20250520T231548Z
LAST-MODIFIED:20250714T212254Z
UID:3241-1752915600-1752922800@northmountainvisitorcenter.org
SUMMARY:Coffee House Saturdays with live music – Performance by MARK BISHOP EVANS
DESCRIPTION:Saturday\, July 19\, 2025\, 9-11 A.M.\nMark Bishop Evans grew up in Southern California where his major musical influences\nwere Gordon Lightfoot\, Peter\, Paul & Mary\, Bob Dylan\, Paul Simon and pretty much any\nfolk\, folk rock\, or beach music.\nHe has a way with words and melodies\, bringing them together in pleasant and poignant combinations. His music is an intriguing blend of folk\, folk rock\, and ballads\, lyrically rich in emotional content and melodically comfortable like a favorite jacket.\nAfter spending 30 years in the Boston area and loving the folk and songwriter\ncommunity\, he has settled in Phoenix and continues to create and perform. \n \nCoffee House Saturdays occurs every third and fourth Saturday of the month at the North Mountain Visitor Center (NMVC) located at 12950 North 7th Street in Phoenix. \nFree hot coffee\, refreshments and live music offered from 9 AM to 11 AM. \nAdmission is always free. \nDonations to Save Our Mountains Foundation (501c3) are always welcome. Any purchases made at our gift shop go toward supporting facility operations and our nonprofit’s mission of protecting the preserve for future generations. \nCall 602-343-5125 with any questions.
URL:https://northmountainvisitorcenter.org/event/coffee-house-saturdays-with-live-music-performance-by-mark-bishop-evans/
LOCATION:North Mountain Visitor Center\, 12950 North 7th Street\, Phoenix\, AZ\, 85022\, United States
CATEGORIES:Music
END:VEVENT
BEGIN:VEVENT
DTSTART;TZID=America/Phoenix:20250724T060000
DTEND;TZID=America/Phoenix:20250724T080000
DTSTAMP:20260424T042916
CREATED:20250624T172743Z
LAST-MODIFIED:20250714T214531Z
UID:3330-1753336800-1753344000@northmountainvisitorcenter.org
SUMMARY:NMVC THURSDAY HIKES: 40th Street Trailhead
DESCRIPTION:Trailhead Meet Up: July 24\, 2025\, at 6am with bathrooms \nName of Hike: 40th Street Trailhead \nLocation: 9200 N 40th St Phoenix \nLeader(s): Karen Twyning \nLeader Contact: 262-903-8012 \nCarpool? (Y/N) No \nCarpool Time & Location: none \nHike Distance (estim): 4 miles \nHike Time (estim): 2 – 3 hrs. \nElevation Chg (approx ft\, optional): \nHike Description: Easy flat 2-hour 4-mile loop in Phoenix Mountain Preserve via north end access \nDrive Instructions: Shea to 40th St\, drive south one mile where road ends at trailhead parking lot
URL:https://northmountainvisitorcenter.org/event/nmvc-thursday-hikes-nmvc-southern-loop/
LOCATION:North Mountain Visitor Center\, 12950 North 7th Street\, Phoenix\, AZ\, 85022\, United States
CATEGORIES:Hiking
END:VEVENT
BEGIN:VEVENT
DTSTART;TZID=America/Phoenix:20250726T090000
DTEND;TZID=America/Phoenix:20250726T110000
DTSTAMP:20260424T042916
CREATED:20250520T231854Z
LAST-MODIFIED:20250714T212557Z
UID:3243-1753520400-1753527600@northmountainvisitorcenter.org
SUMMARY:Coffee House Saturdays with live music – Performance by AS IS
DESCRIPTION:Saturday\, July 26\, 2025\, 9-11 A.M.\nThe “AS IS” Band is entering its 6th year performing at a variety of restaurant venues as well as folk festivals and libraries. Their soft rock includes everything from Jackson Browne to the Beatles with soft 3-part harmonies that give a lift to the songs you loved from the 60’s and 70s.\nBuzz on vocals and lead guitar and Gayle on bass guitar– Barbara plays leads on her viola lending a more classic riff to soft rock.\nBuzz has performed as a solo artist in the Prescott – Phoenix area and as a member of the” Better Late than Never Boyz” here in Phoenix. Barbara is half of “Halfway home” and was known for her antics in” the “Artichoke Sisters”. Gayle has been part of “Good N Plenty” a jazz duo and “Big Myrtle”. \nCoffee House Saturdays occurs every third and fourth Saturday of the month at the North Mountain Visitor Center (NMVC) located at 12950 North 7th Street in Phoenix. \nFree hot coffee\, refreshments and live music offered from 9 AM to 11 AM. \nAdmission is always free. \nDonations to Save Our Mountains Foundation (501c3) are always welcome. Any purchases made at our gift shop go toward supporting facility operations and our nonprofit’s mission of protecting the preserve for future generations. \nCall 602-343-5125 with any questions. \n 
URL:https://northmountainvisitorcenter.org/event/coffee-house-saturdays-with-live-music-performance-by-david-manly/
LOCATION:North Mountain Visitor Center\, 12950 North 7th Street\, Phoenix\, AZ\, 85022\, United States
CATEGORIES:Music
END:VEVENT
END:VCALENDAR