BEGIN:VCALENDAR
VERSION:2.0
PRODID:-//North Mountain Visitor Center - ECPv6.13.2.1//NONSGML v1.0//EN
CALSCALE:GREGORIAN
METHOD:PUBLISH
X-ORIGINAL-URL:https://northmountainvisitorcenter.org
X-WR-CALDESC:Events for North Mountain Visitor Center
REFRESH-INTERVAL;VALUE=DURATION:PT1H
X-Robots-Tag:noindex
X-PUBLISHED-TTL:PT1H
BEGIN:VTIMEZONE
TZID:America/Phoenix
BEGIN:STANDARD
TZOFFSETFROM:-0700
TZOFFSETTO:-0700
TZNAME:MST
DTSTART:20250101T000000
END:STANDARD
END:VTIMEZONE
BEGIN:VEVENT
DTSTART;TZID=America/Phoenix:20250801T080000
DTEND;TZID=America/Phoenix:20250801T140000
DTSTAMP:20260424T030406
CREATED:20250527T214123Z
LAST-MODIFIED:20250527T214758Z
UID:3275-1754035200-1754056800@northmountainvisitorcenter.org
SUMMARY:BOTANICAL ART PERMANENT DISPLAY: SEEDS – Foundation of Life\, Hope for the Future
DESCRIPTION:Presented by the: \n \nMany of us are familiar with the old proverb\, “From a tiny acorn a mighty oak grows.”  True\, but consider Saguaro\, King of the Sonoran Desert.  Its tiny seeds\, 1-1.5mm\, can develop into a forty-foot giant. Supporting these tiny power houses are the fruits which come in a variety of shapes and sizes providing the nurturing environment for the seeds to develop. \nCome visit the North Mountain Visitor Center (NMVC) and view an exquisite display of botanical illustrations created by members of the Southwest Society of Botanical Artists (SWSBA).  This display serves to educate us all in the variety and power of some of our Sonoran Desert plants and their miniscule foundation. \nBeautiful illustrations and descriptions await your visit!  This permanent display can be viewed every day during our open hours of operation. \nNMVC also has a permanent exhibit of scientific illustrations of plants found in the preserve\, largely illustrated by SWSBA members. Come visit soon!  NMVC is open every day from 8:00 am – 2:00 pm. \n \n 
URL:https://northmountainvisitorcenter.org/event/botanical-art-permanent-display-seeds-foundation-of-life-hope-for-the-future-2/
LOCATION:North Mountain Visitor Center\, 12950 North 7th Street\, Phoenix\, AZ\, 85022\, United States
CATEGORIES:Education
END:VEVENT
BEGIN:VEVENT
DTSTART;TZID=America/Phoenix:20250802T120000
DTEND;TZID=America/Phoenix:20250802T133000
DTSTAMP:20260424T030406
CREATED:20250429T233847Z
LAST-MODIFIED:20250913T170354Z
UID:3197-1754136000-1754141400@northmountainvisitorcenter.org
SUMMARY:Rattlesnake Garage
DESCRIPTION:Rattlesnake Garage is one of the Save Our Mountains Foundation’s signature events.  Learn what to do if you encounter a rattlesnake. Rattlesnake garage is a real-time presentation with live snakes in an enclosed arena and hosted by professional snake handler Mark Hindle. This family-friendly presentation happens once a month\, so please keep checking back for future dates. \nLocation: North Mountain Visitor Center\, 12950 N. 7th St. Phoenix\, AZ 85022 \n \n\nQuestions? Call us at 602-343-5125
URL:https://northmountainvisitorcenter.org/event/rattlesnake-garage-20/
LOCATION:North Mountain Visitor Center\, 12950 North 7th Street\, Phoenix\, AZ\, 85022\, United States
CATEGORIES:Snake
END:VEVENT
BEGIN:VEVENT
DTSTART;TZID=America/Phoenix:20250804T183000
DTEND;TZID=America/Phoenix:20250804T220000
DTSTAMP:20260424T030406
CREATED:20250318T204459Z
LAST-MODIFIED:20250318T204459Z
UID:3114-1754332200-1754344800@northmountainvisitorcenter.org
SUMMARY:Phoenix Mountains Preservation Council\, Inc. Board of Directors Meeting
DESCRIPTION:Phoenix Mountains Preservation Council\, Inc. (PMPC) monthly meetings of the Board of Directors are open to the public. \nPMPC invites everyone to attend and learn more about the original nonprofit organization that lead the race to save the desert open spaces since its inception in 1970. \nPMPC is dedicated to preserving select desert areas to ensure that natural open space remains in our greater city area.  These Preserves guarantee that our way of life remains connected to nature and a wonderfully fascinating\, yet delicate\, environment is kept easily available to all our citizens.
URL:https://northmountainvisitorcenter.org/event/phoenix-mountains-preservation-council-inc-board-of-directors-meeting-5/
LOCATION:North Mountain Visitor Center\, 12950 North 7th Street\, Phoenix\, AZ\, 85022\, United States
CATEGORIES:Meeting
END:VEVENT
BEGIN:VEVENT
DTSTART;TZID=America/Phoenix:20250807T080000
DTEND;TZID=America/Phoenix:20250807T120000
DTSTAMP:20260424T030406
CREATED:20250729T225520Z
LAST-MODIFIED:20250729T225520Z
UID:3384-1754553600-1754568000@northmountainvisitorcenter.org
SUMMARY:Visitor Center Closing Early @ Noon
DESCRIPTION:Hours open 8 a.m. – Noon
URL:https://northmountainvisitorcenter.org/event/visitor-center-closing-early-noon-3/
LOCATION:North Mountain Visitor Center\, 12950 North 7th Street\, Phoenix\, AZ\, 85022\, United States
CATEGORIES:Visitor Center
END:VEVENT
BEGIN:VEVENT
DTSTART;TZID=America/Phoenix:20250808T080000
DTEND;TZID=America/Phoenix:20250808T110000
DTSTAMP:20260424T030406
CREATED:20250729T223621Z
LAST-MODIFIED:20250729T223621Z
UID:3360-1754640000-1754650800@northmountainvisitorcenter.org
SUMMARY:Visitor Center Closing Early @ 11 a.m.
DESCRIPTION:Hours open 8 a.m. – 11 a.m.
URL:https://northmountainvisitorcenter.org/event/visitor-center-closing-early-11-a-m-2/
LOCATION:North Mountain Visitor Center\, 12950 North 7th Street\, Phoenix\, AZ\, 85022\, United States
CATEGORIES:Visitor Center
END:VEVENT
BEGIN:VEVENT
DTSTART;TZID=America/Phoenix:20250810T080000
DTEND;TZID=America/Phoenix:20250810T110000
DTSTAMP:20260424T030406
CREATED:20250729T223834Z
LAST-MODIFIED:20250729T223834Z
UID:3362-1754812800-1754823600@northmountainvisitorcenter.org
SUMMARY:Visitor Center Closing Early @ 11 a.m.
DESCRIPTION:Hours open 8 a.m. – 11 a.m.
URL:https://northmountainvisitorcenter.org/event/visitor-center-closing-early-11-a-m-3/
LOCATION:North Mountain Visitor Center\, 12950 North 7th Street\, Phoenix\, AZ\, 85022\, United States
CATEGORIES:Visitor Center
END:VEVENT
BEGIN:VEVENT
DTSTART;TZID=America/Phoenix:20250811T080000
DTEND;TZID=America/Phoenix:20250811T120000
DTSTAMP:20260424T030406
CREATED:20250729T225300Z
LAST-MODIFIED:20250729T225300Z
UID:3380-1754899200-1754913600@northmountainvisitorcenter.org
SUMMARY:Visitor Center Closing Early @ Noon
DESCRIPTION:Hours open 8 a.m. – Noon
URL:https://northmountainvisitorcenter.org/event/visitor-center-closing-early-noon/
LOCATION:North Mountain Visitor Center\, 12950 North 7th Street\, Phoenix\, AZ\, 85022\, United States
CATEGORIES:Visitor Center
END:VEVENT
BEGIN:VEVENT
DTSTART;TZID=America/Phoenix:20250814T080000
DTEND;TZID=America/Phoenix:20250814T170000
DTSTAMP:20260424T030406
CREATED:20250729T230112Z
LAST-MODIFIED:20250729T230112Z
UID:3392-1755158400-1755190800@northmountainvisitorcenter.org
SUMMARY:Visitor Center Closing Early @ Noon
DESCRIPTION:Hours open 8 a.m. – Noon
URL:https://northmountainvisitorcenter.org/event/visitor-center-closing-early-noon-7/
LOCATION:North Mountain Visitor Center\, 12950 North 7th Street\, Phoenix\, AZ\, 85022\, United States
CATEGORIES:Visitor Center
END:VEVENT
BEGIN:VEVENT
DTSTART;TZID=America/Phoenix:20250817T080000
DTEND;TZID=America/Phoenix:20250817T110000
DTSTAMP:20260424T030406
CREATED:20250729T223950Z
LAST-MODIFIED:20250729T223950Z
UID:3364-1755417600-1755428400@northmountainvisitorcenter.org
SUMMARY:Visitor Center Closing Early @ 11 a.m.
DESCRIPTION:Hours open 8 a.m. – 11 a.m.
URL:https://northmountainvisitorcenter.org/event/visitor-center-closing-early-11-a-m-4/
LOCATION:North Mountain Visitor Center\, 12950 North 7th Street\, Phoenix\, AZ\, 85022\, United States
CATEGORIES:Visitor Center
END:VEVENT
BEGIN:VEVENT
DTSTART;TZID=America/Phoenix:20250819T080000
DTEND;TZID=America/Phoenix:20250819T110000
DTSTAMP:20260424T030406
CREATED:20250729T224323Z
LAST-MODIFIED:20250729T224323Z
UID:3370-1755590400-1755601200@northmountainvisitorcenter.org
SUMMARY:Visitor Center Closing Early @ 11 a.m.
DESCRIPTION:Hours open 8 a.m. – 11 a.m.
URL:https://northmountainvisitorcenter.org/event/visitor-center-closing-early-11-a-m-7/
LOCATION:North Mountain Visitor Center\, 12950 North 7th Street\, Phoenix\, AZ\, 85022\, United States
CATEGORIES:Visitor Center
END:VEVENT
BEGIN:VEVENT
DTSTART;TZID=America/Phoenix:20250821T080000
DTEND;TZID=America/Phoenix:20250821T120000
DTSTAMP:20260424T030406
CREATED:20250729T225630Z
LAST-MODIFIED:20250729T225630Z
UID:3386-1755763200-1755777600@northmountainvisitorcenter.org
SUMMARY:Visitor Center Closing Early @ Noon
DESCRIPTION:Hours open 8 a.m. – Noon
URL:https://northmountainvisitorcenter.org/event/visitor-center-closing-early-noon-4/
LOCATION:North Mountain Visitor Center\, 12950 North 7th Street\, Phoenix\, AZ\, 85022\, United States
CATEGORIES:Visitor Center
END:VEVENT
BEGIN:VEVENT
DTSTART;TZID=America/Phoenix:20250822T080000
DTEND;TZID=America/Phoenix:20250822T110000
DTSTAMP:20260424T030406
CREATED:20250729T224551Z
LAST-MODIFIED:20250729T224551Z
UID:3374-1755849600-1755860400@northmountainvisitorcenter.org
SUMMARY:Visitor Center Closing Early @ 11 a.m.
DESCRIPTION:Hours open 8 a.m. – 11 a.m.
URL:https://northmountainvisitorcenter.org/event/visitor-center-closing-early-11-a-m-9/
LOCATION:North Mountain Visitor Center\, 12950 North 7th Street\, Phoenix\, AZ\, 85022\, United States
CATEGORIES:Visitor Center
END:VEVENT
BEGIN:VEVENT
DTSTART;TZID=America/Phoenix:20250823T080000
DTEND;TZID=America/Phoenix:20250823T170000
DTSTAMP:20260424T030406
CREATED:20250311T224618Z
LAST-MODIFIED:20250311T224618Z
UID:3082-1755936000-1755968400@northmountainvisitorcenter.org
SUMMARY:CAMRA Wilderness First Aid Class
DESCRIPTION:Come to North Mountain Visitor Center this weekend for a Wilderness First Aid Class taught by the Central Arizona Mountain Rescue Association (CAMRA)\, Maricopa County’s Mountain Rescue Team!  Tickets\, class information and cost are available here: www.mountainrescue.org/medical-training \nClass is August 23 & 24\, 8am-5pm. Please bring a sack lunch and be prepared for a jam-packed schedule with tons of scenarios and hands-on experience! \nThe Wilderness First Aid certification is an entry-level course for wilderness medicine. It is highly recommended for anyone who spends time in the backcountry. Whether you are planning on leading a multi-day trip or even a day hiker who wants to be prepared for anything that may come up. Skiers\, kayakers\, mountain bikers\, climbers\, and campers… everyone can benefit from this training! \nWFA courses are offered throughout the year. If you are interested in taking this life saving course another weekend\, please visit www.mountainrescue.org/medical-training for more class dates available.
URL:https://northmountainvisitorcenter.org/event/camra-wilderness-first-aid-class-7/
LOCATION:North Mountain Visitor Center\, 12950 North 7th Street\, Phoenix\, AZ\, 85022\, United States
CATEGORIES:Workshop
END:VEVENT
BEGIN:VEVENT
DTSTART;TZID=America/Phoenix:20250824T080000
DTEND;TZID=America/Phoenix:20250824T110000
DTSTAMP:20260424T030406
CREATED:20250729T224901Z
LAST-MODIFIED:20250729T224901Z
UID:3378-1756022400-1756033200@northmountainvisitorcenter.org
SUMMARY:Visitor Center Closing Early @ 11 a.m.
DESCRIPTION:Hours open 8 a.m. – 11 a.m.
URL:https://northmountainvisitorcenter.org/event/visitor-center-closing-early-11-a-m-11/
LOCATION:North Mountain Visitor Center\, 12950 North 7th Street\, Phoenix\, AZ\, 85022\, United States
CATEGORIES:Visitor Center
END:VEVENT
BEGIN:VEVENT
DTSTART;TZID=America/Phoenix:20250824T080000
DTEND;TZID=America/Phoenix:20250824T170000
DTSTAMP:20260424T030406
CREATED:20250311T224923Z
LAST-MODIFIED:20250311T224923Z
UID:3084-1756022400-1756054800@northmountainvisitorcenter.org
SUMMARY:CAMRA Wilderness First Aid Class
DESCRIPTION:Come to North Mountain Visitor Center this weekend for a Wilderness First Aid Class taught by the Central Arizona Mountain Rescue Association (CAMRA)\, Maricopa County’s Mountain Rescue Team!  Tickets\, class information and cost are available here: www.mountainrescue.org/medical-training \nClass is August 23 & 24\, 8am-5pm. Please bring a sack lunch and be prepared for a jam-packed schedule with tons of scenarios and hands-on experience! \nThe Wilderness First Aid certification is an entry-level course for wilderness medicine. It is highly recommended for anyone who spends time in the backcountry. Whether you are planning on leading a multi-day trip or even a day hiker who wants to be prepared for anything that may come up. Skiers\, kayakers\, mountain bikers\, climbers\, and campers… everyone can benefit from this training! \nWFA courses are offered throughout the year. If you are interested in taking this life saving course another weekend\, please visit www.mountainrescue.org/medical-training for more class dates available.
URL:https://northmountainvisitorcenter.org/event/camra-wilderness-first-aid-class-8/
LOCATION:North Mountain Visitor Center\, 12950 North 7th Street\, Phoenix\, AZ\, 85022\, United States
CATEGORIES:Workshop
END:VEVENT
BEGIN:VEVENT
DTSTART;TZID=America/Phoenix:20250826T080000
DTEND;TZID=America/Phoenix:20250826T110000
DTSTAMP:20260424T030406
CREATED:20250729T224435Z
LAST-MODIFIED:20250729T224435Z
UID:3372-1756195200-1756206000@northmountainvisitorcenter.org
SUMMARY:Visitor Center Closing Early @ 11 a.m.
DESCRIPTION:Hours open 8 a.m. – 11 a.m.
URL:https://northmountainvisitorcenter.org/event/visitor-center-closing-early-11-a-m-8/
LOCATION:North Mountain Visitor Center\, 12950 North 7th Street\, Phoenix\, AZ\, 85022\, United States
CATEGORIES:Visitor Center
END:VEVENT
BEGIN:VEVENT
DTSTART;TZID=America/Phoenix:20250828T080000
DTEND;TZID=America/Phoenix:20250828T120000
DTSTAMP:20260424T030406
CREATED:20250729T225735Z
LAST-MODIFIED:20250729T225735Z
UID:3388-1756368000-1756382400@northmountainvisitorcenter.org
SUMMARY:Visitor Center Closing Early @ Noon
DESCRIPTION:Hours open 8 a.m. – Noon
URL:https://northmountainvisitorcenter.org/event/visitor-center-closing-early-noon-5/
LOCATION:North Mountain Visitor Center\, 12950 North 7th Street\, Phoenix\, AZ\, 85022\, United States
CATEGORIES:Visitor Center
END:VEVENT
BEGIN:VEVENT
DTSTART;TZID=America/Phoenix:20250829T080000
DTEND;TZID=America/Phoenix:20250829T110000
DTSTAMP:20260424T030406
CREATED:20250729T224703Z
LAST-MODIFIED:20250729T224703Z
UID:3376-1756454400-1756465200@northmountainvisitorcenter.org
SUMMARY:Visitor Center Closing Early @ 11 a.m.
DESCRIPTION:Hours open 8 a.m. – 11 a.m.
URL:https://northmountainvisitorcenter.org/event/visitor-center-closing-early-11-a-m-10/
LOCATION:North Mountain Visitor Center\, 12950 North 7th Street\, Phoenix\, AZ\, 85022\, United States
CATEGORIES:Visitor Center
END:VEVENT
BEGIN:VEVENT
DTSTART;TZID=America/Phoenix:20250830T080000
DTEND;TZID=America/Phoenix:20250830T120000
DTSTAMP:20260424T030406
CREATED:20250729T225840Z
LAST-MODIFIED:20250729T225840Z
UID:3390-1756540800-1756555200@northmountainvisitorcenter.org
SUMMARY:Visitor Center Closing Early @ Noon
DESCRIPTION:Hours open 8 a.m. – Noon
URL:https://northmountainvisitorcenter.org/event/visitor-center-closing-early-noon-6/
LOCATION:North Mountain Visitor Center\, 12950 North 7th Street\, Phoenix\, AZ\, 85022\, United States
CATEGORIES:Visitor Center
END:VEVENT
BEGIN:VEVENT
DTSTART;TZID=America/Phoenix:20250831T080000
DTEND;TZID=America/Phoenix:20250831T110000
DTSTAMP:20260424T030406
CREATED:20250729T224210Z
LAST-MODIFIED:20250729T224210Z
UID:3368-1756627200-1756638000@northmountainvisitorcenter.org
SUMMARY:Visitor Center Closing Early @ 11 a.m.
DESCRIPTION:Hours open 8 a.m. – 11 a.m.
URL:https://northmountainvisitorcenter.org/event/visitor-center-closing-early-11-a-m-6/
LOCATION:North Mountain Visitor Center\, 12950 North 7th Street\, Phoenix\, AZ\, 85022\, United States
CATEGORIES:Visitor Center
END:VEVENT
END:VCALENDAR