BEGIN:VCALENDAR
VERSION:2.0
PRODID:-//North Mountain Visitor Center - ECPv6.13.2.1//NONSGML v1.0//EN
CALSCALE:GREGORIAN
METHOD:PUBLISH
X-ORIGINAL-URL:https://northmountainvisitorcenter.org
X-WR-CALDESC:Events for North Mountain Visitor Center
REFRESH-INTERVAL;VALUE=DURATION:PT1H
X-Robots-Tag:noindex
X-PUBLISHED-TTL:PT1H
BEGIN:VTIMEZONE
TZID:America/Phoenix
BEGIN:STANDARD
TZOFFSETFROM:-0700
TZOFFSETTO:-0700
TZNAME:MST
DTSTART:20260101T000000
END:STANDARD
END:VTIMEZONE
BEGIN:VEVENT
DTSTART;TZID=America/Phoenix:20260425T090000
DTEND;TZID=America/Phoenix:20260425T110000
DTSTAMP:20260423T084132
CREATED:20260331T203239Z
LAST-MODIFIED:20260331T203239Z
UID:3740-1777107600-1777114800@northmountainvisitorcenter.org
SUMMARY:Coffee House Saturdays with live music – Performance by SUGARJAM BAND
DESCRIPTION:SugarJam Band is an acoustic music project from Phoenix\, AZ with folk legends Lisa Culbert (vocals)\, Millie Davis (guitar & vocals)\, Claudia Paddock (Percussion\, guitar and vocals)\, Clay Bailey on bass\, along with other guest musicians. They have a unique song collection ranging across all the music genres we know and love. Come witness the jam\, sweetened with velvety harmonies. \n\nCoffee House Saturdays occurs every third and fourth Saturday of the month at the North Mountain Visitor Center (NMVC) located at 12950 North 7th Street in Phoenix. \nFree hot coffee\, refreshments and live music offered from 9 AM to 11 AM. \nAdmission is always free. \n \nDonations to Save Our Mountains Foundation (501c3) are always welcome. Any purchases made at our gift shop go toward supporting facility operations and our nonprofit’s mission of protecting the preserve for future generations.
URL:https://northmountainvisitorcenter.org/event/coffee-house-saturdays-with-live-music-performance-by-sugarjam-band/
LOCATION:North Mountain Visitor Center\, 12950 North 7th Street\, Phoenix\, AZ\, 85022\, United States
CATEGORIES:Music
END:VEVENT
END:VCALENDAR