BEGIN:VCALENDAR
VERSION:2.0
PRODID:-//North Mountain Visitor Center - ECPv6.13.2.1//NONSGML v1.0//EN
CALSCALE:GREGORIAN
METHOD:PUBLISH
X-WR-CALNAME:North Mountain Visitor Center
X-ORIGINAL-URL:https://northmountainvisitorcenter.org
X-WR-CALDESC:Events for North Mountain Visitor Center
REFRESH-INTERVAL;VALUE=DURATION:PT1H
X-Robots-Tag:noindex
X-PUBLISHED-TTL:PT1H
BEGIN:VTIMEZONE
TZID:America/Phoenix
BEGIN:STANDARD
TZOFFSETFROM:-0700
TZOFFSETTO:-0700
TZNAME:MST
DTSTART:20260101T000000
END:STANDARD
END:VTIMEZONE
BEGIN:VEVENT
DTSTART;TZID=America/Phoenix:20260426T113000
DTEND;TZID=America/Phoenix:20260426T123000
DTSTAMP:20260423T083911
CREATED:20260331T211335Z
LAST-MODIFIED:20260331T211335Z
UID:3743-1777203000-1777206600@northmountainvisitorcenter.org
SUMMARY:BROWN BAG WORKSHOP – THE JOURNEY OF THE PACIFIC CREST TRAIL Part 3
DESCRIPTION:“THE JOURNEY OF THE PACIFIC CREST TRAIL Part 3”\npresented by Bridgette Sotelo \nFor thousands around the world\, the experience of hiking the Pacific Crest Trail represents a life well-lived. Each year\, for 6 months\, hundreds of hikers trek through arid desert\, frozen high sierras\, thick\, lush forest\, and sweeping vistas\, all in pursuit of completing a “thru-hike” of one of America’s most picturesque national scenic trails.\nTag along with Bridgette\, aka “ZipLoc”\, for a journey from Mexico to Canada over thousands of miles as she brings you along her own thru-hike of the PCT in 2023. As you follow along on her journey north\, you can expect to learn how someone prepares for a multi-month trip to be self-sufficient in the back country and hear stories of trail culture and personal experiences of life on the trail. \nJoin us for fascinating presentation at The North Mountain Visitor Center\, 12950 N. 7th Street on SUNDAY\, April 26\, 2026\, at 11:30 A.M. Please bring your lunch and enjoy the presentation.\nThis presentation is free to the public.\nDonations made to Save Our Mountains Foundation are much appreciated. The funds help run the North Mountain Visitor Center.
URL:https://northmountainvisitorcenter.org/event/brown-bag-workshop-the-journey-of-the-pacific-crest-trail-part-3/
LOCATION:North Mountain Visitor Center\, 12950 North 7th Street\, Phoenix\, AZ\, 85022\, United States
CATEGORIES:Workshop
END:VEVENT
END:VCALENDAR