BEGIN:VCALENDAR
VERSION:2.0
PRODID:-//North Mountain Visitor Center - ECPv6.13.2.1//NONSGML v1.0//EN
CALSCALE:GREGORIAN
METHOD:PUBLISH
X-WR-CALNAME:North Mountain Visitor Center
X-ORIGINAL-URL:https://northmountainvisitorcenter.org
X-WR-CALDESC:Events for North Mountain Visitor Center
REFRESH-INTERVAL;VALUE=DURATION:PT1H
X-Robots-Tag:noindex
X-PUBLISHED-TTL:PT1H
BEGIN:VTIMEZONE
TZID:America/Phoenix
BEGIN:STANDARD
TZOFFSETFROM:-0700
TZOFFSETTO:-0700
TZNAME:MST
DTSTART:20250101T000000
END:STANDARD
END:VTIMEZONE
BEGIN:VEVENT
DTSTART;TZID=America/Phoenix:20250503T120000
DTEND;TZID=America/Phoenix:20250503T133000
DTSTAMP:20260424T031621
CREATED:20250218T232326Z
LAST-MODIFIED:20250913T170423Z
UID:3029-1746273600-1746279000@northmountainvisitorcenter.org
SUMMARY:Rattlesnake Garage
DESCRIPTION:Rattlesnake Garage is one of the Save Our Mountains Foundation’s signature events.  Learn what to do if you encounter a rattlesnake. Rattlesnake garage is a real-time presentation with live snakes in an enclosed arena and hosted by professional snake handler Mark Hindle. This family-friendly presentation happens once a month\, so please keep checking back for future dates. \nLocation: North Mountain Visitor Center\, 12950 N. 7th St. Phoenix\, AZ 85022 \n \n\nQuestions? Call us at 602-343-5125
URL:https://northmountainvisitorcenter.org/event/rattlesnake-garage-17/
LOCATION:North Mountain Visitor Center\, 12950 North 7th Street\, Phoenix\, AZ\, 85022\, United States
CATEGORIES:Snake
END:VEVENT
BEGIN:VEVENT
DTSTART;TZID=America/Phoenix:20250505T183000
DTEND;TZID=America/Phoenix:20250505T210000
DTSTAMP:20260424T031621
CREATED:20250318T203654Z
LAST-MODIFIED:20250318T203654Z
UID:3107-1746469800-1746478800@northmountainvisitorcenter.org
SUMMARY:Phoenix Mountains Preservation Council\, Inc. Board of Directors Meeting
DESCRIPTION:Phoenix Mountains Preservation Council\, Inc. (PMPC) monthly meetings of the Board of Directors are open to the public. \nPMPC invites everyone to attend and learn more about the original nonprofit organization that lead the race to save the desert open spaces since its inception in 1970. \nPMPC is dedicated to preserving select desert areas to ensure that natural open space remains in our greater city area.  These Preserves guarantee that our way of life remains connected to nature and a wonderfully fascinating\, yet delicate\, environment is kept easily available to all our citizens.
URL:https://northmountainvisitorcenter.org/event/phoenix-mountains-preservation-council-inc-board-of-directors-meeting-2/
LOCATION:North Mountain Visitor Center\, 12950 North 7th Street\, Phoenix\, AZ\, 85022\, United States
CATEGORIES:Meeting
END:VEVENT
BEGIN:VEVENT
DTSTART;TZID=America/Phoenix:20250510T100000
DTEND;TZID=America/Phoenix:20250510T120000
DTSTAMP:20260424T031621
CREATED:20250218T233015Z
LAST-MODIFIED:20250218T233622Z
UID:3031-1746871200-1746878400@northmountainvisitorcenter.org
SUMMARY:Phoenix Old Time Music Society
DESCRIPTION:Please join us for our open Old-Time Jam Sessions at North Mountain Visitor Center (NMVC). Players of all ages and ability come together in the time-honored tradition of gathering and playing music. \n​We encourage acoustical instruments to share in these traditional tunes. Fiddles\, dulcimers\, banjos\, guitars\, harps\, accordions\, mandolins\, dobros\, zithers\, upright bass\, Irish whistles\, flutes\, bodhrans\, rhythm bones\, spoons\, and more. \nAll are welcome  \nWe have been gathering around the Valley sharing tunes and songs for over 20 years. We play a mix of traditional fiddle tunes\, Appalachian Mountain music\, Canadian\, Irish & Scottish tunes (jigs\, polkas\, reels\, waltzes\, hornpipes) and more.
URL:https://northmountainvisitorcenter.org/event/phoenix-old-time-music-society-4/
LOCATION:North Mountain Visitor Center\, 12950 North 7th Street\, Phoenix\, AZ\, 85022\, United States
CATEGORIES:Workshop
END:VEVENT
BEGIN:VEVENT
DTSTART;TZID=America/Phoenix:20250517T090000
DTEND;TZID=America/Phoenix:20250517T110000
DTSTAMP:20260424T031621
CREATED:20250218T231342Z
LAST-MODIFIED:20250429T230034Z
UID:3023-1747472400-1747479600@northmountainvisitorcenter.org
SUMMARY:Coffee House Saturdays with live music – Performance by ANNIE MOSCOW
DESCRIPTION:Saturday\, May 17\, 2025\, 9-11 A.M. \nAnnie Moscow conveys her artistry as a performer\, contemporary poet and modern-day storyteller\, with her fresh perspective and unique themes. With a piano style that ranges from the intimate to explosive\, combined with a unique and powerful voice\, her cinematic songs take your right into the picture. Moscow’s music has range and has been compared to artists as diverse as Carole King\, Billy Joel\, Laura Nyro and Jacques Brel. \n  \nCoffee House Saturdays occurs every third and fourth Saturday of the month at the North Mountain Visitor Center (NMVC) located at 12950 North 7th Street in Phoenix. \nFree hot coffee\, refreshments and live music offered from 9 AM to 11 AM. \nAdmission is always free. \nDonations to Save Our Mountains Foundation (501c3) are always welcome. Any purchases made at our gift shop go toward supporting facility operations and our nonprofit’s mission of protecting the preserve for future generations. \nCall 602-343-5125 with any questions.
URL:https://northmountainvisitorcenter.org/event/coffee-house-saturdays-with-live-music-performance-by-annie-moscow/
LOCATION:North Mountain Visitor Center\, 12950 North 7th Street\, Phoenix\, AZ\, 85022\, United States
CATEGORIES:Coffee House
END:VEVENT
BEGIN:VEVENT
DTSTART;TZID=America/Phoenix:20250517T113000
DTEND;TZID=America/Phoenix:20250517T123000
DTSTAMP:20260424T031621
CREATED:20250218T230029Z
LAST-MODIFIED:20250429T230700Z
UID:3008-1747481400-1747485000@northmountainvisitorcenter.org
SUMMARY:Brown Bag Workshop – “BEAT THE HEAT WITH INDOOR CONTAINER & HYDROPONIC GARDENING” Presented by Master Gardener
DESCRIPTION:“BEAT THE HEAT WITH INDOOR CONTAINER & HYDROPONIC GARDENING”\nPresented by Master Gardener \nSaturday\, May 17\, 2025\, at 11:30 A.M. \nJoin us for fascinating facts\, fun\, and fellowship at The North Mountain Visitor Center\, 12950 N. 7th Street on Saturday\, May 17\, 2025\, at 11:30 A.M. Please bring your lunch and enjoy the presentation. This presentation is free to the public. \nStop by to learn some tips & tricks to beat the summer heat by Gardening Indoors\, in Containers and in Hydroponic Gardens\, by our Master Gardener.  You’re welcome whether you’re a beginner wishing to learn the easiest indoor plants & herbs to grow\, or a veteran gardener looking for some fresh ideas and a new challenge. \nMark your calendars and bring your lunches! You won’t want to miss this! \n  \nMaster Gardeners are active volunteers for the University of Arizona’s Cooperative Extension. We provide outreach and\neducation to communities throughout Maricopa County. Master Gardener volunteers help bring the University’s science based\ninformation on plants\, gardens and landscapes to the public. \nDonations made to Save Our Mountains Foundation are much appreciated. The funds help run the North Mountain Visitor Center.
URL:https://northmountainvisitorcenter.org/event/brown-bag-workshop-beat-the-heat-with-indoor-container-hydroponic-gardening-presented-by-master-gardener/
LOCATION:North Mountain Visitor Center\, 12950 North 7th Street\, Phoenix\, AZ\, 85022\, United States
CATEGORIES:Workshop
END:VEVENT
BEGIN:VEVENT
DTSTART;TZID=America/Phoenix:20250524T090000
DTEND;TZID=America/Phoenix:20250524T110000
DTSTAMP:20260424T031621
CREATED:20250218T231611Z
LAST-MODIFIED:20250429T230428Z
UID:3025-1748077200-1748084400@northmountainvisitorcenter.org
SUMMARY:Coffee House Saturdays with live music – Performance by POOR LAZARUS
DESCRIPTION:Saturday\, May 24\, 2025\, 9-11 A.M. \nPoor Lazarus is a Phoenix-based hard times and gospel group led by Jason Jonker. He is partnered with Odie Piker & Bea Graves; the result is soaring harmonies & inspirational tunes played on a variety of instruments. They have been together for over a decade\, and it shows. Sad songs have never been so much fun! \n  \nCoffee House Saturdays occurs every third and fourth Saturday of the month at the North Mountain Visitor Center (NMVC) located at 12950 North 7th Street in Phoenix. \nFree hot coffee\, refreshments and live music offered from 9 AM to 11 AM. \nAdmission is always free. \nDonations to Save Our Mountains Foundation (501c3) are always welcome. Any purchases made at our gift shop go toward supporting facility operations and our nonprofit’s mission of protecting the preserve for future generations. \nCall 602-343-5125 with any questions.
URL:https://northmountainvisitorcenter.org/event/coffee-house-saturdays-with-live-music-performance-by-poor-lazarus/
LOCATION:North Mountain Visitor Center\, 12950 North 7th Street\, Phoenix\, AZ\, 85022\, United States
CATEGORIES:Coffee House
END:VEVENT
END:VCALENDAR