BEGIN:VCALENDAR
VERSION:2.0
PRODID:-//North Mountain Visitor Center - ECPv6.13.2.1//NONSGML v1.0//EN
CALSCALE:GREGORIAN
METHOD:PUBLISH
X-ORIGINAL-URL:https://northmountainvisitorcenter.org
X-WR-CALDESC:Events for North Mountain Visitor Center
REFRESH-INTERVAL;VALUE=DURATION:PT1H
X-Robots-Tag:noindex
X-PUBLISHED-TTL:PT1H
BEGIN:VTIMEZONE
TZID:America/Phoenix
BEGIN:STANDARD
TZOFFSETFROM:-0700
TZOFFSETTO:-0700
TZNAME:MST
DTSTART:20260101T000000
END:STANDARD
END:VTIMEZONE
BEGIN:VEVENT
DTSTART;TZID=America/Phoenix:20260122T090000
DTEND;TZID=America/Phoenix:20260122T120000
DTSTAMP:20260423T165221
CREATED:20251223T200937Z
LAST-MODIFIED:20251223T200937Z
UID:3607-1769072400-1769083200@northmountainvisitorcenter.org
SUMMARY:NMVC THURSDAY HIKES: Piestewa Circumference Trail 302
DESCRIPTION:Name of Hike: Piestewa Circumference Trail 302  \nLocation: Phoenix Mt. Preserve 2701 Piestewa Peak Drive  \nTrailhead Meet Up Date: 1/22/2026  \nTrailhead Meet Up Time: 9:00 AM  \nLeader(s): Jeremy  \nLeader Contact: (860) 729-8468  \nCarpool? (Y/N) No  \nCarpool Time & Location: on your own  \nHike Distance (estim): 5 to 5.5 miles  \nHike Time (estim): 3 hrs.  \nElevation Chg (approx ft\, optional): ft  \nHike Description: This trail surrounds Piestewa Peak and offers Ups & Downs and plenty of scenery.\nGreat views of downtown and the surrounding peaks and valleys. \nDrive Instructions: Take Glendale Ave. East to Piestewa Peak Drive Turn towards the Mt. Go past the gate and take the 2nd parking lot on the left.
URL:https://northmountainvisitorcenter.org/event/nmvc-thursday-hikes-piestewa-circumference-trail-302/
CATEGORIES:Hiking
END:VEVENT
END:VCALENDAR