BEGIN:VCALENDAR
VERSION:2.0
PRODID:-//North Mountain Visitor Center - ECPv6.13.2.1//NONSGML v1.0//EN
CALSCALE:GREGORIAN
METHOD:PUBLISH
X-WR-CALNAME:North Mountain Visitor Center
X-ORIGINAL-URL:https://northmountainvisitorcenter.org
X-WR-CALDESC:Events for North Mountain Visitor Center
REFRESH-INTERVAL;VALUE=DURATION:PT1H
X-Robots-Tag:noindex
X-PUBLISHED-TTL:PT1H
BEGIN:VTIMEZONE
TZID:America/Phoenix
BEGIN:STANDARD
TZOFFSETFROM:-0700
TZOFFSETTO:-0700
TZNAME:MST
DTSTART:20250101T000000
END:STANDARD
END:VTIMEZONE
BEGIN:VEVENT
DTSTART;TZID=America/Phoenix:20250531T193000
DTEND;TZID=America/Phoenix:20250531T213000
DTSTAMP:20260424T071522
CREATED:20250513T225930Z
LAST-MODIFIED:20250531T211138Z
UID:3217-1748719800-1748727000@northmountainvisitorcenter.org
SUMMARY:AN EVENING OF STARGAZING/ PLANET GAZING - Cancelled
DESCRIPTION:CANCELLED \n \nJoin us at the North Mountain Visitor Center for an evening of Stargazing/Planet Gazing\nJeff Geyer and Jan Weaver will have their telescopes set up in the parking lot for folks to stop by and view stars and planets.\nBring the whole family for a close-up view of the wonders of the sky!\nIf you have a telescope and would like to set yours up as well\, please come and do so.\nSaturday\, May 31st\n7:30- 9:30 P.M.\nThis is a free community event.\nDonations made to SAVE OUR MOUNTAINS FOUNDATION are very much appreciated.\nThese proceeds go toward the operation of the North Mountain Visitor Center.\nIn case of inclement weather or cloudy skies\, the event will be rescheduled!
URL:https://northmountainvisitorcenter.org/event/an-evening-of-stargazing-planet-gazing/
LOCATION:North Mountain Visitor Center\, 12950 North 7th Street\, Phoenix\, AZ\, 85022\, United States
CATEGORIES:Stargazing
END:VEVENT
END:VCALENDAR