BEGIN:VCALENDAR
VERSION:2.0
PRODID:-//North Mountain Visitor Center - ECPv6.13.2.1//NONSGML v1.0//EN
CALSCALE:GREGORIAN
METHOD:PUBLISH
X-ORIGINAL-URL:https://northmountainvisitorcenter.org
X-WR-CALDESC:Events for North Mountain Visitor Center
REFRESH-INTERVAL;VALUE=DURATION:PT1H
X-Robots-Tag:noindex
X-PUBLISHED-TTL:PT1H
BEGIN:VTIMEZONE
TZID:America/Phoenix
BEGIN:STANDARD
TZOFFSETFROM:-0700
TZOFFSETTO:-0700
TZNAME:MST
DTSTART:20250101T000000
END:STANDARD
END:VTIMEZONE
BEGIN:VEVENT
DTSTART;TZID=America/Phoenix:20250417T073000
DTEND;TZID=America/Phoenix:20250417T120000
DTSTAMP:20260424T092843
CREATED:20250401T003254Z
LAST-MODIFIED:20250401T003254Z
UID:3147-1744875000-1744891200@northmountainvisitorcenter.org
SUMMARY:NMVC THURSDAY HIKES: Lynx Creek Ruins
DESCRIPTION:Name of Hike: Lynx Creek Ruins \nWhen: Thursday\,  Apr. 17\, 2025  7:30 AM \nLocation: Lynx Lake\, Prescott \nHike Leader(s) & contact information: Neil & Billie  B-  shakemat4@yahoo.com  602-361-0276 \nMeet Up:  To carpool: NMVC 7:30 AM (Please let Billie know if you wish to carpool) \nor Trail Head at 9:00 \nEstimated Difficulty: easy\, moderate \nEstimated Length in Hours: 3 \nEstimated Distance in Miles: 5 to 6 \nDescription: From the Trail Head we will visit the ruins and then retrace our steps a bit and begin a scenic hike with views of the Bradshaw Mts. and the flowing creek. \nDriving Instructions: I-17 to E  State route 69 to Prescott\, 15 miles to Walker Rd (light) Turn left 1.4 mi. Turn left onto S Lynx Creek Rd .2 mi TH is on the left
URL:https://northmountainvisitorcenter.org/event/nmvc-thursday-hikes-lynx-creek-ruins/
LOCATION:North Mountain Visitor Center\, 12950 North 7th Street\, Phoenix\, AZ\, 85022\, United States
CATEGORIES:Hiking
END:VEVENT
END:VCALENDAR