BEGIN:VCALENDAR
VERSION:2.0
PRODID:-//North Mountain Visitor Center - ECPv6.13.2.1//NONSGML v1.0//EN
CALSCALE:GREGORIAN
METHOD:PUBLISH
X-ORIGINAL-URL:https://northmountainvisitorcenter.org
X-WR-CALDESC:Events for North Mountain Visitor Center
REFRESH-INTERVAL;VALUE=DURATION:PT1H
X-Robots-Tag:noindex
X-PUBLISHED-TTL:PT1H
BEGIN:VTIMEZONE
TZID:America/Phoenix
BEGIN:STANDARD
TZOFFSETFROM:-0700
TZOFFSETTO:-0700
TZNAME:MST
DTSTART:20230101T000000
END:STANDARD
END:VTIMEZONE
BEGIN:VEVENT
DTSTART;TZID=America/Phoenix:20230513T103000
DTEND;TZID=America/Phoenix:20230513T113000
DTSTAMP:20260425T201146
CREATED:20230211T223126Z
LAST-MODIFIED:20230418T190506Z
UID:2449-1683973800-1683977400@northmountainvisitorcenter.org
SUMMARY:Rattlesnake Garage 5/13
DESCRIPTION:Free Event; Donations to SOMF are greatly appreciated.\nCome into the NMV Center to learn about snake behavior and how to deal with the inevitable interactions when hiking the trails. Rattlesnake Garage will show you what EMS professionals have been learning from them for the past 2 years about snake interactions.\nThere will be a live arena for an interactive presentation. Desert conservation\, snake recognition\, snake encounters\, first aid do’s and don’ts\, snake myths and free flowing questions will be allowed. \nSnakes of NOMO Rattlesnake Garage >>
URL:https://northmountainvisitorcenter.org/event/rattlesnake-garage-5-13/
LOCATION:North Mountain Visitor Center\, 12950 North 7th Street\, Phoenix\, AZ\, 85022\, United States
CATEGORIES:Workshop
ATTACH;FMTTYPE=image/jpeg:https://northmountainvisitorcenter.org/wp-content/uploads/2015/04/636246709589716824-rattlesnake.jpg
END:VEVENT
END:VCALENDAR