BEGIN:VCALENDAR
VERSION:2.0
PRODID:-//North Mountain Visitor Center - ECPv6.13.2.1//NONSGML v1.0//EN
CALSCALE:GREGORIAN
METHOD:PUBLISH
X-WR-CALNAME:North Mountain Visitor Center
X-ORIGINAL-URL:https://northmountainvisitorcenter.org
X-WR-CALDESC:Events for North Mountain Visitor Center
REFRESH-INTERVAL;VALUE=DURATION:PT1H
X-Robots-Tag:noindex
X-PUBLISHED-TTL:PT1H
BEGIN:VTIMEZONE
TZID:America/Phoenix
BEGIN:STANDARD
TZOFFSETFROM:-0700
TZOFFSETTO:-0700
TZNAME:MST
DTSTART:20250101T000000
END:STANDARD
END:VTIMEZONE
BEGIN:VEVENT
DTSTART;TZID=America/Phoenix:20250605T070000
DTEND;TZID=America/Phoenix:20250605T100000
DTSTAMP:20260424T091458
CREATED:20250527T221537Z
LAST-MODIFIED:20250527T221537Z
UID:3286-1749106800-1749117600@northmountainvisitorcenter.org
SUMMARY:NMVC THURSDAY HIKES: Sedona Huckaby Trail
DESCRIPTION:When: Thursday 6/5/25 7:00 AM \nLocation: Sedona \nName of Hike: Huckaby Trail \nHike Leader(s): Billie & Neil   If planning to carpool\, please text or email Billie 602-361-0276 shakemat4@yahoo.com \nApproximate Length in Hours: 3 (more if there is water) \nApproximate Distance in Miles: 5 to 6 \nComments: The group hasn’t done this trail for a few years\, but it is a nice hike which starts out in the open but soon becomes switchbacks in and out of a wash. Then a partly shaded descent to the water of Oak Creek. The Midgley Bridge is viewed from here. \nRated moderate and kind’a hilly. \nDirections: I read that the parking and the beginning of the trail has been changed since we were there\, but these directions still work.  Be sure you go to the Trailhead off Schnebly Hill Rd. and NOT THE MIDGLEY BRIDGE TH. \nDRIVING: I-17 to the Sedona exit. Head into town thru the many roundabouts to Schnebly Hill Rd. Take S. H. Rd .9 mi. turn left to Trailhead \nA Red Rock Pass or America the Beautiful pass is required so if carpooling\, make sure one rider has a pass. \nRestroom at TH. \nCARPOOLING: \nMeet at NMVC at 5:30 or arrange to meet others at your convenience. Or meet at TH at 7:00.  If meeting here\, let me know.
URL:https://northmountainvisitorcenter.org/event/nmvc-thursday-hikes-sedona-huckaby-trail/
CATEGORIES:Hiking
END:VEVENT
END:VCALENDAR