BEGIN:VCALENDAR
VERSION:2.0
PRODID:-//North Mountain Visitor Center - ECPv6.13.2.1//NONSGML v1.0//EN
CALSCALE:GREGORIAN
METHOD:PUBLISH
X-ORIGINAL-URL:https://northmountainvisitorcenter.org
X-WR-CALDESC:Events for North Mountain Visitor Center
REFRESH-INTERVAL;VALUE=DURATION:PT1H
X-Robots-Tag:noindex
X-PUBLISHED-TTL:PT1H
BEGIN:VTIMEZONE
TZID:America/Phoenix
BEGIN:STANDARD
TZOFFSETFROM:-0700
TZOFFSETTO:-0700
TZNAME:MST
DTSTART:20240101T000000
END:STANDARD
END:VTIMEZONE
BEGIN:VEVENT
DTSTART;TZID=America/Phoenix:20240502T100000
DTEND;TZID=America/Phoenix:20240502T113000
DTSTAMP:20260425T055205
CREATED:20240329T185303Z
LAST-MODIFIED:20240329T191630Z
UID:2710-1714644000-1714649400@northmountainvisitorcenter.org
SUMMARY:Toddlers\, Trails\, & Tales
DESCRIPTION:Brand new pilot program. Free nature walk and storytime event for parents and their children 0-4 years old. Fun educational walk through the garden behind North Mountain Visitor Center. Activities include a wildflower scavenger hunt\, sensory activities\, hiking gear and hiking with children tips presentation with television\, social media\, and entrepreneur Kristen Keogh\, and a desert-themed storytime book. Free snacks and juice will be provided. Please register by contacting Maria Hechanova maria@saveourmountains.org and/or call with any questions at her direct line: 602-335-1962.
URL:https://northmountainvisitorcenter.org/event/toddlers-trails-tales/
LOCATION:North Mountain Visitor Center\, 12950 North 7th Street\, Phoenix\, AZ\, 85022\, United States
END:VEVENT
END:VCALENDAR