BEGIN:VCALENDAR
VERSION:2.0
PRODID:-//North Mountain Visitor Center - ECPv6.13.2.1//NONSGML v1.0//EN
CALSCALE:GREGORIAN
METHOD:PUBLISH
X-WR-CALNAME:North Mountain Visitor Center
X-ORIGINAL-URL:https://northmountainvisitorcenter.org
X-WR-CALDESC:Events for North Mountain Visitor Center
REFRESH-INTERVAL;VALUE=DURATION:PT1H
X-Robots-Tag:noindex
X-PUBLISHED-TTL:PT1H
BEGIN:VTIMEZONE
TZID:America/Phoenix
BEGIN:STANDARD
TZOFFSETFROM:-0700
TZOFFSETTO:-0700
TZNAME:MST
DTSTART:20260101T000000
END:STANDARD
END:VTIMEZONE
BEGIN:VEVENT
DTSTART;TZID=America/Phoenix:20260226T083000
DTEND;TZID=America/Phoenix:20260226T123000
DTSTAMP:20260423T164809
CREATED:20260127T230036Z
LAST-MODIFIED:20260210T200946Z
UID:3657-1772094600-1772109000@northmountainvisitorcenter.org
SUMMARY:NMVC THURSDAY HIKES: Trail 100 Christensen Trail through hike
DESCRIPTION:Name of Hike: Trail 100 Christensen Trail through hike   \nLocation: North Mt. Preserve  \nTrailhead Meet Up Date: 2/26/2026  \nTrailhead Meet Up Time: 8:30 AM  \nLeader(s): Billie & Neil  \nLeader Contact: Billie   shakemat4@yahoo.com or text 602-361-0276  \nCarpool? (Y/N) Yes  \nCarpool Time & Location:  40th Street TH. We will leave some cars here and ride share over to NMVC to begin hiking at 9:00 \nHike Distance (estim): 9 to 9.5  with an option of 11.5 miles \nHike Time (estim): 3 to 4 hrs with lunch break \nHike Description: This is a through hike to experience the entire Christensen Trail. Contact Billie if you are interested in starting at Mountain View Park (the actual trail head) which will add 2-ish miles.\nBring a lunch and plenty of water. We will break at Dreamy Draw at about the 5 mile point.  \nDrive Instructions: Take Shea to 40th Street. Go South on 40th to the TH.  Restroom available.
URL:https://northmountainvisitorcenter.org/event/nmvc-thursday-hikes-trail-100-christensen-trail-through-hike/
LOCATION:North Mountain Visitor Center\, 12950 North 7th Street\, Phoenix\, AZ\, 85022\, United States
CATEGORIES:Hiking
END:VEVENT
END:VCALENDAR